BEGIN:VCALENDAR
VERSION:2.0
PRODID:-//Dortmund Kreativ - ECPv6.15.18//NONSGML v1.0//EN
CALSCALE:GREGORIAN
METHOD:PUBLISH
X-WR-CALNAME:Dortmund Kreativ
X-ORIGINAL-URL:https://dortmund-kreativ.de
X-WR-CALDESC:Veranstaltungen für Dortmund Kreativ
REFRESH-INTERVAL;VALUE=DURATION:PT1H
X-Robots-Tag:noindex
X-PUBLISHED-TTL:PT1H
BEGIN:VTIMEZONE
TZID:Europe/Berlin
BEGIN:DAYLIGHT
TZOFFSETFROM:+0100
TZOFFSETTO:+0200
TZNAME:CEST
DTSTART:20220327T010000
END:DAYLIGHT
BEGIN:STANDARD
TZOFFSETFROM:+0200
TZOFFSETTO:+0100
TZNAME:CET
DTSTART:20221030T010000
END:STANDARD
BEGIN:DAYLIGHT
TZOFFSETFROM:+0100
TZOFFSETTO:+0200
TZNAME:CEST
DTSTART:20230326T010000
END:DAYLIGHT
BEGIN:STANDARD
TZOFFSETFROM:+0200
TZOFFSETTO:+0100
TZNAME:CET
DTSTART:20231029T010000
END:STANDARD
BEGIN:DAYLIGHT
TZOFFSETFROM:+0100
TZOFFSETTO:+0200
TZNAME:CEST
DTSTART:20240331T010000
END:DAYLIGHT
BEGIN:STANDARD
TZOFFSETFROM:+0200
TZOFFSETTO:+0100
TZNAME:CET
DTSTART:20241027T010000
END:STANDARD
END:VTIMEZONE
BEGIN:VEVENT
DTSTART;TZID=Europe/Berlin:20230908T190000
DTEND;TZID=Europe/Berlin:20230908T210000
DTSTAMP:20260424T050541
CREATED:20230817T090025Z
LAST-MODIFIED:20230817T090132Z
UID:9360-1694199600-1694206800@dortmund-kreativ.de
SUMMARY:HMKV: Eröffnung „Was ist Kunst\, IRWIN?“
DESCRIPTION:Die Eröffnung der neuen Ausstellung Was ist Kunst\, IRWIN? findet am Freitag\, 08. September 2023\, von 19:00 bis 21:00 Uhr statt. Einlass um 18:30 Uhr. Das Künstlerkollektiv IRWIN (Dušan Mandič\, Miran Mohar\, Andrej Savski und Borut Vogelnik) ist anwesend. \nEs sprechen unter anderem Mathias Wittmann (kaufmännischer Geschäftsführer HMKV)\, Dr. Inke Arns (Direktorin HMKV und Kuratorin der Ausstellung) und Thibaut de Ruyter (Kurator der Ausstellung). \nHMKV im Dortmunder U | Ebene 3 \nWeitere Infos \nCredit: IRWIN in New York\, 1991\, Foto: Leslie Fratkin | Design: e o t . Berlin
URL:https://dortmund-kreativ.de/event/hmkv-eroeffnung-was-ist-kunst-irwin/
LOCATION:Dortmunder U\, Leonie-Reygers-Terrasse\, Dortmund\, 44137
CATEGORIES:Ausstellung,Bildende Kunst,Kreativquartiere,Kreativwirtschaft,Medien
END:VEVENT
END:VCALENDAR