BEGIN:VCALENDAR
VERSION:2.0
PRODID:-//Dortmund Kreativ - ECPv6.15.18//NONSGML v1.0//EN
CALSCALE:GREGORIAN
METHOD:PUBLISH
X-WR-CALNAME:Dortmund Kreativ
X-ORIGINAL-URL:https://dortmund-kreativ.de
X-WR-CALDESC:Veranstaltungen für Dortmund Kreativ
REFRESH-INTERVAL;VALUE=DURATION:PT1H
X-Robots-Tag:noindex
X-PUBLISHED-TTL:PT1H
BEGIN:VTIMEZONE
TZID:Europe/Berlin
BEGIN:DAYLIGHT
TZOFFSETFROM:+0100
TZOFFSETTO:+0200
TZNAME:CEST
DTSTART:20240331T010000
END:DAYLIGHT
BEGIN:STANDARD
TZOFFSETFROM:+0200
TZOFFSETTO:+0100
TZNAME:CET
DTSTART:20241027T010000
END:STANDARD
BEGIN:DAYLIGHT
TZOFFSETFROM:+0100
TZOFFSETTO:+0200
TZNAME:CEST
DTSTART:20250330T010000
END:DAYLIGHT
BEGIN:STANDARD
TZOFFSETFROM:+0200
TZOFFSETTO:+0100
TZNAME:CET
DTSTART:20251026T010000
END:STANDARD
BEGIN:DAYLIGHT
TZOFFSETFROM:+0100
TZOFFSETTO:+0200
TZNAME:CEST
DTSTART:20260329T010000
END:DAYLIGHT
BEGIN:STANDARD
TZOFFSETFROM:+0200
TZOFFSETTO:+0100
TZNAME:CET
DTSTART:20261025T010000
END:STANDARD
END:VTIMEZONE
BEGIN:VEVENT
DTSTART;TZID=Europe/Berlin:20250620T170000
DTEND;TZID=Europe/Berlin:20250620T190000
DTSTAMP:20260422T075656
CREATED:20250530T082145Z
LAST-MODIFIED:20250530T082145Z
UID:14645-1750438800-1750446000@dortmund-kreativ.de
SUMMARY:House Dance Workshop Winett Ardouin
DESCRIPTION:House – mehr als nur eine Tanzrichtung\, aus der Clubszene der 70er/80er Jahre in Chicago und New York hat House Dance seinen Weg in die HipHop Kultur gefunden und ist bis heute präsent in der internationalen Tanzszene. Elektronische Beats\, mit Soul\, Funk\, Jazz\, Afro- und Latin Einflüssen\, die sich in den Tanzschritten widerspiegeln\, während der schnelle Takt zur Bewegung antreibt. \nIn diesem Workshop werden vordergründig Grundschritte und die Verbindung mit der Musik vermittelt sowie einen Einblick in die Kultur der House-Tanzszene gegeben. Im Vordergrund des Kurses steht der Spaß und die Freude. Der Kurs ist für Anfänger*innen aber auch für Menschen mit Vorerfahrung geeignet. \nWinett ist seit 2008 ein aktives Mitglied der HipHop Freestyle-Szene. 2017 vertiefte sie ihre Leidenschaft für House Dance in der pulsierenden New Yorker Clubszene. Durch ihre Arbeit als Tanzlehrerin möchte sie andere dazu inspirieren\, sich sowohl mit sich selbst als auch mit der Musik zu verbinden und ihnen so einen Moment zu bieten\, in dem sie loslassen können. \nANMELDUNG: \nTeilnahme ist per Voranmeldung via b.goetz-tanz@t-online.de möglich. \nVERANSTALTUNGSORT: \nMUSIKBOX\nReinoldistraße 2-4 (Platz von Leeds)\n44135 Dortmund
URL:https://dortmund-kreativ.de/event/house-dance-workshop-winett-ardouin/
CATEGORIES:DORTMUND KREATIV,DORTMUND URBAN,Festival,Kreativwirtschaft,Netzwerk,Tanz,Urbanität
ORGANIZER;CN="DORTMUND KREATIV":MAILTO:hallo@dortmund-kreativ.de
END:VEVENT
END:VCALENDAR