BEGIN:VCALENDAR
VERSION:2.0
PRODID:-//Dortmund Kreativ - ECPv6.15.18//NONSGML v1.0//EN
CALSCALE:GREGORIAN
METHOD:PUBLISH
X-WR-CALNAME:Dortmund Kreativ
X-ORIGINAL-URL:https://dortmund-kreativ.de
X-WR-CALDESC:Veranstaltungen für Dortmund Kreativ
REFRESH-INTERVAL;VALUE=DURATION:PT1H
X-Robots-Tag:noindex
X-PUBLISHED-TTL:PT1H
BEGIN:VTIMEZONE
TZID:Europe/Berlin
BEGIN:DAYLIGHT
TZOFFSETFROM:+0100
TZOFFSETTO:+0200
TZNAME:CEST
DTSTART:20220327T010000
END:DAYLIGHT
BEGIN:STANDARD
TZOFFSETFROM:+0200
TZOFFSETTO:+0100
TZNAME:CET
DTSTART:20221030T010000
END:STANDARD
BEGIN:DAYLIGHT
TZOFFSETFROM:+0100
TZOFFSETTO:+0200
TZNAME:CEST
DTSTART:20230326T010000
END:DAYLIGHT
BEGIN:STANDARD
TZOFFSETFROM:+0200
TZOFFSETTO:+0100
TZNAME:CET
DTSTART:20231029T010000
END:STANDARD
BEGIN:DAYLIGHT
TZOFFSETFROM:+0100
TZOFFSETTO:+0200
TZNAME:CEST
DTSTART:20240331T010000
END:DAYLIGHT
BEGIN:STANDARD
TZOFFSETFROM:+0200
TZOFFSETTO:+0100
TZNAME:CET
DTSTART:20241027T010000
END:STANDARD
END:VTIMEZONE
BEGIN:VEVENT
DTSTART;TZID=Europe/Berlin:20230112T180000
DTEND;TZID=Europe/Berlin:20230112T203000
DTSTAMP:20260422T165347
CREATED:20230110T091824Z
LAST-MODIFIED:20230110T091918Z
UID:7473-1673546400-1673555400@dortmund-kreativ.de
SUMMARY:IGA 2027 - Infoveranstaltung (Livestream)
DESCRIPTION:  \nMit einem „Zukunftsgarten“ wird Dortmund zu einem der drei Hauptstandorte der Internationalen Gartenausstellung Metropole Ruhr (IGA) 2027. Die IGA versteht sich dabei nicht nur als Leistungsschau des Garten- und Landschaftsbaus\, sondern als Entwicklungsmaßnahme\, die viel anstoßen soll. \nWie die Planungen für den Zukunftsgarten konkret voranschreiten\, was die IGA der gesamten Stadt bringen soll und wie die nächsten Schritte aussehen – all diese Themen werden in einer öffentlichen Informationsveranstaltung am Donnerstag\, 12. Januar\, aufgegriffen. \nTeilnahme per Live-Stream möglich \nDie Resonanz auf die Infoveranstaltung ist riesig: Schon wenige Tage nach Freischaltung der Online-Anmeldung waren alle Plätze in der Waschkaue der Kokerei Hansa vergeben. Aber das Amt für Stadterneuerung\, das die Veranstaltung organisiert\, hat vorgesorgt: Alle\, die keinen Platz mehr erhalten haben\, können am 12. Januar ab 18:00 Uhr die Liveübertragung im Internet verfolgen. Zudem gibt es im Nachgang einen Videomitschnitt des Abends. \nDen Zugang zum Livestream am Veranstaltungstag und im Nachgang zum Videomitschnitt stellt das Amt für Stadterneuerung unter dortmund.de/iga bereit. \nDie Veranstaltung wird auch in Gebärdensprache übersetzt. \n\n\nHintergrund: Die IGA 2027 im Ruhrgebiet \nDie Metropole Ruhr wird die Internationale Gartenausstellung ausrichten. Als regionales Großereignis bietet sie 2027 enorme Chancen\, die 53 Kommunen\, die vier Kreise\, die regionale Wirtschaft und Verbände ebenso wie bürgerschaftliches Engagement wieder für einen großen Wurf zu vereinen. \nRund um den traditionellen Kern der Leistungsschauen des Garten- und Landschaftsbaus\, dient sie als Impuls- und Ideengeberin für eine ganze Region. Sie soll vor allem erreichen\, dass die hier lebenden Menschen sich stärker mit ihrer Region identifizieren und sich dafür engagieren\, ihre Heimat noch lebenswerter zu gestalten. \nDen Schwerpunkt der IGA 2027 bilden fünf sogenannte Zukunftsgärten: Die Stadt Dortmund wird neben den Städten Gelsenkirchen und Duisburg einen eintrittspflichtigen Ausstellungsbereich als Zukunftsgarten gestalten. Die renaturierte Emscher bildet dabei das Rückgrat eines grünen und ökologischen\, innovativen Wohn-\, Gewerbe- und Freizeitbandes\, das unter dem Titel „Emscher nordwärts“ Tradition mit Moderne und bergbauindustrielle Geschichte mit zukunftsweisenden neuen Lebensräumen verbindet. Zwei weitere nicht eintrittspflichtige Zukunftsgärten werden in Bergkamen / Lünen und im Kreis Recklinghausen entstehen. \n\n\n\nWeitere Informationen finden Sie auf den Seiten des Amts für Stadterneuerung und auf dem offiziellen Internetauftritt der IGA 2027. \n\nhttps://www.iga2027.ruhr/\nAmt für Stadterneuerung
URL:https://dortmund-kreativ.de/event/iga-2027-infoveranstaltung-livestream/
LOCATION:Digital
CATEGORIES:Architektur,Ausstellung,Urbanität,Zukunft
END:VEVENT
END:VCALENDAR