BEGIN:VCALENDAR
VERSION:2.0
PRODID:-//Dortmund Kreativ - ECPv6.15.18//NONSGML v1.0//EN
CALSCALE:GREGORIAN
METHOD:PUBLISH
X-WR-CALNAME:Dortmund Kreativ
X-ORIGINAL-URL:https://dortmund-kreativ.de
X-WR-CALDESC:Veranstaltungen für Dortmund Kreativ
REFRESH-INTERVAL;VALUE=DURATION:PT1H
X-Robots-Tag:noindex
X-PUBLISHED-TTL:PT1H
BEGIN:VTIMEZONE
TZID:Europe/Berlin
BEGIN:DAYLIGHT
TZOFFSETFROM:+0100
TZOFFSETTO:+0200
TZNAME:CEST
DTSTART:20230326T010000
END:DAYLIGHT
BEGIN:STANDARD
TZOFFSETFROM:+0200
TZOFFSETTO:+0100
TZNAME:CET
DTSTART:20231029T010000
END:STANDARD
BEGIN:DAYLIGHT
TZOFFSETFROM:+0100
TZOFFSETTO:+0200
TZNAME:CEST
DTSTART:20240331T010000
END:DAYLIGHT
BEGIN:STANDARD
TZOFFSETFROM:+0200
TZOFFSETTO:+0100
TZNAME:CET
DTSTART:20241027T010000
END:STANDARD
BEGIN:DAYLIGHT
TZOFFSETFROM:+0100
TZOFFSETTO:+0200
TZNAME:CEST
DTSTART:20250330T010000
END:DAYLIGHT
BEGIN:STANDARD
TZOFFSETFROM:+0200
TZOFFSETTO:+0100
TZNAME:CET
DTSTART:20251026T010000
END:STANDARD
END:VTIMEZONE
BEGIN:VEVENT
DTSTART;TZID=Europe/Berlin:20240914T140000
DTEND;TZID=Europe/Berlin:20240914T170000
DTSTAMP:20260423T053411
CREATED:20240827T093310Z
LAST-MODIFIED:20240827T093310Z
UID:10000564-1726322400-1726333200@dortmund-kreativ.de
SUMMARY:Innovative Citizen 2024 zu Gast im Kleingartenverein & Festival
DESCRIPTION:make — fab — grow — repair — cycle \nSeit 2016 gibt es in Dortmund die Innovative Citizen-Bewegung.\nEine Initiative an der Schnittstelle zwischen Wissenschaft und Gesellschaft vom Fraunhofer-Institut UMSICHT. Ziel der Initiative ist es\, einen aufgeschlossenen und gleichzeitig kritischen Umgang mit Technik und Wissenschaft in breiten Teilen der Gesellschaft zu initiieren. Neue Techniken werden nutzbar gemacht\, alte Techniken wiederentdeckt und die Folgen des Technikeinsatzes überdacht. \nSonnenblick e. V./ Dortmund – 6. und 14. September 2024 \nSelbstversorgung und körperliche Gesundheit\, das waren die Motive\, aus denen seit Anfang des 19. Jahrhunderts zunächst Armengärten und später die Schrebergärten entstanden. Den Gartenverein Sonnenblick gibt es ebenfalls bereits seit 100 Jahren – ein guter Grund sich über die Idee und Zukunft des Kleingärtnerns mal ein paar Gedanken zu machen und vor allem zu feiern. Die Innovative Citizens sind dabei! \nIm Rahmen der 100-Jahrfeier des Gartenvereins Sonnenblick e. V. in Dortmund organisiert Fraunhofer UMSICHT ein kleines Minifestival mit verschiedenen Workshops rund um das Thema Pflanzen und Food. In den Workshops geht es um das gemeinsame Machen\, notwendige Theorie gibt es nebenbei. Vorkenntnisse sind in der Regel nicht erforderlich. \nHerzliche Einladung und eine schöne gemeinsame Zeit im Kleingarten! \nWeitere Infos zum Programm und zur Anmeldung bekommt ihr HIER
URL:https://dortmund-kreativ.de/event/innovative-citizen-2024-zu-gast-im-kleingartenverein-festival/2024-09-14/
LOCATION:Gartenverein Sonnenblick\, Bolmker Weg 69\, Dortmund\, 44139\, Deutschland
CATEGORIES:Kreativwirtschaft,Zukunft
ATTACH;FMTTYPE=image/jpeg:https://dortmund-kreativ.de/wp-content/uploads/2024/08/Innovative-Citizen-2024.jpg
END:VEVENT
END:VCALENDAR