BEGIN:VCALENDAR
VERSION:2.0
PRODID:-//Dortmund Kreativ - ECPv6.15.18//NONSGML v1.0//EN
CALSCALE:GREGORIAN
METHOD:PUBLISH
X-WR-CALNAME:Dortmund Kreativ
X-ORIGINAL-URL:https://dortmund-kreativ.de
X-WR-CALDESC:Veranstaltungen für Dortmund Kreativ
REFRESH-INTERVAL;VALUE=DURATION:PT1H
X-Robots-Tag:noindex
X-PUBLISHED-TTL:PT1H
BEGIN:VTIMEZONE
TZID:Europe/Berlin
BEGIN:DAYLIGHT
TZOFFSETFROM:+0100
TZOFFSETTO:+0200
TZNAME:CEST
DTSTART:20200329T010000
END:DAYLIGHT
BEGIN:STANDARD
TZOFFSETFROM:+0200
TZOFFSETTO:+0100
TZNAME:CET
DTSTART:20201025T010000
END:STANDARD
BEGIN:DAYLIGHT
TZOFFSETFROM:+0100
TZOFFSETTO:+0200
TZNAME:CEST
DTSTART:20210328T010000
END:DAYLIGHT
BEGIN:STANDARD
TZOFFSETFROM:+0200
TZOFFSETTO:+0100
TZNAME:CET
DTSTART:20211031T010000
END:STANDARD
BEGIN:DAYLIGHT
TZOFFSETFROM:+0100
TZOFFSETTO:+0200
TZNAME:CEST
DTSTART:20220327T010000
END:DAYLIGHT
BEGIN:STANDARD
TZOFFSETFROM:+0200
TZOFFSETTO:+0100
TZNAME:CET
DTSTART:20221030T010000
END:STANDARD
END:VTIMEZONE
BEGIN:VEVENT
DTSTART;TZID=Europe/Berlin:20210222T140000
DTEND;TZID=Europe/Berlin:20210222T170000
DTSTAMP:20260422T210807
CREATED:20210218T112721Z
LAST-MODIFIED:20210218T112721Z
UID:3036-1614002400-1614013200@dortmund-kreativ.de
SUMMARY:Keep on: Resilienz und Durchhaltevermögen
DESCRIPTION:Ein Empowerment-Workshop von Elisa Müller (Institut für Widerstand und Postfordismus) \nWer kennt sie nicht\, die Krise? Und in Zeiten von C wie Corona erst recht! Aber mal im Ernst: Als freischaffende*r Künstler*in erleben wir das nur allzu oft – eine Förderung hat mal wieder nicht geklappt\, eine Kooperation kommt nicht zustande und unsere Pläne gehen über Bord. Aber nicht nur unsere künstlerischen Ideen stehen damit plötzlich vor dem Aus\, auch die existenzielle Not macht sich in solchen Zeiten schnell breit. Was tun? Ist Krise immer eine Chance? Oder fühlt sich diese Devise für prekär lebende Künstler*innen nicht eher wie blanker Hohn an? Kann man Resilienz erproben? Wie können wir lernen\, mit dauerhaften und ständig wiederkehrenden Krisen umzugehen? \nElisa Müller vermittelt in diesem Workshop Strategien\, die helfen können\, wiederkehrenden Krisen mit einem größeren Puffer begegnen zu können. Anhand von Beispielen werden Umgänge mit krisenartigen Phasen und frustrierenden Ereignissen besprochen und erprobt\, und können dabei immer auf die eigene Situation der Teilnehmenden angewandt werden. Dabei geht es u.a. darum\, sich den eigenen Handlungsspielraum trotz schlechter Nachrichten oder andauernden Unsicherheiten im Zusammenhang mit der eigenen beruflichen Praxis zu bewahren oder zurückzuholen. Am Ende des Workshops gibt es Raum für Austausch und Vernetzung.
URL:https://dortmund-kreativ.de/event/keep-on-resilienz-und-durchhaltevermoegen/
LOCATION:Digital
CATEGORIES:Darstellende Kunst,Kreativwirtschaft,Netzwerk,Qualifizierung
END:VEVENT
END:VCALENDAR