BEGIN:VCALENDAR
VERSION:2.0
PRODID:-//Dortmund Kreativ - ECPv6.15.18//NONSGML v1.0//EN
CALSCALE:GREGORIAN
METHOD:PUBLISH
X-WR-CALNAME:Dortmund Kreativ
X-ORIGINAL-URL:https://dortmund-kreativ.de
X-WR-CALDESC:Veranstaltungen für Dortmund Kreativ
REFRESH-INTERVAL;VALUE=DURATION:PT1H
X-Robots-Tag:noindex
X-PUBLISHED-TTL:PT1H
BEGIN:VTIMEZONE
TZID:Europe/Berlin
BEGIN:DAYLIGHT
TZOFFSETFROM:+0100
TZOFFSETTO:+0200
TZNAME:CEST
DTSTART:20230326T010000
END:DAYLIGHT
BEGIN:STANDARD
TZOFFSETFROM:+0200
TZOFFSETTO:+0100
TZNAME:CET
DTSTART:20231029T010000
END:STANDARD
BEGIN:DAYLIGHT
TZOFFSETFROM:+0100
TZOFFSETTO:+0200
TZNAME:CEST
DTSTART:20240331T010000
END:DAYLIGHT
BEGIN:STANDARD
TZOFFSETFROM:+0200
TZOFFSETTO:+0100
TZNAME:CET
DTSTART:20241027T010000
END:STANDARD
BEGIN:DAYLIGHT
TZOFFSETFROM:+0100
TZOFFSETTO:+0200
TZNAME:CEST
DTSTART:20250330T010000
END:DAYLIGHT
BEGIN:STANDARD
TZOFFSETFROM:+0200
TZOFFSETTO:+0100
TZNAME:CET
DTSTART:20251026T010000
END:STANDARD
END:VTIMEZONE
BEGIN:VEVENT
DTSTART;TZID=Europe/Berlin:20240419T190000
DTEND;TZID=Europe/Berlin:20240419T220000
DTSTAMP:20260423T174110
CREATED:20240418T104842Z
LAST-MODIFIED:20240418T104842Z
UID:11462-1713553200-1713564000@dortmund-kreativ.de
SUMMARY:Konzert »D-JAZZ alles auf Deutsch«
DESCRIPTION:Sofakonzert im Musik Center Dortmund \nFreitag\, 19.04.2024\nEinlass 19:00 Uhr\nBeginn 19:30 Uhr \nFrank Scheele – Stimme\nEric Richards – Piano \nDer Ort des Geschehens:\nMusik Center Dortmund GmbH\nMartener Hellweg 40\n44379 Dortmund \nWeiterer Act des Abends:\nDas Jost Ziegner Trio – drei sehr unterschiedliche Charaktere = nur positive\, vitale Energie im Raum! \nUnd worum geht´s genau bei unserem Konzert »D-Jazz«?\nIn neuem Sprachgewand: Mit dem Pianisten Eric Richards zeigt Frank Scheele all die Swing- & Jazz-Klassiker\, die wir so lieben\, in neuem sprachlichen Gewand: Da wird aus „Close to you“ „Nah bei dir“\, „Moon River“ klingt dann „Mondlichter“ und „Have you met Miss Jones“ heißt dann auf einmal „Stell dir vor\, Frau Jones!“ … \nAll das ziemlich charmant rübergebracht und mit linguistischer Leichtigkeit dargeboten – viel Vergnügen bei der „musikalischen Sprachreise“ … Und tatsächlich: Es wird kein einziges englisches Wort über Frank Scheeles Lippen kommen. Ob das gelingt? \nWeitere Infos
URL:https://dortmund-kreativ.de/event/konzert-d-jazz-alles-auf-deutsch/
CATEGORIES:Konzert,Kreativwirtschaft,Musikwirtschaft,Nachtkultur,Netzwerk
END:VEVENT
END:VCALENDAR