BEGIN:VCALENDAR
VERSION:2.0
PRODID:-//Dortmund Kreativ - ECPv6.15.18//NONSGML v1.0//EN
CALSCALE:GREGORIAN
METHOD:PUBLISH
X-WR-CALNAME:Dortmund Kreativ
X-ORIGINAL-URL:https://dortmund-kreativ.de
X-WR-CALDESC:Veranstaltungen für Dortmund Kreativ
REFRESH-INTERVAL;VALUE=DURATION:PT1H
X-Robots-Tag:noindex
X-PUBLISHED-TTL:PT1H
BEGIN:VTIMEZONE
TZID:Europe/Berlin
BEGIN:DAYLIGHT
TZOFFSETFROM:+0100
TZOFFSETTO:+0200
TZNAME:CEST
DTSTART:20240331T010000
END:DAYLIGHT
BEGIN:STANDARD
TZOFFSETFROM:+0200
TZOFFSETTO:+0100
TZNAME:CET
DTSTART:20241027T010000
END:STANDARD
BEGIN:DAYLIGHT
TZOFFSETFROM:+0100
TZOFFSETTO:+0200
TZNAME:CEST
DTSTART:20250330T010000
END:DAYLIGHT
BEGIN:STANDARD
TZOFFSETFROM:+0200
TZOFFSETTO:+0100
TZNAME:CET
DTSTART:20251026T010000
END:STANDARD
BEGIN:DAYLIGHT
TZOFFSETFROM:+0100
TZOFFSETTO:+0200
TZNAME:CEST
DTSTART:20260329T010000
END:DAYLIGHT
BEGIN:STANDARD
TZOFFSETFROM:+0200
TZOFFSETTO:+0100
TZNAME:CET
DTSTART:20261025T010000
END:STANDARD
END:VTIMEZONE
BEGIN:VEVENT
DTSTART;TZID=Europe/Berlin:20250911T183000
DTEND;TZID=Europe/Berlin:20250911T191500
DTSTAMP:20260422T032517
CREATED:20230508T130031Z
LAST-MODIFIED:20250811T083203Z
UID:7486-1757615400-1757618100@dortmund-kreativ.de
SUMMARY:»KONZERTSICHERHEIT« – Joseph Chang
DESCRIPTION:Joseph Chang | Pianist / Klassik \nJoseph Chang (*2007) begeistert mit seinem ausdrucksstarkem Klavierspiel. Gefördert von DORTMUND MUSIK\, vielfach preisgekrönt und solistisch erfolgreich\, macht er Musik zu einem Erlebnis an unserem WECKBACHER-Konzertflügel – einem Erlebnis\, dem wir unbedingt beiwohnen wollen! \nVeranstaltungs-Ort:\nKonzertraum im WECKBACHER Sicherheitszentrum.NRW\nHannöversche Straße 76\n44143 Dortmund \nDer Eintritt ist frei! \nUm Anmeldung wird gebeten unter veranstaltung@weckbacher.com \nEinlass ab 18 Uhr. \nWeitere Infos
URL:https://dortmund-kreativ.de/event/konzertsicherheit-collective-one/
LOCATION:Konzertraum im WECKBACHER Sicherheitszentrum.NRW\, Hannöversche Straße 76\, Dortmund\, 44143
CATEGORIES:Konzert,Musikwirtschaft
END:VEVENT
END:VCALENDAR