BEGIN:VCALENDAR
VERSION:2.0
PRODID:-//Dortmund Kreativ - ECPv6.15.18//NONSGML v1.0//EN
CALSCALE:GREGORIAN
METHOD:PUBLISH
X-WR-CALNAME:Dortmund Kreativ
X-ORIGINAL-URL:https://dortmund-kreativ.de
X-WR-CALDESC:Veranstaltungen für Dortmund Kreativ
REFRESH-INTERVAL;VALUE=DURATION:PT1H
X-Robots-Tag:noindex
X-PUBLISHED-TTL:PT1H
BEGIN:VTIMEZONE
TZID:Europe/Berlin
BEGIN:DAYLIGHT
TZOFFSETFROM:+0100
TZOFFSETTO:+0200
TZNAME:CEST
DTSTART:20240331T010000
END:DAYLIGHT
BEGIN:STANDARD
TZOFFSETFROM:+0200
TZOFFSETTO:+0100
TZNAME:CET
DTSTART:20241027T010000
END:STANDARD
BEGIN:DAYLIGHT
TZOFFSETFROM:+0100
TZOFFSETTO:+0200
TZNAME:CEST
DTSTART:20250330T010000
END:DAYLIGHT
BEGIN:STANDARD
TZOFFSETFROM:+0200
TZOFFSETTO:+0100
TZNAME:CET
DTSTART:20251026T010000
END:STANDARD
BEGIN:DAYLIGHT
TZOFFSETFROM:+0100
TZOFFSETTO:+0200
TZNAME:CEST
DTSTART:20260329T010000
END:DAYLIGHT
BEGIN:STANDARD
TZOFFSETFROM:+0200
TZOFFSETTO:+0100
TZNAME:CET
DTSTART:20261025T010000
END:STANDARD
END:VTIMEZONE
BEGIN:VEVENT
DTSTART;TZID=Europe/Berlin:20250814T183000
DTEND;TZID=Europe/Berlin:20250814T191500
DTSTAMP:20260422T045550
CREATED:20230112T141640Z
LAST-MODIFIED:20250811T082902Z
UID:7483-1755196200-1755198900@dortmund-kreativ.de
SUMMARY:»KONZERTSICHERHEIT« – Collective Four | Soul & Groove
DESCRIPTION:Collective Four | Soul & Grove \n»Collective Four« bildete sich im Zusammenhang mit dem gemeinnützigen Verein gesamtkunstwerk e.V. und steht für Vielfalt in Besetzung und Musik! Die Band um Sängerin Anna Reizbikh besticht durch lupenreine Spielfreude: Von Amy Winehouse bis hin zu eigenen Songs. \nDer Verein gesamtkunstwerk e.V. in Dortmund fördert kulturelle Teilhabe von Menschen mit und ohne Behinderung. Er betreut inklusive Bands und organisiert Musik-\, Theater- und Kunstevents. Alle zwei Jahre richtet er das große Dortmunder inklusive Soundfestival (DiS) aus. \nVeranstaltungs-Ort:\nKonzertraum im WECKBACHER Sicherheitszentrum.NRW\nHannöversche Straße 76\n44143 Dortmund \nDer Eintritt ist frei! \nUm Anmeldung wird gebeten unter veranstaltung@weckbacher.com \nEinlass ab 18:00 Uhr. Um eine Spende nach dem Konzert für einen karitativen Zweck wird gebeten. \nWeitere Infos
URL:https://dortmund-kreativ.de/event/konzertsicherheit-peter-h-koecke/
LOCATION:Konzertraum im WECKBACHER Sicherheitszentrum.NRW\, Hannöversche Straße 76\, Dortmund\, 44143
CATEGORIES:Konzert,Musikwirtschaft
END:VEVENT
END:VCALENDAR