BEGIN:VCALENDAR
VERSION:2.0
PRODID:-//Dortmund Kreativ - ECPv6.15.18//NONSGML v1.0//EN
CALSCALE:GREGORIAN
METHOD:PUBLISH
X-WR-CALNAME:Dortmund Kreativ
X-ORIGINAL-URL:https://dortmund-kreativ.de
X-WR-CALDESC:Veranstaltungen für Dortmund Kreativ
REFRESH-INTERVAL;VALUE=DURATION:PT1H
X-Robots-Tag:noindex
X-PUBLISHED-TTL:PT1H
BEGIN:VTIMEZONE
TZID:Europe/Berlin
BEGIN:DAYLIGHT
TZOFFSETFROM:+0100
TZOFFSETTO:+0200
TZNAME:CEST
DTSTART:20240331T010000
END:DAYLIGHT
BEGIN:STANDARD
TZOFFSETFROM:+0200
TZOFFSETTO:+0100
TZNAME:CET
DTSTART:20241027T010000
END:STANDARD
BEGIN:DAYLIGHT
TZOFFSETFROM:+0100
TZOFFSETTO:+0200
TZNAME:CEST
DTSTART:20250330T010000
END:DAYLIGHT
BEGIN:STANDARD
TZOFFSETFROM:+0200
TZOFFSETTO:+0100
TZNAME:CET
DTSTART:20251026T010000
END:STANDARD
BEGIN:DAYLIGHT
TZOFFSETFROM:+0100
TZOFFSETTO:+0200
TZNAME:CEST
DTSTART:20260329T010000
END:DAYLIGHT
BEGIN:STANDARD
TZOFFSETFROM:+0200
TZOFFSETTO:+0100
TZNAME:CET
DTSTART:20261025T010000
END:STANDARD
END:VTIMEZONE
BEGIN:VEVENT
DTSTART;TZID=Europe/Berlin:20250926T190000
DTEND;TZID=Europe/Berlin:20250926T210000
DTSTAMP:20260422T021214
CREATED:20250915T162649Z
LAST-MODIFIED:20250915T162649Z
UID:15154-1758913200-1758920400@dortmund-kreativ.de
SUMMARY:Künstlerhaus Dortmund: Eröffnung "Among Other Things – Zeichnung als erweiterte Praxis"
DESCRIPTION:27.09. bis 02.11.2025 // Eröffnung am 26.09. um 19 Uhr \nDiese Ausstellung nimmt das Zeichnen als Ausgangspunkt – jedoch nicht im traditionellen\, mediengebundenen Sinn. Among Other Things – Zeichnung als erweiterte Praxisvereint Künstler:innen\, deren Arbeiten herausfordern\, erweitern und neu definieren\, was Zeichnung sein kann. Die ausgewählten Werke reichen von zweidimensionalen Arbeiten bis hin zu skulpturalen und räumlichen Interventionen\, die sich mit anderen Disziplinen wie Installation\, Video\, Performance und Objektkunst überschneiden. \nDie Ausstellung versteht Zeichnen als ein offenes\, konzeptuelles und experimentelles Feld. Sie untersucht\, wie Linie\, Geste\, Spur und Markierung über Papier oder Oberfläche hinausreichen – in den Raum\, in Bewegung und Materialität hinein. Indem sie diese Vielfalt in den Vordergrund stellt\, bietet die Ausstellung eine Plattform für unterschiedliche Lesarten der Zeichnung: als Prozess\, als Notation\, als Struktur\, als Handlung und als Denkwerkzeug. \nDer Titel Among Other Things verweist auf die vielschichtige Natur dieser erweiterten Praxis – Zeichnung als ein Element unter vielen\, das mit anderen Ausdrucksformen koexistiert und interagiert. Die Ausstellung lädt das Publikum dazu ein\, vertraute Grenzen zu hinterfragen und Zeichnung nicht als festgelegte Kategorie\, sondern als dynamische\, sich entwickelnde Sprache über Mediengrenzen hinweg zu begreifen. \nKünstler*innen:\nPedro Aspahan\nArtur Miranda Azzi\nNora Mona Bach\nSarah Casey\nSatomi Edo\nVanessa Enríquez\nPetra Fiebig\nBjørn Hegardt\nWolfgang Lüttgens\nEkkehard Neumann\nSandra Opitz\nPiia Rossi \nKuratorin:\nDebora Ando \n\nAmong Other Things – Zeichnung als erweiterte Praxis\n27. September – 02. November 2025 \nPreview / Kuratorinnenführung:\nFreitag\, den 26. September\, 17:30 Uhr \nEröffnung:\nFreitag\, den 26. September\, 19:00 Uhr\nEinführung durch Willi Otremba \nFinissage:\nSekt-Führung\nSonntag\, den 2. November\, 17:00 Uhr \nKünstlerhaus Dortmund\, Sunderweg 1\, 44147 Dortmund \nWeitere Infos
URL:https://dortmund-kreativ.de/event/kuenstlerhaus-dortmund-eroeffnung-among-other-things-zeichnung-als-erweiterte-praxis/
LOCATION:Künstler*innenhaus Dortmund\, Sunderweg 1\, Dortmund\, NRW\, 44147
CATEGORIES:Ausstellung,Bildende Kunst,Kreativwirtschaft,Kunstmarkt,Netzwerk
END:VEVENT
END:VCALENDAR