BEGIN:VCALENDAR
VERSION:2.0
PRODID:-//Dortmund Kreativ - ECPv6.15.18//NONSGML v1.0//EN
CALSCALE:GREGORIAN
METHOD:PUBLISH
X-WR-CALNAME:Dortmund Kreativ
X-ORIGINAL-URL:https://dortmund-kreativ.de
X-WR-CALDESC:Veranstaltungen für Dortmund Kreativ
REFRESH-INTERVAL;VALUE=DURATION:PT1H
X-Robots-Tag:noindex
X-PUBLISHED-TTL:PT1H
BEGIN:VTIMEZONE
TZID:Europe/Berlin
BEGIN:DAYLIGHT
TZOFFSETFROM:+0100
TZOFFSETTO:+0200
TZNAME:CEST
DTSTART:20190331T010000
END:DAYLIGHT
BEGIN:STANDARD
TZOFFSETFROM:+0200
TZOFFSETTO:+0100
TZNAME:CET
DTSTART:20191027T010000
END:STANDARD
BEGIN:DAYLIGHT
TZOFFSETFROM:+0100
TZOFFSETTO:+0200
TZNAME:CEST
DTSTART:20200329T010000
END:DAYLIGHT
BEGIN:STANDARD
TZOFFSETFROM:+0200
TZOFFSETTO:+0100
TZNAME:CET
DTSTART:20201025T010000
END:STANDARD
BEGIN:DAYLIGHT
TZOFFSETFROM:+0100
TZOFFSETTO:+0200
TZNAME:CEST
DTSTART:20210328T010000
END:DAYLIGHT
BEGIN:STANDARD
TZOFFSETFROM:+0200
TZOFFSETTO:+0100
TZNAME:CET
DTSTART:20211031T010000
END:STANDARD
END:VTIMEZONE
BEGIN:VEVENT
DTSTART;TZID=Europe/Berlin:20201025T150000
DTEND;TZID=Europe/Berlin:20201025T190000
DTSTAMP:20260426T062539
CREATED:20201022T101717Z
LAST-MODIFIED:20201022T102503Z
UID:10000142-1603638000-1603652400@dortmund-kreativ.de
SUMMARY:Künstlerhaus Dortmund: TRAP - Eröffnungswochenende
DESCRIPTION:  \nTRAP\n24. Oktober 2020 – 29. November 2020\nEine Ausstellung von 17. Künstler*innen des Kunstmentorats NRW \nEinladung zum langen Eröffnungswochenende\nSamstag\, 24. Oktober 2020\, von 15 – 17 Uhr und 17 – 19 Uhr\nSonntag\, 25. Oktober 2020\, von 15 – 17 Uhr und 17 – 19 Uhr \nFührungen um 15:30 Uhr und um 17:30 Uhr\nEinige Künstler*innen und Organisator*innen sind anwesend. \nAnmeldung\nUm eine Anmeldung für die gewünschte Führung wird gebeten: besuch@kh-do.de\nSie bekommen zeitnah eine Anmeldebestätigung.\nFür Besucher\, die sich für eine Führung angemeldet und eine Anmeldebestätigung erhalten haben\, entstehen keine Wartezeiten. \nWenn Sie nicht an einer Führung teilnehmen möchten\, jedoch eine mögliche Wartezeit vermeiden möchten\, dann können Sie sich für ein\nZeitfenster anmelden: besuch@kh-do.de\nSamstag\, 24. Oktober 2020\, von 15 – 17 Uhr oder 17 – 19 Uhr\nSonntag\, 25. Oktober 2020\, von 15 – 17 Uhr oder 17 – 19 Uhr \n  \nTRAP\nEine Ausstellung von 17 Künstler*innen des Kunstmentorats NRW \nEigene Arbeiten im Spannungs- und Reaktionsfeld mit dem unbekannten Gegenüber – mit der benachbarten\, noch unbekannten künstlerischen Position. Die beteiligten Künstler*innen werden anhand ihrer künstlerischen Positionen nicht nur in der Ausstellung verortet\, sondern auch einer jeweils fremden künstlerischen Position innerhalb der Ausstellungsgruppe zugeordnet. Während des Ausstellungsaufbaus geht es damit nicht allein um den Aufbau oder die Realisierung der eigenen Arbeit\, sondern auch um die Auseinandersetzung mit der benachbarten\, noch unbekannten künstlerischen Position. Zur Ausstellung erscheint eine Publikation. \nBeteiligte Künstler*innen: Ale Bachlechner\, Maurits Boettger\, Gerd Borkelmann\, Elisabeth Brosterhus\, Stefani Glauber\, Brigitta Heidtmann\, Alwina Heinz\, Lisa Klinger\, Thomas Kuhn\, Jennifer Lubahn\, Tonka Malekovic\, Nadjana Mohr\, Roya Noorinezhad\, Stefanie Pluta\, Klaus Schmitt\, Anna Schütten\, Melanie Windl \nAusstellungskonzept: Jennifer Lubahn\, Nadjana Mohr\, Anna Schütten\nOrganisation: Anett Frontzek \nDie Ausstellung wird unterstützt vom Ministerium für Kultur und Wissenschaft des Landes Nordrhein-Westfalen und dem Landesbüro für bildende Kunst. \nAlle Infos zur Ausstellung TRAP \n 
URL:https://dortmund-kreativ.de/event/kuenstlerhaus-dortmund-trap-eroeffnungswochenende/2020-10-25/
LOCATION:Künstler*innenhaus Dortmund\, Sunderweg 1\, Dortmund\, NRW\, 44147
CATEGORIES:Bildende Kunst,Kreativquartiere,Kunstmarkt
END:VEVENT
END:VCALENDAR