BEGIN:VCALENDAR
VERSION:2.0
PRODID:-//Dortmund Kreativ - ECPv6.15.18//NONSGML v1.0//EN
CALSCALE:GREGORIAN
METHOD:PUBLISH
X-WR-CALNAME:Dortmund Kreativ
X-ORIGINAL-URL:https://dortmund-kreativ.de
X-WR-CALDESC:Veranstaltungen für Dortmund Kreativ
REFRESH-INTERVAL;VALUE=DURATION:PT1H
X-Robots-Tag:noindex
X-PUBLISHED-TTL:PT1H
BEGIN:VTIMEZONE
TZID:Europe/Berlin
BEGIN:DAYLIGHT
TZOFFSETFROM:+0100
TZOFFSETTO:+0200
TZNAME:CEST
DTSTART:20230326T010000
END:DAYLIGHT
BEGIN:STANDARD
TZOFFSETFROM:+0200
TZOFFSETTO:+0100
TZNAME:CET
DTSTART:20231029T010000
END:STANDARD
BEGIN:DAYLIGHT
TZOFFSETFROM:+0100
TZOFFSETTO:+0200
TZNAME:CEST
DTSTART:20240331T010000
END:DAYLIGHT
BEGIN:STANDARD
TZOFFSETFROM:+0200
TZOFFSETTO:+0100
TZNAME:CET
DTSTART:20241027T010000
END:STANDARD
BEGIN:DAYLIGHT
TZOFFSETFROM:+0100
TZOFFSETTO:+0200
TZNAME:CEST
DTSTART:20250330T010000
END:DAYLIGHT
BEGIN:STANDARD
TZOFFSETFROM:+0200
TZOFFSETTO:+0100
TZNAME:CET
DTSTART:20251026T010000
END:STANDARD
END:VTIMEZONE
BEGIN:VEVENT
DTSTART;TZID=Europe/Berlin:20240202T190000
DTEND;TZID=Europe/Berlin:20240202T210000
DTSTAMP:20260423T200500
CREATED:20240125T122052Z
LAST-MODIFIED:20240125T122052Z
UID:10625-1706900400-1706907600@dortmund-kreativ.de
SUMMARY:KÜNSTLERHAUS | Eröffnung „INNER MINING / OUTER MINING: A GLOBAL CONSTELLATION“
DESCRIPTION:Gruppenausstellung mit künstlerischen Positionen aus Südafrika und Westeuropa im Künstlerhaus Dortmund \nEröffnung: Freitag\, 2. Februar 2024\, um 19 Uhr im Künstlerhaus Dortmund \nWas haben Influencer*innen in den sozialen Medien mit Minenarbeiter*innen in Südafrika und im Ruhrgebiet gemeinsam? Ist der Körper und der Geist des Menschen heute zu einer Art Mine geworden\, dessen innere Ressourcen\, also etwa seine Träume und Emotionen durch Konsum und Arbeit geformt und von Unternehmen angeeignet werden? Mit Fragen wie diesen erkunden die in der Ausstellung vertretenen Künstler*innen Formen des Extraktivismus im 21. Jahrhunderts. \nDas Zusammenbringen von Nord und Süd ermöglicht es\, den Zusammenhang zwischen der Extraktion natürlicher Ressourcen und der inneren Natur des Menschen zusammen zu denken. In der Diskussion dieser beiden Ebenen zeigen sich zudem interessante Parallelen zwischen Südafrika und dem Ruhrgebiet. \nWeitere Infos
URL:https://dortmund-kreativ.de/event/kuenstlerhaus-eroeffnung-inner-mining-outer-mining-a-global-constellation/
LOCATION:Künstler*innenhaus Dortmund\, Sunderweg 1\, Dortmund\, NRW\, 44147
CATEGORIES:Ausstellung,Bildende Kunst,Kreativquartiere,Kreativwirtschaft,Kunstmarkt,Netzwerk,Stadtentwicklung,Urbanität
END:VEVENT
END:VCALENDAR