BEGIN:VCALENDAR
VERSION:2.0
PRODID:-//Dortmund Kreativ - ECPv6.15.18//NONSGML v1.0//EN
CALSCALE:GREGORIAN
METHOD:PUBLISH
X-WR-CALNAME:Dortmund Kreativ
X-ORIGINAL-URL:https://dortmund-kreativ.de
X-WR-CALDESC:Veranstaltungen für Dortmund Kreativ
REFRESH-INTERVAL;VALUE=DURATION:PT1H
X-Robots-Tag:noindex
X-PUBLISHED-TTL:PT1H
BEGIN:VTIMEZONE
TZID:Europe/Berlin
BEGIN:DAYLIGHT
TZOFFSETFROM:+0100
TZOFFSETTO:+0200
TZNAME:CEST
DTSTART:20220327T010000
END:DAYLIGHT
BEGIN:STANDARD
TZOFFSETFROM:+0200
TZOFFSETTO:+0100
TZNAME:CET
DTSTART:20221030T010000
END:STANDARD
BEGIN:DAYLIGHT
TZOFFSETFROM:+0100
TZOFFSETTO:+0200
TZNAME:CEST
DTSTART:20230326T010000
END:DAYLIGHT
BEGIN:STANDARD
TZOFFSETFROM:+0200
TZOFFSETTO:+0100
TZNAME:CET
DTSTART:20231029T010000
END:STANDARD
BEGIN:DAYLIGHT
TZOFFSETFROM:+0100
TZOFFSETTO:+0200
TZNAME:CEST
DTSTART:20240331T010000
END:DAYLIGHT
BEGIN:STANDARD
TZOFFSETFROM:+0200
TZOFFSETTO:+0100
TZNAME:CET
DTSTART:20241027T010000
END:STANDARD
END:VTIMEZONE
BEGIN:VEVENT
DTSTART;TZID=Europe/Berlin:20230203T190000
DTEND;TZID=Europe/Berlin:20230203T220000
DTSTAMP:20260424T175235
CREATED:20230125T092943Z
LAST-MODIFIED:20230125T093310Z
UID:7565-1675450800-1675461600@dortmund-kreativ.de
SUMMARY:KÜNSTLERHAUS: Eröffnung "INVISIBLE UNTIL IT’S BROKEN"
DESCRIPTION:Werden strukturelle Probleme erst dann sichtbar\, wenn eben diese Strukturen Risse bekommen? Für wen sind gläserne Decken durchsichtig und wer starrt beim Blick nach oben auf Beton? Ausgehend von der umstrittenen Idee\, dass Infrastrukturen erst dann sichtbar werden\, wenn sie zerbrechen\, vereint die Gruppenausstellung Invisible Until It’s Broken acht raumgreifende künstlerische Positionen. \nBeteiligte Künstlerinnen: \n\nCana Bilir-Meier\nYun Choi\nRajyashri Goody\nVeronika Hapchenko\nWinnie Herbstein\nAnnelies Kamen\nPennie Key\nSelma Selman\n\n4. Februar – 19. März 2023 \nEröffnung: 03. Februar\, 19 Uhr \nGrußwort: Hendrikje Spengler\, Leiterin des Kulturbüros Dortmund\nEinführung: Silke Schönfeld \n20 – 22 Uhr: Pennie Key „Socks Off!!“\nAb 22 Uhr: „Un-Break My Heart“\, Performanceabend\nim Rekorder Dortmund\, Gneisenaustraße 55\, 44147 Dortmund \nWeitere Infos zur Ausstellung
URL:https://dortmund-kreativ.de/event/kuenstlerhaus-eroeffnung-invisible-until-its-broken/
LOCATION:Künstler*innenhaus Dortmund\, Sunderweg 1\, Dortmund\, NRW\, 44147
CATEGORIES:Ausstellung,Bildende Kunst,Kreativquartiere,Kreativwirtschaft,Netzwerk
END:VEVENT
END:VCALENDAR