BEGIN:VCALENDAR
VERSION:2.0
PRODID:-//Dortmund Kreativ - ECPv6.15.18//NONSGML v1.0//EN
CALSCALE:GREGORIAN
METHOD:PUBLISH
X-WR-CALNAME:Dortmund Kreativ
X-ORIGINAL-URL:https://dortmund-kreativ.de
X-WR-CALDESC:Veranstaltungen für Dortmund Kreativ
REFRESH-INTERVAL;VALUE=DURATION:PT1H
X-Robots-Tag:noindex
X-PUBLISHED-TTL:PT1H
BEGIN:VTIMEZONE
TZID:Europe/Berlin
BEGIN:DAYLIGHT
TZOFFSETFROM:+0100
TZOFFSETTO:+0200
TZNAME:CEST
DTSTART:20220327T010000
END:DAYLIGHT
BEGIN:STANDARD
TZOFFSETFROM:+0200
TZOFFSETTO:+0100
TZNAME:CET
DTSTART:20221030T010000
END:STANDARD
BEGIN:DAYLIGHT
TZOFFSETFROM:+0100
TZOFFSETTO:+0200
TZNAME:CEST
DTSTART:20230326T010000
END:DAYLIGHT
BEGIN:STANDARD
TZOFFSETFROM:+0200
TZOFFSETTO:+0100
TZNAME:CET
DTSTART:20231029T010000
END:STANDARD
BEGIN:DAYLIGHT
TZOFFSETFROM:+0100
TZOFFSETTO:+0200
TZNAME:CEST
DTSTART:20240331T010000
END:DAYLIGHT
BEGIN:STANDARD
TZOFFSETFROM:+0200
TZOFFSETTO:+0100
TZNAME:CET
DTSTART:20241027T010000
END:STANDARD
END:VTIMEZONE
BEGIN:VEVENT
DTSTART;TZID=Europe/Berlin:20231208T193000
DTEND;TZID=Europe/Berlin:20231208T220000
DTSTAMP:20260423T214251
CREATED:20231129T142156Z
LAST-MODIFIED:20231129T142156Z
UID:10162-1702063800-1702072800@dortmund-kreativ.de
SUMMARY:Künstlerhaus: Eröffnung 'MATCH:ENDLICHKEIT'
DESCRIPTION:Die Künstler*innen Anna-Maria Bogner und Siniša Kandić hinterfragen in der Ausstellung MATCH:ENDLICHKEIT die Prinzipien der Sehwahrnehmung. Ihre Werke fordern dazu auf\, die eingefahrenen Sehtraditionen zu durchbrechen und die Komplexität unserer Raumwahrnehmung zu erforschen. Hierbei spielen sie geschickt mit den Grenzen und Möglichkeiten unserer Sinneseindrücke und eröffnen uns dergestalt einen Blick auf die ungesehenen Dimensionen des Raums und die Werdung von Bildräumen zu Raumbildern. \nBegleitet wird ihre Ausstellung von Performances der Abramović-Schüler*innen Eleonora Arnold\, Gloria Carobini\, Camillo Guthmann\, Anna Veronika Hargitai und Julian Mattlinger. Mit ihren performativen Darbietungen setzen sie die Erforschung der Wahrnehmungsgrenzen fort und erweitern das Spektrum der Ausstellung. \nAusstellungseröffnung:\nFreitag\, 8. Dezember 2023\, 19 Uhr \nKuratorinnenführungen:\nSamstag\, 16. Dezember 2023\, 16 Uhr\nSamstag\, 6. Januar 2024\, 16 Uhr\nSamstag\, 13. Januar 2024\, 16 Uhr \nPerformances\nFreitag\, 8. Dezember 2023\, 19 Uhr\nSamstag\, 16. Dezember 2023\, 17 Uhr\nSamstag\, 6. Januar 2024\, 17 Uhr\nSamstag\, 13. Januar 2024\, 17 Uhr\nSonntag\, 21. Januar 2024\, 17 Uhr \nFinissage\nSonntag\, 21. Januar 2024\, 17 Uhr \nÖffnungszeiten\nDo – So\, 16 – 19 Uhr\n9. Dezember 2023 – 21. Januar 2024 \nVom 18. Dezember 2023 bis einschließlich 3. Januar 2024 bleibt das Künstlerhaus geschlossen. Die Ausstellung ist ab dem 4. Januar 2024 wieder geöffnet. \nWeitere Infos!
URL:https://dortmund-kreativ.de/event/kuenstlerhaus-eroeffnung-matchendlichkeit/
LOCATION:Künstler*innenhaus Dortmund\, Sunderweg 1\, Dortmund\, NRW\, 44147
CATEGORIES:Ausstellung,Bildende Kunst,Kunstmarkt,Netzwerk
END:VEVENT
END:VCALENDAR