BEGIN:VCALENDAR
VERSION:2.0
PRODID:-//Dortmund Kreativ - ECPv6.15.18//NONSGML v1.0//EN
CALSCALE:GREGORIAN
METHOD:PUBLISH
X-WR-CALNAME:Dortmund Kreativ
X-ORIGINAL-URL:https://dortmund-kreativ.de
X-WR-CALDESC:Veranstaltungen für Dortmund Kreativ
REFRESH-INTERVAL;VALUE=DURATION:PT1H
X-Robots-Tag:noindex
X-PUBLISHED-TTL:PT1H
BEGIN:VTIMEZONE
TZID:Europe/Berlin
BEGIN:DAYLIGHT
TZOFFSETFROM:+0100
TZOFFSETTO:+0200
TZNAME:CEST
DTSTART:20210328T010000
END:DAYLIGHT
BEGIN:STANDARD
TZOFFSETFROM:+0200
TZOFFSETTO:+0100
TZNAME:CET
DTSTART:20211031T010000
END:STANDARD
BEGIN:DAYLIGHT
TZOFFSETFROM:+0100
TZOFFSETTO:+0200
TZNAME:CEST
DTSTART:20220327T010000
END:DAYLIGHT
BEGIN:STANDARD
TZOFFSETFROM:+0200
TZOFFSETTO:+0100
TZNAME:CET
DTSTART:20221030T010000
END:STANDARD
BEGIN:DAYLIGHT
TZOFFSETFROM:+0100
TZOFFSETTO:+0200
TZNAME:CEST
DTSTART:20230326T010000
END:DAYLIGHT
BEGIN:STANDARD
TZOFFSETFROM:+0200
TZOFFSETTO:+0100
TZNAME:CET
DTSTART:20231029T010000
END:STANDARD
END:VTIMEZONE
BEGIN:VEVENT
DTSTART;TZID=Europe/Berlin:20221014T180000
DTEND;TZID=Europe/Berlin:20221014T220000
DTSTAMP:20260424T224656
CREATED:20221011T150755Z
LAST-MODIFIED:20221011T150853Z
UID:6742-1665770400-1665784800@dortmund-kreativ.de
SUMMARY:Künstlerhaus: GameON! – Kunst und Spiele
DESCRIPTION:  \n15. Oktober – 20. November 2022 \nEröffnung / Soft Opening\nFreitag\, den 14. Oktober\, 18 – 22 Uhr \nFinissage\nSonntag\, den 20. November\, 17 Uhr\nKuratorenführung \nKünstlerinnen:\nElizabeth Charnock\nGlenn de Cock\nEllen DeElaine\nRenaud Héléna\nMara Heuer\nLine Finderup Jensen\nMaria Kobylenko & Raiko Sanchez\nJule Tabea Martin\nSharon Paz\nW.N. van Ravenhorst\nFlorian Witt \nDas Ausstellungsprojekt „GameOn!“ befasst sich mit dem Phänomen des Spielens und soll in vielschichtiger Weise unterschiedlichste Spielformen mit der Welt der Kunst verbinden. Es sollen möglichst viele spielerische Umgangsweisen und künstlerische Forschungsfelder eröffnet werden.\nDie Ausstellung befasst sich also mit vielen möglichen Fragestellungen. Wie werden durch spielerische Interaktion neue Spannungsfelder in der Kunstrezeption und Kunstproduktion erschlossen? Wie spiegeln sich die Ästhetiken von bekannten Spielformaten in Kunstwerken wieder? Können soziale und gesellschaftliche Realitäten im Spiel reflektiert und parabolisiert werden?\nNeben analogen Kunstwerken und Spielen werden auch die virtuellen Realitäten (VR) ihren Raum in der Ausstellung einnehmen. Wie lassen sich Werke digital erstellen und bespielen? Welches Schaffenspotential und welche Reflexionsmöglichkeiten liegen im Computer-Gaming? \nwww.ongameon.de \nKonzept und Organisation: Stefan Brock\, Cornelius Grau\, Raiko Sanchez
URL:https://dortmund-kreativ.de/event/kuenstlerhaus-gameon-kunst-und-spiele/
LOCATION:Künstler*innenhaus Dortmund\, Sunderweg 1\, Dortmund\, NRW\, 44147
CATEGORIES:Ausstellung,Bildende Kunst,Kreativquartiere
END:VEVENT
END:VCALENDAR