BEGIN:VCALENDAR
VERSION:2.0
PRODID:-//Dortmund Kreativ - ECPv6.15.18//NONSGML v1.0//EN
CALSCALE:GREGORIAN
METHOD:PUBLISH
X-WR-CALNAME:Dortmund Kreativ
X-ORIGINAL-URL:https://dortmund-kreativ.de
X-WR-CALDESC:Veranstaltungen für Dortmund Kreativ
REFRESH-INTERVAL;VALUE=DURATION:PT1H
X-Robots-Tag:noindex
X-PUBLISHED-TTL:PT1H
BEGIN:VTIMEZONE
TZID:Europe/Berlin
BEGIN:DAYLIGHT
TZOFFSETFROM:+0100
TZOFFSETTO:+0200
TZNAME:CEST
DTSTART:20220327T010000
END:DAYLIGHT
BEGIN:STANDARD
TZOFFSETFROM:+0200
TZOFFSETTO:+0100
TZNAME:CET
DTSTART:20221030T010000
END:STANDARD
BEGIN:DAYLIGHT
TZOFFSETFROM:+0100
TZOFFSETTO:+0200
TZNAME:CEST
DTSTART:20230326T010000
END:DAYLIGHT
BEGIN:STANDARD
TZOFFSETFROM:+0200
TZOFFSETTO:+0100
TZNAME:CET
DTSTART:20231029T010000
END:STANDARD
BEGIN:DAYLIGHT
TZOFFSETFROM:+0100
TZOFFSETTO:+0200
TZNAME:CEST
DTSTART:20240331T010000
END:DAYLIGHT
BEGIN:STANDARD
TZOFFSETFROM:+0200
TZOFFSETTO:+0100
TZNAME:CET
DTSTART:20241027T010000
END:STANDARD
END:VTIMEZONE
BEGIN:VEVENT
DTSTART;TZID=Europe/Berlin:20230818T190000
DTEND;TZID=Europe/Berlin:20230818T220000
DTSTAMP:20260424T035213
CREATED:20230809T091941Z
LAST-MODIFIED:20230809T092105Z
UID:9271-1692385200-1692396000@dortmund-kreativ.de
SUMMARY:KÜNSTLERHAUS: LOVE/LOVE - Ausstellungseröffnung
DESCRIPTION:Eine Ausstellung über Liebe \n19. August – 1. Oktober 2023 \nEröffnung:\nFreitag\, den 18. August\, 19 Uhr \nKünstler*innen:\nMarlene Apmann & Anja Bohnhof\nAleksandra Belic\nCarl Brandi\nBirgit Brenner\nYvonne Diefenbach\nTina Herchenröther\nKlara Hobza\nJody Korbach\nSchützenkorps Europa \nKünstlerhaus: love/love | Dortmund Kreativ (dortmund-kreativ.de)Weitere Infos
URL:https://dortmund-kreativ.de/event/kuenstlerhaus-love-love/
LOCATION:Künstler*innenhaus Dortmund\, Sunderweg 1\, Dortmund\, NRW\, 44147
CATEGORIES:Ausstellung,Bildende Kunst,Fotografie,Kreativwirtschaft,Kunstmarkt,Medien,Netzwerk
END:VEVENT
END:VCALENDAR