BEGIN:VCALENDAR
VERSION:2.0
PRODID:-//Dortmund Kreativ - ECPv6.15.18//NONSGML v1.0//EN
CALSCALE:GREGORIAN
METHOD:PUBLISH
X-WR-CALNAME:Dortmund Kreativ
X-ORIGINAL-URL:https://dortmund-kreativ.de
X-WR-CALDESC:Veranstaltungen für Dortmund Kreativ
REFRESH-INTERVAL;VALUE=DURATION:PT1H
X-Robots-Tag:noindex
X-PUBLISHED-TTL:PT1H
BEGIN:VTIMEZONE
TZID:Europe/Berlin
BEGIN:DAYLIGHT
TZOFFSETFROM:+0100
TZOFFSETTO:+0200
TZNAME:CEST
DTSTART:20240331T010000
END:DAYLIGHT
BEGIN:STANDARD
TZOFFSETFROM:+0200
TZOFFSETTO:+0100
TZNAME:CET
DTSTART:20241027T010000
END:STANDARD
BEGIN:DAYLIGHT
TZOFFSETFROM:+0100
TZOFFSETTO:+0200
TZNAME:CEST
DTSTART:20250330T010000
END:DAYLIGHT
BEGIN:STANDARD
TZOFFSETFROM:+0200
TZOFFSETTO:+0100
TZNAME:CET
DTSTART:20251026T010000
END:STANDARD
BEGIN:DAYLIGHT
TZOFFSETFROM:+0100
TZOFFSETTO:+0200
TZNAME:CEST
DTSTART:20260329T010000
END:DAYLIGHT
BEGIN:STANDARD
TZOFFSETFROM:+0200
TZOFFSETTO:+0100
TZNAME:CET
DTSTART:20261025T010000
END:STANDARD
END:VTIMEZONE
BEGIN:VEVENT
DTSTART;TZID=Europe/Berlin:20250405T180000
DTEND;TZID=Europe/Berlin:20250405T210000
DTSTAMP:20260422T123403
CREATED:20250324T115348Z
LAST-MODIFIED:20250324T115348Z
UID:14207-1743876000-1743886800@dortmund-kreativ.de
SUMMARY:LADEN 1A: Vernissage "no place. nowhere"
DESCRIPTION:There has to be a place somewhere\n  \nDie Ausstellung „no place. nowhere – There has to be a place somewhere“ zeigt Arbeiten der Dortmunder Künstlerin Anke Droste. Mit Malerei\, Fotografie\, Grafik und Installation nähert sich Droste dem Ideenbegriff der Freiheit. Freiheit ist ein Ideal\, Freiheit existiert nur als Idee. Die Autonomie des Subjekts\, des Einzelnen ist ebenso eine Kopfgeburt wie die einer Gruppe oder die einer Nation. Das\, was wir als Freiheiten erleben\, muss immer neu erkämpft werden. \nDer erste Teil des Titels der Ausstellung „no place. nowhere“ nimmt Bezug auf die Erzählung „Kein Ort. Nirgends“ von Christa Wolf. Wolf lässt die Dichter*innen Kleist und Günderode aufeinandertreffen\, um das Gefühl von Heimatlosigkeit und Fremdheit in der Welt zu thematisieren. Der zweite Teil des Titels „There has to be a place somewhere” trägt dem Bedürfnis nach Hoffnung Rechnung. \n\n05. April bis 03. Mai 2025 \nVernissage: 05. April 2025\, 18:00 Uhr\nFinissage: 03. Mai 2025\, 18:00 Uhr \nÖffnungszeiten:\ndonnerstags von 17:00 bis 21:00 Uhr\nsamstags von 11:00 bis 14:00 Uhr (über die Osterfeiertage bleibt die Ausstellung geschlossen.) \nOrt: LADEN 1A\, Werner Str. 2\, 44388 Dortmund \nWeitere Termine gerne nach Vereinbarung unter: 0157-856 947 29 \nWeitere Infos \n\nEin Projekt im Rahmen von KOMMEN BLEIBEN GEHEN – Kreative Projekte an temporären Orten. \n\n 
URL:https://dortmund-kreativ.de/event/laden-1a-vernissage-no-place-nowhere/
LOCATION:LADEN 1A\, Werner Straße 2\, Dortmund\, 44388
CATEGORIES:Ausstellung,Bildende Kunst,DORTMUND KREATIV,KOMMEN BLEIBEN GEHEN,Kreativwirtschaft,Kunstmarkt,Netzwerk,Stadtentwicklung,Urbanität
END:VEVENT
END:VCALENDAR