BEGIN:VCALENDAR
VERSION:2.0
PRODID:-//Dortmund Kreativ - ECPv6.15.18//NONSGML v1.0//EN
CALSCALE:GREGORIAN
METHOD:PUBLISH
X-WR-CALNAME:Dortmund Kreativ
X-ORIGINAL-URL:https://dortmund-kreativ.de
X-WR-CALDESC:Veranstaltungen für Dortmund Kreativ
REFRESH-INTERVAL;VALUE=DURATION:PT1H
X-Robots-Tag:noindex
X-PUBLISHED-TTL:PT1H
BEGIN:VTIMEZONE
TZID:Europe/Berlin
BEGIN:DAYLIGHT
TZOFFSETFROM:+0100
TZOFFSETTO:+0200
TZNAME:CEST
DTSTART:20240331T010000
END:DAYLIGHT
BEGIN:STANDARD
TZOFFSETFROM:+0200
TZOFFSETTO:+0100
TZNAME:CET
DTSTART:20241027T010000
END:STANDARD
BEGIN:DAYLIGHT
TZOFFSETFROM:+0100
TZOFFSETTO:+0200
TZNAME:CEST
DTSTART:20250330T010000
END:DAYLIGHT
BEGIN:STANDARD
TZOFFSETFROM:+0200
TZOFFSETTO:+0100
TZNAME:CET
DTSTART:20251026T010000
END:STANDARD
BEGIN:DAYLIGHT
TZOFFSETFROM:+0100
TZOFFSETTO:+0200
TZNAME:CEST
DTSTART:20260329T010000
END:DAYLIGHT
BEGIN:STANDARD
TZOFFSETFROM:+0200
TZOFFSETTO:+0100
TZNAME:CET
DTSTART:20261025T010000
END:STANDARD
END:VTIMEZONE
BEGIN:VEVENT
DTSTART;TZID=Europe/Berlin:20250827T180000
DTEND;TZID=Europe/Berlin:20250827T193000
DTSTAMP:20260422T063022
CREATED:20250825T124415Z
LAST-MODIFIED:20250825T124519Z
UID:15000-1756317600-1756323000@dortmund-kreativ.de
SUMMARY:Manifesta 16: Infoveranstaltung zum Open Call
DESCRIPTION:  \nErhalte alle wichtigen Infos zur Manifesta 16 Ruhr\, zum Open Call und zur Bewerbung – und stell deine Fragen direkt in einer der Infoveranstaltungen. \nInfoveranstaltung #1:\nMittwoch\, 27. August 2025\, 18.00 – 19.30\, Werkhalle\, Union Gewerbehof\n(Rheinische Straße 143\, 44147 Dortmund) \nUm einen Platz in einer der Infoveranstaltungen zu sichern\, ist eine Anmeldung über dieses Typeform erforderlich! \nWeitere Infos \n 
URL:https://dortmund-kreativ.de/event/manifesta-16-infoveranstaltung-zum-open-call/
LOCATION:Werkhalle\, Union Gewerbehof\, Huckarder Straße 10-12\, Dortmund\, NRW\, 44147\, Deutschland
CATEGORIES:Bildende Kunst,Festival,Förderprogramme,Kreativwirtschaft,Netzwerk,Stadtentwicklung,Urbane Kunst,Urbanität
END:VEVENT
END:VCALENDAR