BEGIN:VCALENDAR
VERSION:2.0
PRODID:-//Dortmund Kreativ - ECPv6.15.18//NONSGML v1.0//EN
CALSCALE:GREGORIAN
METHOD:PUBLISH
X-WR-CALNAME:Dortmund Kreativ
X-ORIGINAL-URL:https://dortmund-kreativ.de
X-WR-CALDESC:Veranstaltungen für Dortmund Kreativ
REFRESH-INTERVAL;VALUE=DURATION:PT1H
X-Robots-Tag:noindex
X-PUBLISHED-TTL:PT1H
BEGIN:VTIMEZONE
TZID:Europe/Berlin
BEGIN:DAYLIGHT
TZOFFSETFROM:+0100
TZOFFSETTO:+0200
TZNAME:CEST
DTSTART:20220327T010000
END:DAYLIGHT
BEGIN:STANDARD
TZOFFSETFROM:+0200
TZOFFSETTO:+0100
TZNAME:CET
DTSTART:20221030T010000
END:STANDARD
BEGIN:DAYLIGHT
TZOFFSETFROM:+0100
TZOFFSETTO:+0200
TZNAME:CEST
DTSTART:20230326T010000
END:DAYLIGHT
BEGIN:STANDARD
TZOFFSETFROM:+0200
TZOFFSETTO:+0100
TZNAME:CET
DTSTART:20231029T010000
END:STANDARD
BEGIN:DAYLIGHT
TZOFFSETFROM:+0100
TZOFFSETTO:+0200
TZNAME:CEST
DTSTART:20240331T010000
END:DAYLIGHT
BEGIN:STANDARD
TZOFFSETFROM:+0200
TZOFFSETTO:+0100
TZNAME:CET
DTSTART:20241027T010000
END:STANDARD
END:VTIMEZONE
BEGIN:VEVENT
DTSTART;TZID=Europe/Berlin:20230309T180000
DTEND;TZID=Europe/Berlin:20230309T200000
DTSTAMP:20260421T152416
CREATED:20230303T083859Z
LAST-MODIFIED:20230303T084112Z
UID:7985-1678384800-1678392000@dortmund-kreativ.de
SUMMARY:MKK: Eröffnung 'Out of the Box.'
DESCRIPTION:Atelierfotografien aus der Sammlung Harald Mante\nOnline-Ausstellung mit Studienraum im MKK \nAm 09. März 2023 um 18 Uhr eröffnet das Museum für Kunst und Kulturgeschichte die Online-Ausstellung ‚Out of the box.‘ im Studienraum des MKK. \nBegrüßung: Dr. Jens Stöcker\, Direktor MKK \nEinführung: Sandra Happekotte\, Kuratorin \nDie Online-Ausstellung findet ihr ab dem 09. März 2023 unter kabinettkarten-mkk.de \nWeitere Infos findet ihr hier!  
URL:https://dortmund-kreativ.de/event/mkk-eroeffnung-out-of-the-box/
LOCATION:Museum für Kunst und Kulturgeschichte\, Hansastraße 3\, Dortmund\, 44137
CATEGORIES:Ausstellung,Fotografie,Kreativwirtschaft,Medien
END:VEVENT
END:VCALENDAR