BEGIN:VCALENDAR
VERSION:2.0
PRODID:-//Dortmund Kreativ - ECPv6.15.18//NONSGML v1.0//EN
CALSCALE:GREGORIAN
METHOD:PUBLISH
X-WR-CALNAME:Dortmund Kreativ
X-ORIGINAL-URL:https://dortmund-kreativ.de
X-WR-CALDESC:Veranstaltungen für Dortmund Kreativ
REFRESH-INTERVAL;VALUE=DURATION:PT1H
X-Robots-Tag:noindex
X-PUBLISHED-TTL:PT1H
BEGIN:VTIMEZONE
TZID:Europe/Berlin
BEGIN:DAYLIGHT
TZOFFSETFROM:+0100
TZOFFSETTO:+0200
TZNAME:CEST
DTSTART:20220327T010000
END:DAYLIGHT
BEGIN:STANDARD
TZOFFSETFROM:+0200
TZOFFSETTO:+0100
TZNAME:CET
DTSTART:20221030T010000
END:STANDARD
BEGIN:DAYLIGHT
TZOFFSETFROM:+0100
TZOFFSETTO:+0200
TZNAME:CEST
DTSTART:20230326T010000
END:DAYLIGHT
BEGIN:STANDARD
TZOFFSETFROM:+0200
TZOFFSETTO:+0100
TZNAME:CET
DTSTART:20231029T010000
END:STANDARD
BEGIN:DAYLIGHT
TZOFFSETFROM:+0100
TZOFFSETTO:+0200
TZNAME:CEST
DTSTART:20240331T010000
END:DAYLIGHT
BEGIN:STANDARD
TZOFFSETFROM:+0200
TZOFFSETTO:+0100
TZNAME:CET
DTSTART:20241027T010000
END:STANDARD
END:VTIMEZONE
BEGIN:VEVENT
DTSTART;TZID=Europe/Berlin:20230620T190000
DTEND;TZID=Europe/Berlin:20230620T210000
DTSTAMP:20260424T091046
CREATED:20230530T124127Z
LAST-MODIFIED:20230530T124127Z
UID:8554-1687287600-1687294800@dortmund-kreativ.de
SUMMARY:MUSIK-STAMMTISCH: BESONDERE KONZERTE AN BESONDEREN ORTEN
DESCRIPTION:20. Juni 2023\, 19:00 Uhr\, domcil\, Hansastr. 7-11\, Eintritt frei! \nWir brauchen mehr Live-Bühnen und Auftrittsmöglichkeiten in Dortmund. Ein Wunsch\, der nicht erst nach der Pandemie lautstark gefordert wird\, da in den letzten Jahren einige Live-Formate aus Dortmund verschwunden sind. Auf der anderen Seite gibt es seit kurzem wieder neue Orte\, neue Live-Formate oder es werden Sessions wiederbelegt und neu programmiert. Sessions in Clubs und Cafés oder Bars\, Konzerte in Hotels oder Unternehmen sowie Live-Formate an ganz besonderen Orten. Ein erfreulicher Trend\, den wir uns genauer ansehen wollen und mit den Veranstalter*innen oder Inhaber*innen über ihre Motivation sprechen. Zudem sind dies Beispiele\, die zur Nachahmung anregen und die Live-Szene in Dortmund stärken sollen. \nHierzu sind alle Interessierten ganz herzlich eingeladen. \nDiskussionspartner*innen:\nNima Khalili // CU-Bar Kampstr.\nFrank Scheele // u.a. Projektraum Kaiserstr.\, Hotel Esplande\, Weckenbacher\nSebastian Diel // Jamroulette im FHH\nMatthias Spruch // Jazz-Session Oma Doris\nModeration: Didi Stahlschmidt / Kulturbüro \nLive Show-Case:\n„PhilBeatz“\nVor mehr als 20 Jahren hat Phil sich das erste Mal mit einem Musikprogramm auseinander gesetzt und kommt bis heute nicht davon los. Drei Jahre später folgte der erste Auftritt mit der Combo GMBros (Locke\, P.G\, PhilBeatz und jüngst auch DJ Sinni Likkleluv). Sie sind quasi zusammen aufgewachsen und teilten die Liebe zum Hip Hop. Viele Bühnen durften sie zusammen sowohl als GMBros (Begleitet von Beats) als auch mit diversen Bands rocken. Jeder von ihnen hatte in den letzten Jahren seine eigenen Projekte und musikalischen Erfahrungen machen dürfen. Seither produziert Phil immer neue Hip Hop-Beats und Raptexte. So wurde es langsam Zeit für sein erstes Solo Projekt „Geschichten aus der Brust“\, das noch diesen Sommer veröffentlicht wird und mehr oder weniger die letzten 20 Jahre up and downs wieder spiegelt. \n»Die heißen 15min …«\n… von 20:15 – 20:30 Uhr hat jede*r die Möglichkeit\, sich kurz in der Runde vorzustellen\, Projekte zu bewerben\, Termine zu kommunizieren\, zu bewerben oder einfach Werbung für Musik zu machen! \nWeitere Infos!
URL:https://dortmund-kreativ.de/event/musik-stammtisch-besondere-konzerte-an-besonderen-orten/
LOCATION:domicil\, Hansastr 7-11\, Dortmund\, 44137
CATEGORIES:Festival,Konzert,Kreativwirtschaft,Musikwirtschaft,Stadtentwicklung,Urbanität
END:VEVENT
END:VCALENDAR