BEGIN:VCALENDAR
VERSION:2.0
PRODID:-//Dortmund Kreativ - ECPv6.15.18//NONSGML v1.0//EN
CALSCALE:GREGORIAN
METHOD:PUBLISH
X-WR-CALNAME:Dortmund Kreativ
X-ORIGINAL-URL:https://dortmund-kreativ.de
X-WR-CALDESC:Veranstaltungen für Dortmund Kreativ
REFRESH-INTERVAL;VALUE=DURATION:PT1H
X-Robots-Tag:noindex
X-PUBLISHED-TTL:PT1H
BEGIN:VTIMEZONE
TZID:Europe/Berlin
BEGIN:DAYLIGHT
TZOFFSETFROM:+0100
TZOFFSETTO:+0200
TZNAME:CEST
DTSTART:20220327T010000
END:DAYLIGHT
BEGIN:STANDARD
TZOFFSETFROM:+0200
TZOFFSETTO:+0100
TZNAME:CET
DTSTART:20221030T010000
END:STANDARD
BEGIN:DAYLIGHT
TZOFFSETFROM:+0100
TZOFFSETTO:+0200
TZNAME:CEST
DTSTART:20230326T010000
END:DAYLIGHT
BEGIN:STANDARD
TZOFFSETFROM:+0200
TZOFFSETTO:+0100
TZNAME:CET
DTSTART:20231029T010000
END:STANDARD
BEGIN:DAYLIGHT
TZOFFSETFROM:+0100
TZOFFSETTO:+0200
TZNAME:CEST
DTSTART:20240331T010000
END:DAYLIGHT
BEGIN:STANDARD
TZOFFSETFROM:+0200
TZOFFSETTO:+0100
TZNAME:CET
DTSTART:20241027T010000
END:STANDARD
END:VTIMEZONE
BEGIN:VEVENT
DTSTART;TZID=Europe/Berlin:20231010T190000
DTEND;TZID=Europe/Berlin:20231010T203000
DTSTAMP:20260424T005406
CREATED:20231005T081552Z
LAST-MODIFIED:20231005T081552Z
UID:9749-1696964400-1696969800@dortmund-kreativ.de
SUMMARY:MUSIK-STAMMTISCH DORTMUND: Green Culture
DESCRIPTION:Umwelt- und Klimaschutz bei Konzerten\, Festivals und Kultur- und Clubveranstaltungen \nEs ist eines der aktuellsten und mit Blick auf die Umwelt und den Klimawandel wohl auch wichtigsten Themen in der Kultur-\, Konzert- und Festivallandschaft.\nVon Pfandsystemen\, über Müllvermeidung\, CO2-Einsparungen\, Klimaschutz\, regionalen Warenketten\, pfiffigen Stromspar-Ideen bis hin zu ökologischen Produkten\, nachhaltigen Veranstaltungskonzepten oder Mobilitätskonzepten. Die Reihe lässt sich noch weiterführen\, denn der Transformationsprozess für nachhaltige Kultur ist im steten Gange. \nDoch wie kann man dies auf seine Veranstaltung übertragen? Welche Möglichkeiten gibt es konkret\, um Konzerte und Festivals nachhaltiger zu programmieren? Diese und viele weitere Fragen werden mit Experten*innen gemeinsam mit dem Publikum diskutieren. \nHierzu sind u.a. auch Vertreter*innen der Initiative „Green Culture Dortmund“ eingeladen.\nIn 2022 haben sich Dortmunder Kulturschaffende als „Green Culture Dortmund“ zusammengeschlossen\, um ihre Kulturarbeit mit dem Thema Nachhaltigkeit zu verbinden. Sie verstehen sich als Impulsgeber*innen und Multiplikator*innen und wollen durch ihre künstlerische und praktische Arbeit ihr Publikum für Nachhaltigkeit interessieren\, selbst einen Beitrag zu einer nachhaltigen Entwicklung unserer Gesellschaft leisten und die Klimakrise positiv beeinflussen. \nDiskussionspartner*innen: \nRebecca Zimmermann // Konzerthaus Dortmund \nFriedrich Laker // Pauluskirche und Kultur \nChris Brosky // Junk Yard & Liveinitiative NRW \n  \nModeration: Didi Stahlschmidt / Kulturbüro \n 
URL:https://dortmund-kreativ.de/event/musik-stammtisch-dortmund-green-culture/
LOCATION:domicil\, Hansastr 7-11\, Dortmund\, 44137
CATEGORIES:Kreativquartiere,Kreativwirtschaft,Musikwirtschaft,Nachhaltigkeit,Qualifizierung,Zukunft
ATTACH;FMTTYPE=image/jpeg:https://dortmund-kreativ.de/wp-content/uploads/2021/03/DortmundMachtLauter_Logo-e1616069936881.jpg
END:VEVENT
END:VCALENDAR