BEGIN:VCALENDAR
VERSION:2.0
PRODID:-//Dortmund Kreativ - ECPv6.15.18//NONSGML v1.0//EN
CALSCALE:GREGORIAN
METHOD:PUBLISH
X-WR-CALNAME:Dortmund Kreativ
X-ORIGINAL-URL:https://dortmund-kreativ.de
X-WR-CALDESC:Veranstaltungen für Dortmund Kreativ
REFRESH-INTERVAL;VALUE=DURATION:PT1H
X-Robots-Tag:noindex
X-PUBLISHED-TTL:PT1H
BEGIN:VTIMEZONE
TZID:Europe/Berlin
BEGIN:DAYLIGHT
TZOFFSETFROM:+0100
TZOFFSETTO:+0200
TZNAME:CEST
DTSTART:20240331T010000
END:DAYLIGHT
BEGIN:STANDARD
TZOFFSETFROM:+0200
TZOFFSETTO:+0100
TZNAME:CET
DTSTART:20241027T010000
END:STANDARD
BEGIN:DAYLIGHT
TZOFFSETFROM:+0100
TZOFFSETTO:+0200
TZNAME:CEST
DTSTART:20250330T010000
END:DAYLIGHT
BEGIN:STANDARD
TZOFFSETFROM:+0200
TZOFFSETTO:+0100
TZNAME:CET
DTSTART:20251026T010000
END:STANDARD
BEGIN:DAYLIGHT
TZOFFSETFROM:+0100
TZOFFSETTO:+0200
TZNAME:CEST
DTSTART:20260329T010000
END:DAYLIGHT
BEGIN:STANDARD
TZOFFSETFROM:+0200
TZOFFSETTO:+0100
TZNAME:CET
DTSTART:20261025T010000
END:STANDARD
END:VTIMEZONE
BEGIN:VEVENT
DTSTART;TZID=Europe/Berlin:20251118T190000
DTEND;TZID=Europe/Berlin:20251118T203000
DTSTAMP:20260421T125541
CREATED:20251029T124903Z
LAST-MODIFIED:20251029T124930Z
UID:15413-1763492400-1763497800@dortmund-kreativ.de
SUMMARY:Musik-Stammtisch Dortmund: „Kollektive und Vereine der freien Musikszene in Dortmund“
DESCRIPTION:  \nThema: „Kollektive und Vereine der freien Musikszene in Dortmund“ \nWie junge Musik-Kollektive und Musikvereine wichtige Impulse in der Szene setzen \nSie sind ein wichtiger Pfeiler der freien Musikszene\, sind zugleich Kreativ-Hort und lebendiges Netzwerk\, sind Grund für Begegnung\, Austausch und Veranstaltungen – und sie sind oftmals die Keimzelle für Großes: Musik- und Kreativ-Kollektive. \nGerade Dortmund hat sich als Ort für Kollektive und freie Zusammenschlüsse der Musik- und Kreativ-Szene etabliert und bringt immer wieder neue Zusammenschlüsse oder neue Musikformate zu Tage. Dabei spielt die Musik\, die Planung und Umsetzung spezieller Live-Formate eine besondere Rolle. In der Regel ehrenamtlich organisiert geht aber nicht nur um Musik\, Feier-Formate und Kunst. Es geht ebenso um gesellschaftliche Themen. Es wird ein Diskurs gefördert\, der sich um Teilhabe\, Gleichberechtigung\, Sichtbarmachung\, Förderung und Beteiligung dreht. Und bei dem die Musik und verschiedenste Kunstformen auch als Vermittlungsmodule dienen und zugleich den Spaß an gemeinsamen Veranstaltungen fördert. \nDie Kollektive und Vereine fördern die Musik und veranstalten teils kleine\, teils größere Konzerte\, Konzertreihen oder Festivals. Sie fördern Bands und Musiker*innen direkt wie auch indirekt und sie machen die freie Musikszene sichtbar und stärker. \nDoch wie kommt es zu diesen Zusammenschlüssen? Wie wird ein Kollektiv gegründet und warum? Wie sieht die Arbeit konkret aus? Und welche gesellschaftlichen Themen werden transportiert? \nDiese und viele weitere Fragen wollen wir an diesem Abend gemeinsam mit dem Publikum und den Gästen erörtern und diskutieren. \nHierzu sind alle Interessierten ganz herzlich eingeladen. \n  \nDiskussionspartner*innen: \n\nMauerblümchen Kollektiv // Juli\nTonbande e. V // Tobi Rous\nFlintasia Kollektiv // Lisa Fischer\nKasino Kollektiv // Friederike Thole\nKrähe Kollektiv // Oskar Bujinski\n\nModeration: Didi Stahlschmidt // Kulturbüro \n  \nShowcase live: \n„One Oak“ \nOne Oak ist eine Dortmunder Band. Drei Musiker\, vier Instrumente\, fünffacher Sound. Eine energiegeladener Mix aus Synth-Bass\, Funkgitarre und Disco-Groove. Die Musik ist tanzbar und vielseitig\, mit intensiven Bässen schaffen sie einen musikalischen Teppich und bringen eine außergewöhnliche Sound-Palette auf die Bühne. Der One Oak Sound ist rough\, hip\, irgendwie 70er Jahre\, irgendwo elektronisch und manchmal melancholisch. Die Band fesselt ihr Publikum durch eine authentische Atmosphäre\, in der tanzbare Rhythmen\, energiegeladene Instrumentalparts und Texte zum Mitsingen gleichermaßen zur Geltung kommen. \n  \n»Die heißen 15min …« \n… hier hat jede*r die Möglichkeit\, sich kurz in der Runde vorzustellen\, Projekte zu bewerben\, Termine zu kommunizieren\, zu bewerben oder einfach Werbung für Musik zu machen \n 
URL:https://dortmund-kreativ.de/event/musik-stammtisch-dortmund-kollektive-und-vereine-der-freien-musikszene-in-dortmund/
LOCATION:domicil\, Hansastr 7-11\, Dortmund\, 44137
CATEGORIES:Musikwirtschaft
ATTACH;FMTTYPE=image/jpeg:https://dortmund-kreativ.de/wp-content/uploads/2021/12/DortmundMachtLauter_Logo_DetailNormal_MD_LG.jpg
END:VEVENT
END:VCALENDAR