BEGIN:VCALENDAR
VERSION:2.0
PRODID:-//Dortmund Kreativ - ECPv6.15.18//NONSGML v1.0//EN
CALSCALE:GREGORIAN
METHOD:PUBLISH
X-WR-CALNAME:Dortmund Kreativ
X-ORIGINAL-URL:https://dortmund-kreativ.de
X-WR-CALDESC:Veranstaltungen für Dortmund Kreativ
REFRESH-INTERVAL;VALUE=DURATION:PT1H
X-Robots-Tag:noindex
X-PUBLISHED-TTL:PT1H
BEGIN:VTIMEZONE
TZID:Europe/Berlin
BEGIN:DAYLIGHT
TZOFFSETFROM:+0100
TZOFFSETTO:+0200
TZNAME:CEST
DTSTART:20230326T010000
END:DAYLIGHT
BEGIN:STANDARD
TZOFFSETFROM:+0200
TZOFFSETTO:+0100
TZNAME:CET
DTSTART:20231029T010000
END:STANDARD
BEGIN:DAYLIGHT
TZOFFSETFROM:+0100
TZOFFSETTO:+0200
TZNAME:CEST
DTSTART:20240331T010000
END:DAYLIGHT
BEGIN:STANDARD
TZOFFSETFROM:+0200
TZOFFSETTO:+0100
TZNAME:CET
DTSTART:20241027T010000
END:STANDARD
BEGIN:DAYLIGHT
TZOFFSETFROM:+0100
TZOFFSETTO:+0200
TZNAME:CEST
DTSTART:20250330T010000
END:DAYLIGHT
BEGIN:STANDARD
TZOFFSETFROM:+0200
TZOFFSETTO:+0100
TZNAME:CET
DTSTART:20251026T010000
END:STANDARD
END:VTIMEZONE
BEGIN:VEVENT
DTSTART;TZID=Europe/Berlin:20241015T190000
DTEND;TZID=Europe/Berlin:20241015T203000
DTSTAMP:20260422T224535
CREATED:20241002T145302Z
LAST-MODIFIED:20241002T145302Z
UID:12613-1729018800-1729024200@dortmund-kreativ.de
SUMMARY:MUSIK-STAMMTISCH DORTMUND: Musik-Journalismus
DESCRIPTION:„Musik-Journalismus in Zeiten von Social Media und steigender Digitalisierung“ \nFür jeden Musikfan und für jede Band sind sie Pflichtlektüren. Und zugleich gedruckte Geschichte für die Ewigkeit – auch wenn sie nicht gedruckt\, sondern online veröffentlicht werden: Musik-Magazine\, Fanzines und Online-Mags. Dabei ist und bleibt die schreibende\, journalistische Zunft eine wichtige Säule der Musikwirtschaft und viele Musikjournalisten*innen kann man zurecht als Handwerker\, als schreibende Wortkünstler*innen bezeichnen. \nDoch sie stehen alle unter doppeltem Druck. Zum einen der stete Kampf zwischen Print & Online\, zum anderen die trendbedingte Konkurrenz im Online-Marktsegment. Dazu kommen schwindende Printauflagen\, da nachwachsende Zielegruppen eher zu Online als zum Print tendieren. Anderseits bleiben Formate wie das Rock Hard\, Visions\, Metal Hammer oder Galore stetig am Markt und erfreuen ihre Fans\, die nicht nur aus der Musikszene kommen. Ergänzt wird dieser umkämpfte Markt von Fanzines\, handgemachten Fan-Formaten die alles\, aber nicht kommerziell sind. \nWie hat sich der Markt im Musikjournalismus gewandelt? Welche neue Hürden und Herausforderungen müssen gemeistert werden? Wie sieht die Ausbildung der Musikjournalisten*innen heuet aus? Ändert sich auch das Hochschulstudium? Und welche Rolle spielen Social Media und die Digitalisierung in dieser Branchen? \nDiese und weitere Fragen werden mit Experten*innen und dem Publikum an diesem Abend gemeinsam diskutiert. \nHierzu sind alle Interessierten ganz herzlich eingeladen. \nDiskussionspartner*innen: \nHolger Stratmann // Herausgeber ROCK HARD\nUniv.-Prof. Dr. Peter Moormann // TU Dortmund\, Institut für Musik & Musikwissenschaft\nFelix Wirtz // Fanzine Bierschinken\nn. n. // Visions Magazin (angefragt) \nModeration: Didi Stahlschmidt // Kulturbüro \n  \nLive Show-Case: \nBJÖRN PATRIK PFEIFFER \n„Komplett selfmade – Das bin ich. Meine Musik ist mein Anker\, mein Pflaster\, mein Katapult.“ \n(B.P.Pfeiffer). Lieblingsplatz: on stage. Stetiger Begleiter: seine Gitarre. Und wenn diese Funken sprühen könnte\, würde sie es bei Pfeiffers Nitroglycerin-Sound ganz sicher. Bei Björn Patrik Pfeiffer treffen explosive Gitarren-Riffs auf gefühlvollen\, modernen Deutschpop. Mit emotions – und energiegeladenem deutschen Rock’n’Roll-Pop im Gepäck\, startet er nun voll durch. Grundzutaten: Optimismus\, Mut und ausgefeilte Gitarrensounds. Echt\, ehrlich und vertraut. Der Herzblut-Musiker und Wahl-Dortmunder Björn Patrik Pfeiffer malt mit einem Hauch von Dave Grohls Energie\, einem Schuss von Grönemeyers lyrischer Tiefe\, einer Prise Pop-Melodien á la Johannes Oerding und seiner gefühlvollen Power-Stimme sprachliche Bilderbücher\, die einem nicht mehr aus dem Kopf gehen. Wunderkerzenmomente garantiert! \n  \n 
URL:https://dortmund-kreativ.de/event/musik-stammtisch-dortmund-musik-journalismus/
LOCATION:domicil\, Hansastr 7-11\, Dortmund\, 44137
CATEGORIES:Kreativwirtschaft,Musikwirtschaft,Netzwerk
ATTACH;FMTTYPE=image/jpeg:https://dortmund-kreativ.de/wp-content/uploads/2021/12/DortmundMachtLauter_Logo_DetailNormal_MD_LG.jpg
END:VEVENT
END:VCALENDAR