BEGIN:VCALENDAR
VERSION:2.0
PRODID:-//Dortmund Kreativ - ECPv6.15.18//NONSGML v1.0//EN
CALSCALE:GREGORIAN
METHOD:PUBLISH
X-WR-CALNAME:Dortmund Kreativ
X-ORIGINAL-URL:https://dortmund-kreativ.de
X-WR-CALDESC:Veranstaltungen für Dortmund Kreativ
REFRESH-INTERVAL;VALUE=DURATION:PT1H
X-Robots-Tag:noindex
X-PUBLISHED-TTL:PT1H
BEGIN:VTIMEZONE
TZID:Europe/Berlin
BEGIN:DAYLIGHT
TZOFFSETFROM:+0100
TZOFFSETTO:+0200
TZNAME:CEST
DTSTART:20240331T010000
END:DAYLIGHT
BEGIN:STANDARD
TZOFFSETFROM:+0200
TZOFFSETTO:+0100
TZNAME:CET
DTSTART:20241027T010000
END:STANDARD
BEGIN:DAYLIGHT
TZOFFSETFROM:+0100
TZOFFSETTO:+0200
TZNAME:CEST
DTSTART:20250330T010000
END:DAYLIGHT
BEGIN:STANDARD
TZOFFSETFROM:+0200
TZOFFSETTO:+0100
TZNAME:CET
DTSTART:20251026T010000
END:STANDARD
BEGIN:DAYLIGHT
TZOFFSETFROM:+0100
TZOFFSETTO:+0200
TZNAME:CEST
DTSTART:20260329T010000
END:DAYLIGHT
BEGIN:STANDARD
TZOFFSETFROM:+0200
TZOFFSETTO:+0100
TZNAME:CET
DTSTART:20261025T010000
END:STANDARD
END:VTIMEZONE
BEGIN:VEVENT
DTSTART;TZID=Europe/Berlin:20250909T190000
DTEND;TZID=Europe/Berlin:20250909T210000
DTSTAMP:20260422T035102
CREATED:20250827T141957Z
LAST-MODIFIED:20250827T141957Z
UID:15038-1757444400-1757451600@dortmund-kreativ.de
SUMMARY:MUSIK-STAMMTISCH DORTMUND: Veränderung in der Musik-Festival-Landschaft Dortmund
DESCRIPTION:Die musikalischen Festivalformate verändern sich. Neue kommen dazu\, alte haben Probleme zu kämpfen … aber warum? Und wie sehen die Entwicklungen und Perspektiven aus? \nSie sind musikalische Aushängeschilder des Stadt und zugleich sehr wichtige Formate für die hiesige Musik- und Kulturlandschaft. Zudem ist ihr Image-Faktor für die Stadt und auch die Musikszene nicht zu unterschätzen. Musik-Festivals haben eine lange Tradition in Dortmund. \nVom Juicy Beats\, das mittlerweile seit 30 Jahren am Markt ist – und nun über eine größere Veränderung nachdenkt. Über Festivals\, die seit einigen Jahren verschiedene Musikszenen abbilden – so wie das „Bunt oder Blau“ und das „Visual Sound Festival“ – bis hin zu ganz neuen Festival-Formaten wie „Sonic Waves“ und „Harbour Sound“ oder dem „Flintasialand“-Festival. \nDoch die Festivalbranche hat sich in den letzten Jahren verändert. Die Rahmenbedingten sind andere geworden\, die Preisstrukturen sind zu einem Problem geworden\, das Ausgeh-Verhalten verändert sich zunehmend und viele weitere Parameter spielen eine wichtige Rolle. \nAber warum ist dies so? Was hat sich wirklich verändert? Mit welchen Herausforderungen hat die Szene zu kämpfen? Was ist möglicherweise im Positiven dazu gekommen? … und welche Motivation steht hinter den neuen Festival-Formaten und was machen diese wohlmöglich anders? \nDies wollen wir mit mehreren Festivals und dem Publikum gemeinsam erörtern und diskutieren. Dabei soll ein ganzheitlicher Blick auf die hiesige Festivallandschaft und ihre Veränderungen sowie Potenziale und Probleme geworfen werden und zugleich kritisch-konstruktiv thematisiert werden. \nHierzu sind alle Interessierten ganz herzlich eingeladen. \nDiskussionspartner*innen: \nCarsten Helmich // Juicy Beats \nLisa Fischer // „Flintasialand“-Festival \nOliver Pilsner // Sonic Waves + Harbour Sound \nAngelika Hoffmann // Visual Sound Festival \nMatthias Spruch // Bunt oder Blau \nModeration: Didi Stahlschmidt // Kulturbüro \n  \nLive Show-Case: tba. \n  \n 
URL:https://dortmund-kreativ.de/event/musik-stammtisch-dortmund-veraenderung-in-der-musik-festival-landschaft-dortmund/
LOCATION:domicil\, Hansastr 7-11\, Dortmund\, 44137
CATEGORIES:Kreativwirtschaft,Musikwirtschaft,Netzwerk
ATTACH;FMTTYPE=image/jpeg:https://dortmund-kreativ.de/wp-content/uploads/2021/12/DortmundMachtLauter_Logo_DetailNormal_MD_LG.jpg
END:VEVENT
END:VCALENDAR