BEGIN:VCALENDAR
VERSION:2.0
PRODID:-//Dortmund Kreativ - ECPv6.15.18//NONSGML v1.0//EN
CALSCALE:GREGORIAN
METHOD:PUBLISH
X-WR-CALNAME:Dortmund Kreativ
X-ORIGINAL-URL:https://dortmund-kreativ.de
X-WR-CALDESC:Veranstaltungen für Dortmund Kreativ
REFRESH-INTERVAL;VALUE=DURATION:PT1H
X-Robots-Tag:noindex
X-PUBLISHED-TTL:PT1H
BEGIN:VTIMEZONE
TZID:Europe/Berlin
BEGIN:DAYLIGHT
TZOFFSETFROM:+0100
TZOFFSETTO:+0200
TZNAME:CEST
DTSTART:20240331T010000
END:DAYLIGHT
BEGIN:STANDARD
TZOFFSETFROM:+0200
TZOFFSETTO:+0100
TZNAME:CET
DTSTART:20241027T010000
END:STANDARD
BEGIN:DAYLIGHT
TZOFFSETFROM:+0100
TZOFFSETTO:+0200
TZNAME:CEST
DTSTART:20250330T010000
END:DAYLIGHT
BEGIN:STANDARD
TZOFFSETFROM:+0200
TZOFFSETTO:+0100
TZNAME:CET
DTSTART:20251026T010000
END:STANDARD
BEGIN:DAYLIGHT
TZOFFSETFROM:+0100
TZOFFSETTO:+0200
TZNAME:CEST
DTSTART:20260329T010000
END:DAYLIGHT
BEGIN:STANDARD
TZOFFSETFROM:+0200
TZOFFSETTO:+0100
TZNAME:CET
DTSTART:20261025T010000
END:STANDARD
END:VTIMEZONE
BEGIN:VEVENT
DTSTART;TZID=Europe/Berlin:20251209T190000
DTEND;TZID=Europe/Berlin:20251209T210000
DTSTAMP:20260421T123426
CREATED:20251126T102524Z
LAST-MODIFIED:20251126T102524Z
UID:15638-1765306800-1765314000@dortmund-kreativ.de
SUMMARY:Musikstammtisch Dortmund: Internationale Musik in Dortmund
DESCRIPTION:„Internationale Musik in Dortmund“ / Multikulturelle Musikstrukturen prägen die Musiklandschaft \nDortmund ist eine bunte\, diverse und multikulturelle Stadt – und dies spiegelt sich auch in ihrer Musik und ihren Musikstrukturen wider. Zahlreiche multikulturelle Musikstrukturen und Musikformate zeigen die starke Verbundenheit zwischen Dortmund und der Welt. Dabei verbinden Festivals wie das Afro Ruhr Festival\, das Tamilische Straßenfest oder das bundesweit größte lateinamerikanischen Kulturfestival „VIVA!“ zwei Welten zu einer musikalischen wie kulturellen Symbiose. \nAndere Formate bzw. Formationen wie das „Transorient Orchester“ oder auch die italienisch programmierte „Herwarth Böhmer Band“ beweisen\, dass internationale Musik auch mit der hiesigen verschmelzen kann und Neues entsteht.\nDoch wie sind diese Strukturen entstanden und gewachsen? Wie nehmen sie Einfluss auf die Dortmundern Musiklandschaft? Und welche Rolle spielen die kulturellen Aspekten neben der Musik? Und welches gesellschaftliche Potenzial verbindet sich damit? \nDiese und viele weitere Fragen wollen wir an diesem Abend gemeinsam mit dem Publikum und den Gästen erörtern und diskutieren. \nHierzu sind alle Interessierten ganz herzlich eingeladen. \nDiskussionspartner*innen: \n“Herwarth Böhmer und Band“ (Italien) // Herwarth Böhmer \nVIVA! Festival Lateinamerika // Sigrid Palacios \nAfro Ruhr Festival // tba. \nVerein für tamilische Künstler e.V. // angefragt \nTransorient Orchester // Andreas Heuser \nModeration: Didi Stahlschmidt // Kulturbüro \n\nShowcase live: \n„BACKTRONAUTS“ \n80er-Jahre-Melancholie im Hier und Jetzt \nKlassische Synthesizerklänge tragen die Melodien des live gespielten Cellos von Andy Ringaga\, Komponist und Head of Sound der Band. Pete Strongarm macht seinem Namen alle Ehre und steuert die tragenden Beats an den Drums bei\, während Robin Drinals Gitarren zwischen verzerrten Rock-Riffs und cleanen Licks wandern. Der ausdrucksstarke Bariton des Lead-Sängers Chris Fieldhad legt seine Lyrics in melancholischen Gesangslinien darüber. Eine Hommage an die 80er\, das BACKTRONAUTS-Raumschiff angedockt an die musikalische Gegenwart. Die Band erschafft ein vielschichtiges\, dynamisches Klangerlebnis und berührt – emotional und energetisch. \n»Die heißen 15min …« \n… hier hat jede*r die Möglichkeit\, sich kurz in der Runde vorzustellen\, Projekte zu bewerben\, Termine zu kommunizieren\, zu bewerben oder einfach Werbung für Musik zu machen! \n 
URL:https://dortmund-kreativ.de/event/musikstammtisch-dortmund-internationale-musik-in-dortmund/
LOCATION:domicil\, Hansastr 7-11\, Dortmund\, 44137
CATEGORIES:Kreativwirtschaft,Musikwirtschaft,Netzwerk
ATTACH;FMTTYPE=image/jpeg:https://dortmund-kreativ.de/wp-content/uploads/2021/03/DortmundMachtLauter_Logo-e1616069936881.jpg
END:VEVENT
END:VCALENDAR