BEGIN:VCALENDAR
VERSION:2.0
PRODID:-//Dortmund Kreativ - ECPv6.15.18//NONSGML v1.0//EN
CALSCALE:GREGORIAN
METHOD:PUBLISH
X-WR-CALNAME:Dortmund Kreativ
X-ORIGINAL-URL:https://dortmund-kreativ.de
X-WR-CALDESC:Veranstaltungen für Dortmund Kreativ
REFRESH-INTERVAL;VALUE=DURATION:PT1H
X-Robots-Tag:noindex
X-PUBLISHED-TTL:PT1H
BEGIN:VTIMEZONE
TZID:Europe/Berlin
BEGIN:DAYLIGHT
TZOFFSETFROM:+0100
TZOFFSETTO:+0200
TZNAME:CEST
DTSTART:20230326T010000
END:DAYLIGHT
BEGIN:STANDARD
TZOFFSETFROM:+0200
TZOFFSETTO:+0100
TZNAME:CET
DTSTART:20231029T010000
END:STANDARD
BEGIN:DAYLIGHT
TZOFFSETFROM:+0100
TZOFFSETTO:+0200
TZNAME:CEST
DTSTART:20240331T010000
END:DAYLIGHT
BEGIN:STANDARD
TZOFFSETFROM:+0200
TZOFFSETTO:+0100
TZNAME:CET
DTSTART:20241027T010000
END:STANDARD
BEGIN:DAYLIGHT
TZOFFSETFROM:+0100
TZOFFSETTO:+0200
TZNAME:CEST
DTSTART:20250330T010000
END:DAYLIGHT
BEGIN:STANDARD
TZOFFSETFROM:+0200
TZOFFSETTO:+0100
TZNAME:CET
DTSTART:20251026T010000
END:STANDARD
END:VTIMEZONE
BEGIN:VEVENT
DTSTART;TZID=Europe/Berlin:20241024T193000
DTEND;TZID=Europe/Berlin:20241024T220000
DTSTAMP:20260421T135753
CREATED:20241023T075018Z
LAST-MODIFIED:20241023T075154Z
UID:12706-1729798200-1729807200@dortmund-kreativ.de
SUMMARY:MusikVideoKino Vol. 5
DESCRIPTION:Musikvideokino verbindet zwei Leidenschaften\, die spätestens seit MTV nicht mehr zu trennen sind: Musik und Bewegtbild.\nHeutzutage oft hastig am Smartphone konsumiert\, wollen wir der Kunst eine neue Bühne schaffen.\nEinen neuen Ort\, an dem sich Film und Musik treffen\, einen Ort zum Kennenlernen und Netzwerken. Zusammen – in guter Gesellschaft.\nMit Musikvideos von Bands und Künstlern von lokal bis international.\nLegt die Handys weg. Hoch von der Couch. Heute werden Musikvideos im Roxy Lichtspieltheater geschaut! \nIns Leben gerufen von David Bartelt (Das Große Los) und Alessandro De Luca (The Pighounds).\nGefördert durch das Kulturbüro Dortmund\, die Wirtschaftsförderung Dortmund und die Dortmunder Volksbank. \n 
URL:https://dortmund-kreativ.de/event/musikvideokino-vol-5/
LOCATION:Roxy Lichtspielhaus\, Münsterstraße 95\, Dortmund\, 44145
CATEGORIES:Filmwirtschaft,Kreativwirtschaft,Medien,Musikwirtschaft
ATTACH;FMTTYPE=image/jpeg:https://dortmund-kreativ.de/wp-content/uploads/2023/10/Musikvideokino-Optik.jpg
END:VEVENT
END:VCALENDAR