BEGIN:VCALENDAR
VERSION:2.0
PRODID:-//Dortmund Kreativ - ECPv6.15.18//NONSGML v1.0//EN
CALSCALE:GREGORIAN
METHOD:PUBLISH
X-WR-CALNAME:Dortmund Kreativ
X-ORIGINAL-URL:https://dortmund-kreativ.de
X-WR-CALDESC:Veranstaltungen für Dortmund Kreativ
REFRESH-INTERVAL;VALUE=DURATION:PT1H
X-Robots-Tag:noindex
X-PUBLISHED-TTL:PT1H
BEGIN:VTIMEZONE
TZID:Europe/Berlin
BEGIN:DAYLIGHT
TZOFFSETFROM:+0100
TZOFFSETTO:+0200
TZNAME:CEST
DTSTART:20240331T010000
END:DAYLIGHT
BEGIN:STANDARD
TZOFFSETFROM:+0200
TZOFFSETTO:+0100
TZNAME:CET
DTSTART:20241027T010000
END:STANDARD
BEGIN:DAYLIGHT
TZOFFSETFROM:+0100
TZOFFSETTO:+0200
TZNAME:CEST
DTSTART:20250330T010000
END:DAYLIGHT
BEGIN:STANDARD
TZOFFSETFROM:+0200
TZOFFSETTO:+0100
TZNAME:CET
DTSTART:20251026T010000
END:STANDARD
BEGIN:DAYLIGHT
TZOFFSETFROM:+0100
TZOFFSETTO:+0200
TZNAME:CEST
DTSTART:20260329T010000
END:DAYLIGHT
BEGIN:STANDARD
TZOFFSETFROM:+0200
TZOFFSETTO:+0100
TZNAME:CET
DTSTART:20261025T010000
END:STANDARD
END:VTIMEZONE
BEGIN:VEVENT
DTSTART;TZID=Europe/Berlin:20251128T200000
DTEND;TZID=Europe/Berlin:20251128T220000
DTSTAMP:20260421T122202
CREATED:20251121T092157Z
LAST-MODIFIED:20251121T092157Z
UID:15567-1764360000-1764367200@dortmund-kreativ.de
SUMMARY:Musikvideokino Vol. 9
DESCRIPTION:Musikvideokino verbindet zwei Leidenschaften\, die spätestens seit MTV nicht mehr zu trennen sind: \nMusik und Bewegtbild. Heutzutage oft hastig am Smartphone konsumiert\, will MusikVideoKino der Kunst eine neue Bühne schaffen. \nEinen neuen Ort\, an dem sich Film und Musik treffen\, einen Ort zum Kennenlernen und Netzwerken.\nMit Musikvideos von Bands und Künstler*innen von lokal bis international. Gefördert vom Kulturbüro Dortmund und dem V.U.T. \nEintritt frei – um Spende wird gebeten (5-10€)\nEinlass ab 19:30 Uhr
URL:https://dortmund-kreativ.de/event/musikvideokino-vol-9/
LOCATION:Roxy Lichtspielhaus\, Münsterstraße 95\, Dortmund\, 44145
CATEGORIES:Kreativwirtschaft,Medien,Musikwirtschaft,Netzwerk
ATTACH;FMTTYPE=image/png:https://dortmund-kreativ.de/wp-content/uploads/2025/11/b229489.png
END:VEVENT
END:VCALENDAR