BEGIN:VCALENDAR
VERSION:2.0
PRODID:-//Dortmund Kreativ - ECPv6.15.18//NONSGML v1.0//EN
CALSCALE:GREGORIAN
METHOD:PUBLISH
X-WR-CALNAME:Dortmund Kreativ
X-ORIGINAL-URL:https://dortmund-kreativ.de
X-WR-CALDESC:Veranstaltungen für Dortmund Kreativ
REFRESH-INTERVAL;VALUE=DURATION:PT1H
X-Robots-Tag:noindex
X-PUBLISHED-TTL:PT1H
BEGIN:VTIMEZONE
TZID:Europe/Berlin
BEGIN:DAYLIGHT
TZOFFSETFROM:+0100
TZOFFSETTO:+0200
TZNAME:CEST
DTSTART:20200329T010000
END:DAYLIGHT
BEGIN:STANDARD
TZOFFSETFROM:+0200
TZOFFSETTO:+0100
TZNAME:CET
DTSTART:20201025T010000
END:STANDARD
BEGIN:DAYLIGHT
TZOFFSETFROM:+0100
TZOFFSETTO:+0200
TZNAME:CEST
DTSTART:20210328T010000
END:DAYLIGHT
BEGIN:STANDARD
TZOFFSETFROM:+0200
TZOFFSETTO:+0100
TZNAME:CET
DTSTART:20211031T010000
END:STANDARD
BEGIN:DAYLIGHT
TZOFFSETFROM:+0100
TZOFFSETTO:+0200
TZNAME:CEST
DTSTART:20220327T010000
END:DAYLIGHT
BEGIN:STANDARD
TZOFFSETFROM:+0200
TZOFFSETTO:+0100
TZNAME:CET
DTSTART:20221030T010000
END:STANDARD
END:VTIMEZONE
BEGIN:VEVENT
DTSTART;TZID=Europe/Berlin:20211030T093000
DTEND;TZID=Europe/Berlin:20211030T160000
DTSTAMP:20260425T153746
CREATED:20210921T100957Z
LAST-MODIFIED:20210930T121822Z
UID:4346-1635586200-1635609600@dortmund-kreativ.de
SUMMARY:Netzwerktreffen der freien Szene Dortmund
DESCRIPTION:  \nThema: DIY: Zukunft Freie Szene Dortmund – Perspektiven Dortmunder Kulturentwicklung \nAuf der Grundlage einer breit angelegten Befragung Dortmunder Künstler*innen aller Sparten ist ein Bericht über die Situation der Freien Szene in Dortmund und die Förderpolitik der Stadt Dortmund entstanden\, der die Grundlage für das Netzwerktreffen ist. Hier besteht dann die Möglichkeit\, sich innerhalb der einzelnen Sparten (bild. Kunst / Musik / darst. Kunst/ Literatur / Video\, Film. Intermedia) auszutauschen und Vorschläge an die Kulturpolitik zu entwickeln. \nDarüber hinaus werden Workshops mit folgenden Themen angeboten: \n\nSichtbarkeit/Berichterstattung digital / analog / Kulturjournalismus: wie?\nBeteiligung der freien Szene und der Bürger in den Entscheidungsstrukturen / Weiterentwicklung des Beiratsmodells in Dortmund\nFreie künstlerische Arbeit: Existenzsicherung / Vereinbarkeit von Familie und (Kultur)arbeit\nDiversifizierung und künstlerischer Nachwuchs\nZukunft der Förderungstrukturen und -programme: wo und wie?\n\nBitte unbedingt hier anmelden! Anmeldeschluss ist der 24.10.2021 0:00 Uhr.
URL:https://dortmund-kreativ.de/event/netzwerktreffen-der-freien-szene-dortmund/
LOCATION:balou\, Oberdorfstr 23\, 44309 Dortmund
CATEGORIES:Bildende Kunst,Darstellende Kunst,Designwirtschaft,Filmwirtschaft,Fotografie,Kreativquartiere,Kreativwirtschaft,Kunstmarkt,Literatur,Musikwirtschaft,Netzwerk
END:VEVENT
END:VCALENDAR