BEGIN:VCALENDAR
VERSION:2.0
PRODID:-//Dortmund Kreativ - ECPv6.15.18//NONSGML v1.0//EN
CALSCALE:GREGORIAN
METHOD:PUBLISH
X-WR-CALNAME:Dortmund Kreativ
X-ORIGINAL-URL:https://dortmund-kreativ.de
X-WR-CALDESC:Veranstaltungen für Dortmund Kreativ
REFRESH-INTERVAL;VALUE=DURATION:PT1H
X-Robots-Tag:noindex
X-PUBLISHED-TTL:PT1H
BEGIN:VTIMEZONE
TZID:Europe/Berlin
BEGIN:DAYLIGHT
TZOFFSETFROM:+0100
TZOFFSETTO:+0200
TZNAME:CEST
DTSTART:20240331T010000
END:DAYLIGHT
BEGIN:STANDARD
TZOFFSETFROM:+0200
TZOFFSETTO:+0100
TZNAME:CET
DTSTART:20241027T010000
END:STANDARD
BEGIN:DAYLIGHT
TZOFFSETFROM:+0100
TZOFFSETTO:+0200
TZNAME:CEST
DTSTART:20250330T010000
END:DAYLIGHT
BEGIN:STANDARD
TZOFFSETFROM:+0200
TZOFFSETTO:+0100
TZNAME:CET
DTSTART:20251026T010000
END:STANDARD
BEGIN:DAYLIGHT
TZOFFSETFROM:+0100
TZOFFSETTO:+0200
TZNAME:CEST
DTSTART:20260329T010000
END:DAYLIGHT
BEGIN:STANDARD
TZOFFSETFROM:+0200
TZOFFSETTO:+0100
TZNAME:CET
DTSTART:20261025T010000
END:STANDARD
END:VTIMEZONE
BEGIN:VEVENT
DTSTART;VALUE=DATE:20251113
DTEND;VALUE=DATE:20251117
DTSTAMP:20260421T225401
CREATED:20250924T121105Z
LAST-MODIFIED:20250924T121259Z
UID:15234-1762992000-1763337599@dortmund-kreativ.de
SUMMARY:NEXT LEVEL 2025
DESCRIPTION:Festival für Games\, interaktive Kunst und digitales Theater\n\n  \nDas NEXT LEVEL Festival in Dortmund ist ein Ort für alle\, die Games und digitale Künste aus einem neuen Blickwinkel erleben wollen. Es geht darum\, wie Spiele zum kreativen Ausdruck werden\, Ideen ins Rollen bringen und Gespräche über unsere digitale Gegenwart eröffnen. \nDas Programm verbindet Ausstellungen\, Performances\, Talks und Workshops zu einer vielseitigen Mischung\, die Lust macht\, einzutauchen und mitzugestalten. Internationale Künstlerinnen treffen auf regionale Positionen und lokale Initiativen\, Besucherinnen werden selbst zu Entdecker*innen. Statt fertige Antworten zu liefern\, lädt das Festival dazu ein\, Fragen zu stellen\, Perspektiven zu wechseln und gemeinsam digitale Kultur lebendig zu machen. Für ein paar Tage verwandelt sich Dortmund in einen Treffpunkt für alle\, die sich von der Energie des Spielerischen inspirieren lassen möchten. \nTRANSmission lautet das Festivalthema des NEXT LEVEL in Dortmund. Es lenkt den Blick auf die Übergänge\, die digitale Spiele sichtbar und erlebbar machen. Transmission bedeutet Übersetzung\, Weitergabe\, Umwandlung\, alles Prozesse\, die unsere digitale Gegenwart prägen. Das Festival fragt\, wie Games als Medium diese Prozesse spiegeln und neu interpretieren: als Schnittstelle zwischen Körper und Avatar\, als Brücke zwischen Kulturen oder als Motor technologischer Innovation. Künstlerische Arbeiten\, Installationen und Diskussionsformate greifen das Thema auf und eröffnen Zugänge zu drängenden Fragen unserer Zeit. Wie verändern sich Wahrnehmung\, Kommunikation und Gemeinschaft im digitalen Raum. Welche neuen Möglichkeiten entstehen\, wenn wir das Spielerische als Werkzeug des Austauschs verstehen. Mit TRANSmission setzt das Festival einen Rahmen\, in dem digitale Spiele als kulturelle Praxis greifbar werden\, die Übergänge nicht nur beschreibt\, sondern selbst gestaltet. \nGetragen vom Theater Dortmund und seiner Akademie für Theater und Digitalität\, bietet das Festival ein stark vernetztes\, technisch versiertes und interdisziplinär ausgerichtetes Umfeld. Darüber hinaus sind zahlreiche weitere richtungsweisende Institutionen der digitalen Künste und Innovation als Spielorte eingebunden\, darunter die Digitale Werkbank\, das Dortmunder U oder das Künstlerhaus Dortmund. \nDas Projekt ist gefördert durch das Programm Neue Künste Ruhr im Ministerium für Kunst und Wissenschaft des Landes Nordrhein-Westfalen\, dem KULTURsekretariat NRW und der Stadt Dortmund. \nWeitere Infos
URL:https://dortmund-kreativ.de/event/next-level-2025/
LOCATION:Diverse Orte
CATEGORIES:Ausstellung,Bildende Kunst,Digitalisierung,Kreativwirtschaft,Kunstmarkt,Medien,Netzwerk,Software/Games,Urbanität
END:VEVENT
END:VCALENDAR