BEGIN:VCALENDAR
VERSION:2.0
PRODID:-//Dortmund Kreativ - ECPv6.15.18//NONSGML v1.0//EN
CALSCALE:GREGORIAN
METHOD:PUBLISH
X-WR-CALNAME:Dortmund Kreativ
X-ORIGINAL-URL:https://dortmund-kreativ.de
X-WR-CALDESC:Veranstaltungen für Dortmund Kreativ
REFRESH-INTERVAL;VALUE=DURATION:PT1H
X-Robots-Tag:noindex
X-PUBLISHED-TTL:PT1H
BEGIN:VTIMEZONE
TZID:Europe/Berlin
BEGIN:DAYLIGHT
TZOFFSETFROM:+0100
TZOFFSETTO:+0200
TZNAME:CEST
DTSTART:20250330T010000
END:DAYLIGHT
BEGIN:STANDARD
TZOFFSETFROM:+0200
TZOFFSETTO:+0100
TZNAME:CET
DTSTART:20251026T010000
END:STANDARD
BEGIN:DAYLIGHT
TZOFFSETFROM:+0100
TZOFFSETTO:+0200
TZNAME:CEST
DTSTART:20260329T010000
END:DAYLIGHT
BEGIN:STANDARD
TZOFFSETFROM:+0200
TZOFFSETTO:+0100
TZNAME:CET
DTSTART:20261025T010000
END:STANDARD
BEGIN:DAYLIGHT
TZOFFSETFROM:+0100
TZOFFSETTO:+0200
TZNAME:CEST
DTSTART:20270328T010000
END:DAYLIGHT
BEGIN:STANDARD
TZOFFSETFROM:+0200
TZOFFSETTO:+0100
TZNAME:CET
DTSTART:20271031T010000
END:STANDARD
END:VTIMEZONE
BEGIN:VEVENT
DTSTART;TZID=Europe/Berlin:20260324T100000
DTEND;TZID=Europe/Berlin:20260324T140000
DTSTAMP:20260425T173239
CREATED:20251209T101609Z
LAST-MODIFIED:20260121T105808Z
UID:15804-1774346400-1774360800@dortmund-kreativ.de
SUMMARY:Öffentlichkeitsarbeit für Kreative (Qualiprogramm 2026)
DESCRIPTION:Die eigene künstlerische Arbeit an die Öffentlichkeit zu bringen\, stellt für viele Kreative eine Herausforderung dar. Doch worauf kommt es hierbei wirklich an? Und wie kann die eigene Arbeit treffend beschrieben werden? \nDer Workshop erörtert praxisnah verschiedene Textformate – von Ausstellungstexten bis hin zu Pressetexten. \nExemplarisch werden dabei auch Strategien zur wirksamen Öffentlichkeitsarbeit und zur Platzierung der eigenen künstlerischen Position entwickelt.\n\nZiel ist es\, die Teilnehmenden in die Lage zu versetzen\, ihre künstlerische Arbeit klar und selbstbewusst zu artikulieren\, um sie gegenüber einer breiten Öffentlichkeit überzeugend zu vertreten. \nReferentin: Ann-Charlotte Günzel | PR-Beraterin für Künstler*innen und Kulturinstitutionen \n\nANMELDUNG: \nEine verbindliche Anmeldung unter hallo@dortmund-kreativ.de ist aus organisatorischen Gründen zwingend erforderlich\, da es jeweils nur eine begrenzte Anzahl von Teilnehmerplätze gibt.\nBitte gebt bei der Anmeldung das Thema und das Datum der Veranstaltung sowie Eure Teilbranche (z.B. Fotografie\, Design\, Architektur) an. \nBei Fragen wendet Euch gerne an Jan Wittkamp (jwittkamp@stadtdo.de // 0231/50-22060).
URL:https://dortmund-kreativ.de/event/oeffentlichkeitsarbeit-fuer-kreative-qualiprogramm-2026/
LOCATION:SUPERRAUM\, Brückstraße 64\, Dortmund\, 44135\, Deutschland
CATEGORIES:DORTMUND KREATIV,Kreativwirtschaft,Netzwerk,Qualifizierung,SUPERRAUM,Zukunft
ORGANIZER;CN="DORTMUND KREATIV":MAILTO:hallo@dortmund-kreativ.de
END:VEVENT
END:VCALENDAR