BEGIN:VCALENDAR
VERSION:2.0
PRODID:-//Dortmund Kreativ - ECPv6.15.18//NONSGML v1.0//EN
CALSCALE:GREGORIAN
METHOD:PUBLISH
X-WR-CALNAME:Dortmund Kreativ
X-ORIGINAL-URL:https://dortmund-kreativ.de
X-WR-CALDESC:Veranstaltungen für Dortmund Kreativ
REFRESH-INTERVAL;VALUE=DURATION:PT1H
X-Robots-Tag:noindex
X-PUBLISHED-TTL:PT1H
BEGIN:VTIMEZONE
TZID:Europe/Berlin
BEGIN:DAYLIGHT
TZOFFSETFROM:+0100
TZOFFSETTO:+0200
TZNAME:CEST
DTSTART:20230326T010000
END:DAYLIGHT
BEGIN:STANDARD
TZOFFSETFROM:+0200
TZOFFSETTO:+0100
TZNAME:CET
DTSTART:20231029T010000
END:STANDARD
BEGIN:DAYLIGHT
TZOFFSETFROM:+0100
TZOFFSETTO:+0200
TZNAME:CEST
DTSTART:20240331T010000
END:DAYLIGHT
BEGIN:STANDARD
TZOFFSETFROM:+0200
TZOFFSETTO:+0100
TZNAME:CET
DTSTART:20241027T010000
END:STANDARD
BEGIN:DAYLIGHT
TZOFFSETFROM:+0100
TZOFFSETTO:+0200
TZNAME:CEST
DTSTART:20250330T010000
END:DAYLIGHT
BEGIN:STANDARD
TZOFFSETFROM:+0200
TZOFFSETTO:+0100
TZNAME:CET
DTSTART:20251026T010000
END:STANDARD
END:VTIMEZONE
BEGIN:VEVENT
DTSTART;TZID=Europe/Berlin:20241006T110000
DTEND;TZID=Europe/Berlin:20241006T180000
DTSTAMP:20260423T001931
CREATED:20240826T154024Z
LAST-MODIFIED:20240826T154024Z
UID:10000556-1728212400-1728237600@dortmund-kreativ.de
SUMMARY:OFFENE ATELIERS DORTMUND - Östlich der B54
DESCRIPTION:Auch dieses Jahr werden die Offenen Ateliers Dortmund 2024 erneut an zwei Wochenenden stattfinden\, um dem kunstinteressierten Publikum die Möglichkeit zu geben\, möglichst viele Ateliers und Galerien zu besuchen. Außerdem können so auch die teilnehmenden Künstlerinnen und Künstler an ihrem jeweiligen „freien“ Wochenende an der Veranstaltung die geöffneten Ateliers besuchen. \nDafür wurde der Dortmunder Stadtbereich in die beiden Bereiche Ost und West aufgeteilt\, als Grenzlinie dient dabei die Bundesstraße B54. \nTERMINE DER OFFENEN ATELIERS 2024 \n1. Wochenende – Östlich der B54: 05./06. Oktober 2024\n2. Wochenende – Westlich der B54: 12./13. Oktober 2024 \nÖFFNUNGSZEITEN \nsamstags 15 – 20 Uhr\nsonntags 11 – 18 Uhr \nWeitere Infos
URL:https://dortmund-kreativ.de/event/offene-ateliers-dortmund-oestlich-der-b54/2024-10-06/
CATEGORIES:Ausstellung,Bildende Kunst,Kreativwirtschaft,Kunstmarkt,Nachtkultur,Netzwerk,Urbane Kunst,Urbanität
END:VEVENT
END:VCALENDAR