BEGIN:VCALENDAR
VERSION:2.0
PRODID:-//Dortmund Kreativ - ECPv6.15.18//NONSGML v1.0//EN
CALSCALE:GREGORIAN
METHOD:PUBLISH
X-WR-CALNAME:Dortmund Kreativ
X-ORIGINAL-URL:https://dortmund-kreativ.de
X-WR-CALDESC:Veranstaltungen für Dortmund Kreativ
REFRESH-INTERVAL;VALUE=DURATION:PT1H
X-Robots-Tag:noindex
X-PUBLISHED-TTL:PT1H
BEGIN:VTIMEZONE
TZID:Europe/Berlin
BEGIN:DAYLIGHT
TZOFFSETFROM:+0100
TZOFFSETTO:+0200
TZNAME:CEST
DTSTART:20220327T010000
END:DAYLIGHT
BEGIN:STANDARD
TZOFFSETFROM:+0200
TZOFFSETTO:+0100
TZNAME:CET
DTSTART:20221030T010000
END:STANDARD
BEGIN:DAYLIGHT
TZOFFSETFROM:+0100
TZOFFSETTO:+0200
TZNAME:CEST
DTSTART:20230326T010000
END:DAYLIGHT
BEGIN:STANDARD
TZOFFSETFROM:+0200
TZOFFSETTO:+0100
TZNAME:CET
DTSTART:20231029T010000
END:STANDARD
BEGIN:DAYLIGHT
TZOFFSETFROM:+0100
TZOFFSETTO:+0200
TZNAME:CEST
DTSTART:20240331T010000
END:DAYLIGHT
BEGIN:STANDARD
TZOFFSETFROM:+0200
TZOFFSETTO:+0100
TZNAME:CET
DTSTART:20241027T010000
END:STANDARD
END:VTIMEZONE
BEGIN:VEVENT
DTSTART;TZID=Europe/Berlin:20230301T160000
DTEND;TZID=Europe/Berlin:20230301T180000
DTSTAMP:20260424T184334
CREATED:20230224T090639Z
LAST-MODIFIED:20230224T090748Z
UID:7922-1677686400-1677693600@dortmund-kreativ.de
SUMMARY:Online-Seminar "Das Tagesgeschäft professionell gestalten"
DESCRIPTION:Das STARTERCENTER NRW Westfälisches Ruhrgebiet bietet ein kostenfreies Online-Seminar an: \nIn diesem Seminar geht es um das Schreiben von Angeboten\, Rechnungen\, Quittungen und Mahnungen. Es werden Informationen zu Verträgen und Vertragstypen gegeben. Erklärt wird auch die sinnvolle Ablage geschäftlicher Unterlagen und es wird Grundsätzliches zur Buchführungspflicht und Meldepflichten gegenüber dem Finanzamt aufgezeigt. \nReferentin für dieses Seminar ist Alexa Jünkering. Frau Jünkering ist betriebswirtschaftliche Beraterin und Dozentin für Soloselbstständige\, freie Berufe\, Gründer\, Kooperation und kleine Unternehmen. \nEingesetzt wird das Konferenztool Zoom. Ein Link wird den Teilnehmer*innen vor dem Seminar zugeschickt. \nDie Zugangsdaten werden 1 – 2 Tage vor der Veranstaltung mitgeteilt. \nDas Seminar ist kostenfrei. \nAnmeldungen bitte an startercenter@wirtschaftsfoerderung-dortmund.de
URL:https://dortmund-kreativ.de/event/online-seminar-das-tagesgeschaeft-professionell-gestalten/
LOCATION:Online
END:VEVENT
END:VCALENDAR