BEGIN:VCALENDAR
VERSION:2.0
PRODID:-//Dortmund Kreativ - ECPv6.15.18//NONSGML v1.0//EN
CALSCALE:GREGORIAN
METHOD:PUBLISH
X-WR-CALNAME:Dortmund Kreativ
X-ORIGINAL-URL:https://dortmund-kreativ.de
X-WR-CALDESC:Veranstaltungen für Dortmund Kreativ
REFRESH-INTERVAL;VALUE=DURATION:PT1H
X-Robots-Tag:noindex
X-PUBLISHED-TTL:PT1H
BEGIN:VTIMEZONE
TZID:Europe/Berlin
BEGIN:DAYLIGHT
TZOFFSETFROM:+0100
TZOFFSETTO:+0200
TZNAME:CEST
DTSTART:20250330T010000
END:DAYLIGHT
BEGIN:STANDARD
TZOFFSETFROM:+0200
TZOFFSETTO:+0100
TZNAME:CET
DTSTART:20251026T010000
END:STANDARD
BEGIN:DAYLIGHT
TZOFFSETFROM:+0100
TZOFFSETTO:+0200
TZNAME:CEST
DTSTART:20260329T010000
END:DAYLIGHT
BEGIN:STANDARD
TZOFFSETFROM:+0200
TZOFFSETTO:+0100
TZNAME:CET
DTSTART:20261025T010000
END:STANDARD
BEGIN:DAYLIGHT
TZOFFSETFROM:+0100
TZOFFSETTO:+0200
TZNAME:CEST
DTSTART:20270328T010000
END:DAYLIGHT
BEGIN:STANDARD
TZOFFSETFROM:+0200
TZOFFSETTO:+0100
TZNAME:CET
DTSTART:20271031T010000
END:STANDARD
END:VTIMEZONE
BEGIN:VEVENT
DTSTART;TZID=Europe/Berlin:20260708T100000
DTEND;TZID=Europe/Berlin:20260708T160000
DTSTAMP:20260426T013549
CREATED:20251209T110244Z
LAST-MODIFIED:20260121T110010Z
UID:15828-1783504800-1783526400@dortmund-kreativ.de
SUMMARY:Orientierung in der Start- und Aufbauphase (Qualiprogramm 2026)
DESCRIPTION:Dieser Workshop richtet sich an Kreative\, die entweder eine erste Idee für Ihre Selbstständigkeit haben\, schon mitten in der Gründung stehen oder bereits am Markt gestartet sind.\nErste Schritte\, Profilschärfung\, Minipitch – eine Mischung aus Business Angel\, Coaching und Praxisübung. Ob Neustarter oder bereits im Rennen\, oftmals stehen offene Fragen und Herausforderungen im Raum. \n\nWas mache ich und wo will ich hin?\nWorauf kommt es an?\nWie präsentiere ich mein Businessmodell und wie bringe ich meine Idee auf den Punkt?\nWelche Kontakte und Netzwerke helfen mir weiter\, in welchen Bereichen ist Unterstützung durch Dritte sinnvoll?\nWie kann ich Schwachstellen begrenzen oder beseitigen?\nWie baue ich meine Stärken aus?\n\nDie Themenauswahl wird individuell auf den Kreis der Teilnehmer zugeschnitten\, praxisnah diskutiert und mögliche Antworten und Lösungen gemeinsam erarbeitet. \n**Max. 12 Personen** \nReferent: Sascha Hoffmann | Geschäftsführer DIE 4MA und Berater \n  \n\nANMELDUNG: \nEine verbindliche Anmeldung unter hallo@dortmund-kreativ.de ist aus organisatorischen Gründen zwingend erforderlich\, da es jeweils nur eine begrenzte Anzahl von Teilnehmerplätze gibt.\nBitte gebt bei der Anmeldung das Thema und das Datum der Veranstaltung sowie Eure Teilbranche (z.B. Fotografie\, Design\, Architektur) an. \nBei Fragen wendet Euch gerne an Jan Wittkamp (jwittkamp@stadtdo.de // 0231/50-22060).
URL:https://dortmund-kreativ.de/event/orientierung-in-der-start-und-aufbauphase-qualiprogramm-2026/
LOCATION:SUPERRAUM\, Brückstraße 64\, Dortmund\, 44135\, Deutschland
CATEGORIES:DORTMUND KREATIV,Gründung,Kreativwirtschaft,Netzwerk,Qualifizierung,SUPERRAUM,Zukunft
ORGANIZER;CN="DORTMUND KREATIV":MAILTO:hallo@dortmund-kreativ.de
END:VEVENT
END:VCALENDAR