BEGIN:VCALENDAR
VERSION:2.0
PRODID:-//Dortmund Kreativ - ECPv6.15.18//NONSGML v1.0//EN
CALSCALE:GREGORIAN
METHOD:PUBLISH
X-WR-CALNAME:Dortmund Kreativ
X-ORIGINAL-URL:https://dortmund-kreativ.de
X-WR-CALDESC:Veranstaltungen für Dortmund Kreativ
REFRESH-INTERVAL;VALUE=DURATION:PT1H
X-Robots-Tag:noindex
X-PUBLISHED-TTL:PT1H
BEGIN:VTIMEZONE
TZID:Europe/Berlin
BEGIN:DAYLIGHT
TZOFFSETFROM:+0100
TZOFFSETTO:+0200
TZNAME:CEST
DTSTART:20240331T010000
END:DAYLIGHT
BEGIN:STANDARD
TZOFFSETFROM:+0200
TZOFFSETTO:+0100
TZNAME:CET
DTSTART:20241027T010000
END:STANDARD
BEGIN:DAYLIGHT
TZOFFSETFROM:+0100
TZOFFSETTO:+0200
TZNAME:CEST
DTSTART:20250330T010000
END:DAYLIGHT
BEGIN:STANDARD
TZOFFSETFROM:+0200
TZOFFSETTO:+0100
TZNAME:CET
DTSTART:20251026T010000
END:STANDARD
BEGIN:DAYLIGHT
TZOFFSETFROM:+0100
TZOFFSETTO:+0200
TZNAME:CEST
DTSTART:20260329T010000
END:DAYLIGHT
BEGIN:STANDARD
TZOFFSETFROM:+0200
TZOFFSETTO:+0100
TZNAME:CET
DTSTART:20261025T010000
END:STANDARD
END:VTIMEZONE
BEGIN:VEVENT
DTSTART;TZID=Europe/Berlin:20250621T170000
DTEND;TZID=Europe/Berlin:20250621T190000
DTSTAMP:20260422T045718
CREATED:20250526T122832Z
LAST-MODIFIED:20250526T122832Z
UID:14563-1750525200-1750532400@dortmund-kreativ.de
SUMMARY:Paneltalk: Clubkultur gestalten – Kollektive zwischen Subkultur & Stadtpolitik | DORTMUND URBAN
DESCRIPTION:Wir sprechen mit jungen\, offenen Party- und Kulturkollektiven\, die aktiv zur kulturellen Vielfalt der Stadt beitragen. Wie sieht selbstorganisierte Clubkultur heute aus – jenseits klassischer Strukturen?\nWie beeinflussen diese Kollektive den urbanen Raum\, und welche Herausforderungen erleben sie im Spannungsfeld zwischen Freiraum und Verwaltung\, Sichtbarkeit und Repression? \nSchwerpunkte: \n\nUnabhängige Clubkultur als Teil der Stadtgestaltung\nRaumaneignung\, Selbstorganisation\, Zugänglichkeit & Awareness\nStadtpolitik\, Auflagen & urbane Kulturentwicklung\n\n\nPANELREIHE „STADT ALS SPIELRAUM – SUBKULTUR & SELBSTORGANISATION“\nDortmund Urban Festival | 19.–21. Juni 2025 \nDrei Tage – drei Talks – ein gemeinsames Anliegen: Wir schaffen Raum für Diskurs über urbane Subkulturen\, Jugendkultur\, kollektive Organisierung und selbstverwaltete Orte. Die Panelreihe „Stadt als Spielraum“ macht sichtbar\, wie junge Kollektive\, Skater:innen und selbstorganisierte Räume die Stadt mitgestalten\, und stellt Fragen nach Teilhabe\, Zugang\, Visionen und Verantwortung. \nZiel ist es\, Stimmen aus der Szene selbst zu Wort kommen zu lassen\, praktische Perspektiven mit theoretischen Ansätzen zu verbinden und eine Plattform für Austausch und Vernetzung zu bieten. \n 
URL:https://dortmund-kreativ.de/event/paneltalk-clubkultur-gestalten-kollektive-zwischen-subkultur-stadtpolitik-dortmund-urban/
LOCATION:Bühne 4 | Kampstraße | DORTMUND URBAN\, Kampstraße\, Dortmund\, 44135
CATEGORIES:DORTMUND URBAN
ORGANIZER;CN="DORTMUND KREATIV":MAILTO:hallo@dortmund-kreativ.de
END:VEVENT
END:VCALENDAR