BEGIN:VCALENDAR
VERSION:2.0
PRODID:-//Dortmund Kreativ - ECPv6.15.18//NONSGML v1.0//EN
CALSCALE:GREGORIAN
METHOD:PUBLISH
X-WR-CALNAME:Dortmund Kreativ
X-ORIGINAL-URL:https://dortmund-kreativ.de
X-WR-CALDESC:Veranstaltungen für Dortmund Kreativ
REFRESH-INTERVAL;VALUE=DURATION:PT1H
X-Robots-Tag:noindex
X-PUBLISHED-TTL:PT1H
BEGIN:VTIMEZONE
TZID:Europe/Berlin
BEGIN:DAYLIGHT
TZOFFSETFROM:+0100
TZOFFSETTO:+0200
TZNAME:CEST
DTSTART:20240331T010000
END:DAYLIGHT
BEGIN:STANDARD
TZOFFSETFROM:+0200
TZOFFSETTO:+0100
TZNAME:CET
DTSTART:20241027T010000
END:STANDARD
BEGIN:DAYLIGHT
TZOFFSETFROM:+0100
TZOFFSETTO:+0200
TZNAME:CEST
DTSTART:20250330T010000
END:DAYLIGHT
BEGIN:STANDARD
TZOFFSETFROM:+0200
TZOFFSETTO:+0100
TZNAME:CET
DTSTART:20251026T010000
END:STANDARD
BEGIN:DAYLIGHT
TZOFFSETFROM:+0100
TZOFFSETTO:+0200
TZNAME:CEST
DTSTART:20260329T010000
END:DAYLIGHT
BEGIN:STANDARD
TZOFFSETFROM:+0200
TZOFFSETTO:+0100
TZNAME:CET
DTSTART:20261025T010000
END:STANDARD
END:VTIMEZONE
BEGIN:VEVENT
DTSTART;TZID=Europe/Berlin:20251118T200000
DTEND;TZID=Europe/Berlin:20251118T220000
DTSTAMP:20260421T122213
CREATED:20251103T170800Z
LAST-MODIFIED:20251103T170800Z
UID:15457-1763496000-1763503200@dortmund-kreativ.de
SUMMARY:Parzelle im Depot: KLEIN & OHLMEIER (NL/D)
DESCRIPTION:Seit den 1990er Jahren kreuzen sich die Wege von Lothar Ohlmeier und Tobias Klein in unterschiedlichsten Formationen\, doch erst 2023 begannen sie\, als Duo zusammen zu arbeiten. Ihr Album „Left side right“ (2023) fängt ihre zutiefst persönliche und intuitive Erkundung dieses Formats ein. \n„Schon von den ersten Tönen an… wird der Zuhörer in eine wundersame Klangwelt hineingezogen… ihre Virtuosität zeigt sich vor allem in ihrem Zuhören\, das zu diesen großartigen Zusammenklängen führt.“ – Herman te Loo\, Jazzflits \nDer in Berlin lebende Holzbläser Lothar Ohlmeier arbeitete mit Musiker*innen wie Tom Arthurs\, Jorrit Dijkstra\, Benoît Delbecq\, Jim Black\, Ingrid Laubrock und Jaap Blonk. Er wird für seine außergewöhnliche Klangbeherrschung\, virtuose Phrasierung und Vielseitigkeit geschätzt – von zeitgenössischer klassischer Musik bis hin zu Jazz und freier Improvisation. \nDer in Amsterdam ansässige Holzbläser und Komponist Tobias Klein verbindet die rhythmische und melodische Vielschichtigkeit zeitgenössischer Komposition mit zyklischen Techniken\, die von südasiatischen\, nahöstlichen und westafrikanischen Traditionen inspiriert sind. Er ist künstlerischer Leiter des Ensembles Spinifex und spielt zusammen mit Ohlmeier im Quartett Dalgoo. \nEintritt: 15\,- € / 10\,- € ermäßigt / U20 Eintritt frei\, Abendkasse \nKartenvorbestellungen: per Mail an info@parzelledortmund.de\, oder unter der Rufnummer 0231/ 8822001 \nGefördert durch das Kulturbüro der Stadt Dortmund\, ermöglicht durch den Programmpreis APPLAUS und die Spielstättenprogrammprämie NRW. \nWeitere Infos
URL:https://dortmund-kreativ.de/event/parzelle-im-depot-klein-ohlmeier-nl-d/
LOCATION:Depot\, Immermannstraße 29\, Dortmund\, 44147
CATEGORIES:Konzert,Musikwirtschaft,Netzwerk
END:VEVENT
END:VCALENDAR