BEGIN:VCALENDAR
VERSION:2.0
PRODID:-//Dortmund Kreativ - ECPv6.15.18//NONSGML v1.0//EN
CALSCALE:GREGORIAN
METHOD:PUBLISH
X-WR-CALNAME:Dortmund Kreativ
X-ORIGINAL-URL:https://dortmund-kreativ.de
X-WR-CALDESC:Veranstaltungen für Dortmund Kreativ
REFRESH-INTERVAL;VALUE=DURATION:PT1H
X-Robots-Tag:noindex
X-PUBLISHED-TTL:PT1H
BEGIN:VTIMEZONE
TZID:Europe/Berlin
BEGIN:DAYLIGHT
TZOFFSETFROM:+0100
TZOFFSETTO:+0200
TZNAME:CEST
DTSTART:20190331T010000
END:DAYLIGHT
BEGIN:STANDARD
TZOFFSETFROM:+0200
TZOFFSETTO:+0100
TZNAME:CET
DTSTART:20191027T010000
END:STANDARD
BEGIN:DAYLIGHT
TZOFFSETFROM:+0100
TZOFFSETTO:+0200
TZNAME:CEST
DTSTART:20200329T010000
END:DAYLIGHT
BEGIN:STANDARD
TZOFFSETFROM:+0200
TZOFFSETTO:+0100
TZNAME:CET
DTSTART:20201025T010000
END:STANDARD
BEGIN:DAYLIGHT
TZOFFSETFROM:+0100
TZOFFSETTO:+0200
TZNAME:CEST
DTSTART:20210328T010000
END:DAYLIGHT
BEGIN:STANDARD
TZOFFSETFROM:+0200
TZOFFSETTO:+0100
TZNAME:CET
DTSTART:20211031T010000
END:STANDARD
END:VTIMEZONE
BEGIN:VEVENT
DTSTART;TZID=Europe/Berlin:20201118T200000
DTEND;TZID=Europe/Berlin:20201118T223000
DTSTAMP:20260426T044802
CREATED:20200915T073845Z
LAST-MODIFIED:20200915T080353Z
UID:10000045-1605729600-1605738600@dortmund-kreativ.de
SUMMARY:Poetry Jam mit Christofer mit F
DESCRIPTION:  \nBeginn 20:00 Uhr\, Einlass ab 19:00 Uhr\nRoto-Theater\, Gneisenaustraße 30\, 44147 Dortmund\nEintritt: frei! \nWeitere Termine am 21.10.\, 18.11. und 16.12.2020 \nDie bereits 1996 gestartete und damit vielleicht älteste offene Lesebühne des Ruhrgebiets\, der Poetry Jam im Subrosa\, kehrt aus der pandemie-bedingten Zwangspause zurück – allerdings nicht an seine alte Wirkungsstätte. \nDie Hygieneschutzmaßnahmen lassen sich in der Hafenschänke für ein größeres Publikum nicht umsetzen. Darum geht es mit der Veranstaltungsreihe am 16.09.2020 wenige Meter entfernt im Roto-Theater weiter. \nAn jedem dritten Mittwoch im Monat lassen sich dort zarte Neulinge und alte Hasen auf der Bühne bestaunen – mit bittersüßer Hinterhoflyrik\, bierseligen Anekdoten\, skurrilen Kurzgeschichten\, tiefgründigen Meditationen\, geiferndem Wahnsinn und allem\, was die deutsche oder irgendeine andere Sprache sonst noch hergibt. \nAnmeldungen (mit Adresse und Telefonnummer) unter rototheater@rototheater.de. Maske bitte nicht vergessen! \nWeitere Infos zum Poetry Jam mit Christofer mit F
URL:https://dortmund-kreativ.de/event/poetry-jam-mit-christofer-mit-f/2020-11-18/
LOCATION:Roto-Theater\, Gneisenaustraße 30\, Dortmund\, 44147\, Deutschland
CATEGORIES:Buchmarkt,Kreativquartiere,Kreativwirtschaft
END:VEVENT
END:VCALENDAR