BEGIN:VCALENDAR
VERSION:2.0
PRODID:-//Dortmund Kreativ - ECPv6.15.18//NONSGML v1.0//EN
CALSCALE:GREGORIAN
METHOD:PUBLISH
X-WR-CALNAME:Dortmund Kreativ
X-ORIGINAL-URL:https://dortmund-kreativ.de
X-WR-CALDESC:Veranstaltungen für Dortmund Kreativ
REFRESH-INTERVAL;VALUE=DURATION:PT1H
X-Robots-Tag:noindex
X-PUBLISHED-TTL:PT1H
BEGIN:VTIMEZONE
TZID:Europe/Berlin
BEGIN:DAYLIGHT
TZOFFSETFROM:+0100
TZOFFSETTO:+0200
TZNAME:CEST
DTSTART:20230326T010000
END:DAYLIGHT
BEGIN:STANDARD
TZOFFSETFROM:+0200
TZOFFSETTO:+0100
TZNAME:CET
DTSTART:20231029T010000
END:STANDARD
BEGIN:DAYLIGHT
TZOFFSETFROM:+0100
TZOFFSETTO:+0200
TZNAME:CEST
DTSTART:20240331T010000
END:DAYLIGHT
BEGIN:STANDARD
TZOFFSETFROM:+0200
TZOFFSETTO:+0100
TZNAME:CET
DTSTART:20241027T010000
END:STANDARD
BEGIN:DAYLIGHT
TZOFFSETFROM:+0100
TZOFFSETTO:+0200
TZNAME:CEST
DTSTART:20250330T010000
END:DAYLIGHT
BEGIN:STANDARD
TZOFFSETFROM:+0200
TZOFFSETTO:+0100
TZNAME:CET
DTSTART:20251026T010000
END:STANDARD
END:VTIMEZONE
BEGIN:VEVENT
DTSTART;TZID=Europe/Berlin:20240925T160000
DTEND;TZID=Europe/Berlin:20240925T220000
DTSTAMP:20260423T024901
CREATED:20240923T122609Z
LAST-MODIFIED:20240923T122609Z
UID:12491-1727280000-1727301600@dortmund-kreativ.de
SUMMARY:ruhrSTARTUPWEEK 2024: NUWØRK SPACE
DESCRIPTION:NUWØRK SPACE lädt zum (Spät)Sommerfest und Founders-Pop-up-Markt im Rahmen der ruhrSTARTUPWEEK 2024\nInnovatives Unternehmertum trifft auf lokale Netzwerke – Ein Event für Gründer:innen\, Unternehmen und die Community \nAm 25. September wird der NUWØRK SPACE in der Dortmunder Innenstadt zu einem lebendigen Treffpunkt für innovative Köpfe und kreativen Austausch. Im Rahmen der diesjährigen ruhrSTARTUPWEEK lädt der Coworking- und Event-Space zu einem besonderen Event:\ndem (Spät)Sommerfest mit Founders-Pop-up-Markt und Networking. Von 16:00 bis 18:00 Uhr kommen lokale Start-ups\, Unternehmer*innen und Gründungsinteressierte in entspannter Atmosphäre zusammen\, um sich zu vernetzen\, neue Ideen zu entdecken und gemeinsam die lebendige Gründerszene des Ruhrgebiets zu feiern.\nDas erwartet die Gäste: \nAnmeldung und Teilnahme\nDie Teilnahme am (Spät)Sommerfest ist kostenlos\, jedoch ist eine Anmeldung erwünscht\, um die Planung und Organisation zu erleichtern.\nFür die Lesung und Weinverkostung im Anschluss können Tickets über die Website des NUWØRK SPACE erworben werden.
URL:https://dortmund-kreativ.de/event/ruhrstartupweek-2024-nuwork-space/
LOCATION:NUWØRK SPACE\, Plauener Str. 21 (Hinterhof)\, Dortmund\, 44139
CATEGORIES:Kreativwirtschaft
ATTACH;FMTTYPE=image/jpeg:https://dortmund-kreativ.de/wp-content/uploads/2024/09/Colourful-Modern-Summer-Party-Instagram-Post.jpg
END:VEVENT
END:VCALENDAR