BEGIN:VCALENDAR
VERSION:2.0
PRODID:-//Dortmund Kreativ - ECPv6.15.18//NONSGML v1.0//EN
CALSCALE:GREGORIAN
METHOD:PUBLISH
X-WR-CALNAME:Dortmund Kreativ
X-ORIGINAL-URL:https://dortmund-kreativ.de
X-WR-CALDESC:Veranstaltungen für Dortmund Kreativ
REFRESH-INTERVAL;VALUE=DURATION:PT1H
X-Robots-Tag:noindex
X-PUBLISHED-TTL:PT1H
BEGIN:VTIMEZONE
TZID:Europe/Berlin
BEGIN:DAYLIGHT
TZOFFSETFROM:+0100
TZOFFSETTO:+0200
TZNAME:CEST
DTSTART:20240331T010000
END:DAYLIGHT
BEGIN:STANDARD
TZOFFSETFROM:+0200
TZOFFSETTO:+0100
TZNAME:CET
DTSTART:20241027T010000
END:STANDARD
BEGIN:DAYLIGHT
TZOFFSETFROM:+0100
TZOFFSETTO:+0200
TZNAME:CEST
DTSTART:20250330T010000
END:DAYLIGHT
BEGIN:STANDARD
TZOFFSETFROM:+0200
TZOFFSETTO:+0100
TZNAME:CET
DTSTART:20251026T010000
END:STANDARD
BEGIN:DAYLIGHT
TZOFFSETFROM:+0100
TZOFFSETTO:+0200
TZNAME:CEST
DTSTART:20260329T010000
END:DAYLIGHT
BEGIN:STANDARD
TZOFFSETFROM:+0200
TZOFFSETTO:+0100
TZNAME:CET
DTSTART:20261025T010000
END:STANDARD
END:VTIMEZONE
BEGIN:VEVENT
DTSTART;TZID=Europe/Berlin:20250615T183000
DTEND;TZID=Europe/Berlin:20250615T200000
DTSTAMP:20260422T093614
CREATED:20250606T071413Z
LAST-MODIFIED:20250606T071440Z
UID:14697-1750012200-1750017600@dortmund-kreativ.de
SUMMARY:Runde Ecke: Fotofestival - Ansichten & Aussichten
DESCRIPTION:Die Runde Ecke ist eine offene Veranstaltungsreihe von Studierenden für Studierende\, die Lust auf Austausch rund um Fotografie und visuelle Themen haben. \nDie nächste Veranstaltung steht vor der Tür – und das Team freut sich sehr auf einen spannenden Paneltalk\, im Rahmen des F2 Fotofestivals\, mit drei renommierten Persönlichkeiten der internationalen Fotoszene! \nWann? Sonntag\, 15. Juni 2025\nUhrzeit? ab 18:30 Uhr\nWo? Depot Dortmund\, Immermannstraße 29\, 44147 Dortmund \nWas erwartet euch? \nIn der Gesprächsrunde „Fotofestivals: Ansichten & Aussichten“ geben die Fotofestival-Kuratorinnen Heide Häusler (Photoszene Festival Köln) und Teona Gogichaishvili (Kolga Tbilisi Photo\, Georgien) sowie der Festivaldirektor Friso Wijnen (Breda Fotofestival\, Niederlande) tiefere Einblicke in ihre Motivation und die Herausforderungen bei der Organisation nationaler und internationaler Festivals. \nSie zeigen auf\, welche Chancen Fotofestivals für Fotograf*innen bieten – als Plattform für Ausstellung\, Sichtbarkeit und Austausch\, aber auch als Erfahrungsraum für Kuration und Ausstellungsgestaltung. Darüber hinaus diskutieren wir Fragen wie: \n• Welche Perspektiven bieten aktuelle Festivals für die Entwicklung der Fotografie?\n• Wie erfolgt die Auswahl der Teilnehmenden – insbesondere im Rahmen von Open Calls?\n• Und welche Rolle spielen Festivals heute in der Fotobranche? \nAb 18:30 Uhr\n• Begrüßung\n• Paneltalk mit Heide Häusler\, Teona Gogichaishvili & Friso Wijnen\n• Offene Fragerunde\n• Ausklang in entspannter Atmosphäre \nDie Veranstaltungen der Runden Ecke sind eine Einladung zum Austausch – in lockerer\, inspirierender Runde. Die Runde Ecke ist ein Raum für kreative Begegnungen\, für Fragen\, Gespräche und das gemeinsame Weiterdenken – ob zum Berufseinstieg\, zu gestalterischen Ansätzen oder einfach zum Teilen fotografischer Neugier. \nWeitere Infos (Instagram)
URL:https://dortmund-kreativ.de/event/runde-ecke-fotofestival-ansichten-aussichten/
LOCATION:Depot\, Immermannstraße 29\, Dortmund\, 44147
CATEGORIES:Ausstellung,Fotografie,Kreativwirtschaft,Netzwerk,Qualifizierung
END:VEVENT
END:VCALENDAR