BEGIN:VCALENDAR
VERSION:2.0
PRODID:-//Dortmund Kreativ - ECPv6.15.18//NONSGML v1.0//EN
CALSCALE:GREGORIAN
METHOD:PUBLISH
X-WR-CALNAME:Dortmund Kreativ
X-ORIGINAL-URL:https://dortmund-kreativ.de
X-WR-CALDESC:Veranstaltungen für Dortmund Kreativ
REFRESH-INTERVAL;VALUE=DURATION:PT1H
X-Robots-Tag:noindex
X-PUBLISHED-TTL:PT1H
BEGIN:VTIMEZONE
TZID:Europe/Berlin
BEGIN:DAYLIGHT
TZOFFSETFROM:+0100
TZOFFSETTO:+0200
TZNAME:CEST
DTSTART:20220327T010000
END:DAYLIGHT
BEGIN:STANDARD
TZOFFSETFROM:+0200
TZOFFSETTO:+0100
TZNAME:CET
DTSTART:20221030T010000
END:STANDARD
BEGIN:DAYLIGHT
TZOFFSETFROM:+0100
TZOFFSETTO:+0200
TZNAME:CEST
DTSTART:20230326T010000
END:DAYLIGHT
BEGIN:STANDARD
TZOFFSETFROM:+0200
TZOFFSETTO:+0100
TZNAME:CET
DTSTART:20231029T010000
END:STANDARD
BEGIN:DAYLIGHT
TZOFFSETFROM:+0100
TZOFFSETTO:+0200
TZNAME:CEST
DTSTART:20240331T010000
END:DAYLIGHT
BEGIN:STANDARD
TZOFFSETFROM:+0200
TZOFFSETTO:+0100
TZNAME:CET
DTSTART:20241027T010000
END:STANDARD
END:VTIMEZONE
BEGIN:VEVENT
DTSTART;TZID=Europe/Berlin:20230817T140000
DTEND;TZID=Europe/Berlin:20230817T170000
DTSTAMP:20260424T051404
CREATED:20230320T133052Z
LAST-MODIFIED:20230705T110358Z
UID:8120-1692280800-1692291600@dortmund-kreativ.de
SUMMARY:Seminar: Looking forward – raus aus der Krise\, rein in die Zukunft
DESCRIPTION:Ein Angebot vom Ausbildungs- und Produktionszentrum ‚raum17‘\, gefördert durch das Kulturbüro Dortmund. \nDie Corona-geprägten Jahre waren nicht nur gesamtgesellschaftlich\, sondern besonders für Kreative und Kunstschaffende eine beschwerliche Zeit. Die Auswirkungen zahlreicher Krisen haben Spuren hinterlassen und auf vielerlei Ebenen Kraft und Nerven gekostet. Welche Weichen müssen nun gerade bei Akteur*innen der Kultur- und Kreativwirtschaft gestellt werden\, um den Herausforderungen der Zukunft gestärkt und resilient zu begegnen? \nDas Seminar wendet sich an Kulturschaffende\, die ihre persönlichen und künstlerischen Ressourcen für zukunftsorientierte Entwicklungen und innovative Prozesse nutzen und ihren eigenen Weg ‚rein in die Zukunft‘ entwickeln möchten. \nMit gestalterischen Formaten aus der Theaterarbeit und klassischen Coaching-Methoden wird ein Blick in die Zukunft geworfen. Das Seminar behandelt zudem folgende Inhalten:\n– persönlicher Resilienz im Umgang mit überstandenen Krisen und kommenden Veränderungen\,\n– der positiven Stärkung der Selbst-Motivation und des Selbst-Managements\,\n– der kreativen Gestaltung von Plänen\, Perspektiven und Visionen\,\n– gestalterischen Techniken\, um persönliche und professionelle Prioritäten zu setzen\, klare Entscheidungen zu treffen und zukunftsweisende Pläne zu realisieren. \nTermine:\n17.08.\, 14.00 – 17.00 Uhr\n31.08.\, 14.00 – 17.00 Uhr\n14.09.\, 14.00 – 17.00 Uhr\nDie 3 Termine bauen aufeinander auf und sind nicht einzeln buchbar. \nOrt: Ausbildungs- und Produktionszentrum ‚raum17‘\, Mönchengang 9\, 44135 Dortmund \nDie Teilnahme ist kostenlos und gefördert vom Kulturbüro Dortmund.\nMindestteilnehmer*innenzahl: 4\nMaximale Teilnehmer*innen-Zahl: 10 \nInformation und Anmeldung an: post@barbaramueller.de \n 
URL:https://dortmund-kreativ.de/event/seminar-looking-forward-raus-aus-der-krise-rein-in-die-zukunft/
LOCATION:Raum 17\, Mönchengang 9\, Dortmund\, 44135
CATEGORIES:Bildende Kunst,Darstellende Kunst,Designwirtschaft,Filmwirtschaft,Kreativwirtschaft,Kunstmarkt,Musikwirtschaft,Netzwerk,Qualifizierung,Urbane Kunst,Urbanität,Zukunft
END:VEVENT
END:VCALENDAR