BEGIN:VCALENDAR
VERSION:2.0
PRODID:-//Dortmund Kreativ - ECPv6.15.18//NONSGML v1.0//EN
CALSCALE:GREGORIAN
METHOD:PUBLISH
X-WR-CALNAME:Dortmund Kreativ
X-ORIGINAL-URL:https://dortmund-kreativ.de
X-WR-CALDESC:Veranstaltungen für Dortmund Kreativ
REFRESH-INTERVAL;VALUE=DURATION:PT1H
X-Robots-Tag:noindex
X-PUBLISHED-TTL:PT1H
BEGIN:VTIMEZONE
TZID:Europe/Berlin
BEGIN:DAYLIGHT
TZOFFSETFROM:+0100
TZOFFSETTO:+0200
TZNAME:CEST
DTSTART:20240331T010000
END:DAYLIGHT
BEGIN:STANDARD
TZOFFSETFROM:+0200
TZOFFSETTO:+0100
TZNAME:CET
DTSTART:20241027T010000
END:STANDARD
BEGIN:DAYLIGHT
TZOFFSETFROM:+0100
TZOFFSETTO:+0200
TZNAME:CEST
DTSTART:20250330T010000
END:DAYLIGHT
BEGIN:STANDARD
TZOFFSETFROM:+0200
TZOFFSETTO:+0100
TZNAME:CET
DTSTART:20251026T010000
END:STANDARD
BEGIN:DAYLIGHT
TZOFFSETFROM:+0100
TZOFFSETTO:+0200
TZNAME:CEST
DTSTART:20260329T010000
END:DAYLIGHT
BEGIN:STANDARD
TZOFFSETFROM:+0200
TZOFFSETTO:+0100
TZNAME:CET
DTSTART:20261025T010000
END:STANDARD
END:VTIMEZONE
BEGIN:VEVENT
DTSTART;TZID=Europe/Berlin:20250829T160000
DTEND;TZID=Europe/Berlin:20250829T230000
DTSTAMP:20260422T032419
CREATED:20250814T071806Z
LAST-MODIFIED:20250814T071806Z
UID:14867-1756483200-1756508400@dortmund-kreativ.de
SUMMARY:Sommer am U: Sommerfest
DESCRIPTION:Vorplatz Dortmunder U \nKommt vorbei und feiert den Abschluss des Sommer am U 2025! \nErlebt ab 16:00 Uhr ein abwechslungsreiches Programm\, das euch durch den Abend begleitet. \n16:00 – 16:45 Uhr: Electronic Adventure\n16:45 – 17:30 Uhr: Stevo159 & J. Field (Orange Field)\n17:30 – 18:15 Uhr: Aylin44\n18:15 – 19:00 Uhr: Die Öffnung\n19:00 – 19:45 Uhr: Dr. Ardey (Mauerblümchen Kollektiv)\n19:45 – 20:45 Uhr: ANIYO KORE\n20:45 – 21:45 Uhr: Lena Stoehrfaktor\n21:45 – 23:00 Uhr: Savsannah \nWeitere Infos
URL:https://dortmund-kreativ.de/event/sommer-am-u-sommerfest/
LOCATION:Dortmunder U\, Leonie-Reygers-Terrasse\, Dortmund\, 44137
CATEGORIES:Konzert,Kreativquartiere,Kreativwirtschaft,Musikwirtschaft,Nachtkultur,Netzwerk,Urbanität
END:VEVENT
END:VCALENDAR