BEGIN:VCALENDAR
VERSION:2.0
PRODID:-//Dortmund Kreativ - ECPv6.15.18//NONSGML v1.0//EN
CALSCALE:GREGORIAN
METHOD:PUBLISH
X-WR-CALNAME:Dortmund Kreativ
X-ORIGINAL-URL:https://dortmund-kreativ.de
X-WR-CALDESC:Veranstaltungen für Dortmund Kreativ
REFRESH-INTERVAL;VALUE=DURATION:PT1H
X-Robots-Tag:noindex
X-PUBLISHED-TTL:PT1H
BEGIN:VTIMEZONE
TZID:Europe/Berlin
BEGIN:DAYLIGHT
TZOFFSETFROM:+0100
TZOFFSETTO:+0200
TZNAME:CEST
DTSTART:20210328T010000
END:DAYLIGHT
BEGIN:STANDARD
TZOFFSETFROM:+0200
TZOFFSETTO:+0100
TZNAME:CET
DTSTART:20211031T010000
END:STANDARD
BEGIN:DAYLIGHT
TZOFFSETFROM:+0100
TZOFFSETTO:+0200
TZNAME:CEST
DTSTART:20220327T010000
END:DAYLIGHT
BEGIN:STANDARD
TZOFFSETFROM:+0200
TZOFFSETTO:+0100
TZNAME:CET
DTSTART:20221030T010000
END:STANDARD
BEGIN:DAYLIGHT
TZOFFSETFROM:+0100
TZOFFSETTO:+0200
TZNAME:CEST
DTSTART:20230326T010000
END:DAYLIGHT
BEGIN:STANDARD
TZOFFSETFROM:+0200
TZOFFSETTO:+0100
TZNAME:CET
DTSTART:20231029T010000
END:STANDARD
END:VTIMEZONE
BEGIN:VEVENT
DTSTART;TZID=Europe/Berlin:20221213T170000
DTEND;TZID=Europe/Berlin:20221213T190000
DTSTAMP:20260424T184237
CREATED:20221208T112911Z
LAST-MODIFIED:20221208T174953Z
UID:7236-1670950800-1670958000@dortmund-kreativ.de
SUMMARY:SPITZENLAGE: NEUE POSITIONEN
DESCRIPTION:Ab dem 13. Dezember 2022 sind neue Arbeiten und Inszenierungen in den Schaufenstern des Gebäudekomplexes Westenhellweg 37-41 zu sehen. \nGet-together an den Schaufenstern Kampstraße / Ecke Hansastraße am Dienstag den 13.12.2022 ab 17:00 Uhr! \nTeilnehmende: \n\n_Pia Austermann\n_Laura Dieckmann\n_Anne Evers\n_Lucy Pawlowicz\n_Lea Sommer\n_Cihan Tamti\n_Rebecca Tenkamp\n_Cosima Thiel\n_Johanna Thoss\n_Jannick Wetzel\n_FH Dortmund\, Fachbereich Architektur\, Lehrgebiet Baustofftechnologie\n\nSPITZENLAGE ist ein Ausstellungsprojekt\, bei dem Schaufenster- und Fassadenflächen in der Dortmunder Innenstadt zu temporären Ausstellungsorten für Projekte aus der Kultur- und Kreativwirtschaft werden. \nWeitere Infos zum Projekt SPITZENLAGE
URL:https://dortmund-kreativ.de/event/spitzenlage-neue-positionen/
CATEGORIES:Architektur,Ausstellung,Bildende Kunst,Designwirtschaft,DORTMUND KREATIV,Kreativwirtschaft,Netzwerk,Stadtentwicklung,Urbane Kunst,Urbanität
END:VEVENT
END:VCALENDAR