BEGIN:VCALENDAR
VERSION:2.0
PRODID:-//Dortmund Kreativ - ECPv6.15.18//NONSGML v1.0//EN
CALSCALE:GREGORIAN
METHOD:PUBLISH
X-WR-CALNAME:Dortmund Kreativ
X-ORIGINAL-URL:https://dortmund-kreativ.de
X-WR-CALDESC:Veranstaltungen für Dortmund Kreativ
REFRESH-INTERVAL;VALUE=DURATION:PT1H
X-Robots-Tag:noindex
X-PUBLISHED-TTL:PT1H
BEGIN:VTIMEZONE
TZID:Europe/Berlin
BEGIN:DAYLIGHT
TZOFFSETFROM:+0100
TZOFFSETTO:+0200
TZNAME:CEST
DTSTART:20240331T010000
END:DAYLIGHT
BEGIN:STANDARD
TZOFFSETFROM:+0200
TZOFFSETTO:+0100
TZNAME:CET
DTSTART:20241027T010000
END:STANDARD
BEGIN:DAYLIGHT
TZOFFSETFROM:+0100
TZOFFSETTO:+0200
TZNAME:CEST
DTSTART:20250330T010000
END:DAYLIGHT
BEGIN:STANDARD
TZOFFSETFROM:+0200
TZOFFSETTO:+0100
TZNAME:CET
DTSTART:20251026T010000
END:STANDARD
BEGIN:DAYLIGHT
TZOFFSETFROM:+0100
TZOFFSETTO:+0200
TZNAME:CEST
DTSTART:20260329T010000
END:DAYLIGHT
BEGIN:STANDARD
TZOFFSETFROM:+0200
TZOFFSETTO:+0100
TZNAME:CET
DTSTART:20261025T010000
END:STANDARD
END:VTIMEZONE
BEGIN:VEVENT
DTSTART;TZID=Europe/Berlin:20250724T160000
DTEND;TZID=Europe/Berlin:20250724T183000
DTSTAMP:20260422T045613
CREATED:20250708T085031Z
LAST-MODIFIED:20250708T085031Z
UID:14782-1753372800-1753381800@dortmund-kreativ.de
SUMMARY:Sprechblase – Comic-Feedbackrunde Dortmund/Ruhrgebiet
DESCRIPTION:  \nEin offenes\, regelmäßiges Treffen für Comic- und Mangazeichner*innen – egal ob Anfänger*in\, Studierende*r oder Profis zum Einholen für Feedback. \nWas wir machen: \n\nMöglichkeit für praktischen und inhaltlichen Austausch.\nWir zeigen uns unsere Projekte analog oder per Beamer. Am besten überlegst du dir konkrete Fragen\, zu denen du Feedback brauchst. Wenn du etwas am Beamer zeigen willst\, bringe am besten ein vorbereitetes pdf mit. Wir haben immer einen Laptop zum zeigen da.\nWir geben uns ehrliches\, wertschätzendes Feedback. Auch wenn es verlockend ist\, loben wir uns nicht nur gegenseitig.\nEs wird nicht vor Ort gezeichnet – der Fokus liegt auf Besprechung und Austausch.\nKomme gerne auch\, wenn du nichts zu zeigen hast zum Anschauen und Feedback geben. Dabei kann man auch viel lernen und du lernst neue Leute + ihre Projekte kennen.\nRaum für alle – unabhängig vom Erfahrungsstand\, jedes Feedback ist gleichwertig\n\nWann und wo: \n\nDas nächste mal am 24.07.2025 um 16:00 bis 18:30 Uhr\nIm Studio B (Eingang gegenüber der Stadt- und Landesbibliothek Dortmund\, direkt am Hauptbahnhof).\nDu brauchst mehr Infos oder hast Fragen? Schreib gerne an: info@ikasperling.com
URL:https://dortmund-kreativ.de/event/sprechblase-comic-feedbackrunde-dortmund-ruhrgebiet-2/
LOCATION:Studio B – Stadt- und Landesbibilothek\, Max-von-der-Grün-Platz 1-3\, Dortmund\, 44137
CATEGORIES:Comic,Kreativwirtschaft,Qualifizierung
END:VEVENT
END:VCALENDAR