BEGIN:VCALENDAR
VERSION:2.0
PRODID:-//Dortmund Kreativ - ECPv6.15.18//NONSGML v1.0//EN
CALSCALE:GREGORIAN
METHOD:PUBLISH
X-WR-CALNAME:Dortmund Kreativ
X-ORIGINAL-URL:https://dortmund-kreativ.de
X-WR-CALDESC:Veranstaltungen für Dortmund Kreativ
REFRESH-INTERVAL;VALUE=DURATION:PT1H
X-Robots-Tag:noindex
X-PUBLISHED-TTL:PT1H
BEGIN:VTIMEZONE
TZID:Europe/Berlin
BEGIN:DAYLIGHT
TZOFFSETFROM:+0100
TZOFFSETTO:+0200
TZNAME:CEST
DTSTART:20230326T010000
END:DAYLIGHT
BEGIN:STANDARD
TZOFFSETFROM:+0200
TZOFFSETTO:+0100
TZNAME:CET
DTSTART:20231029T010000
END:STANDARD
BEGIN:DAYLIGHT
TZOFFSETFROM:+0100
TZOFFSETTO:+0200
TZNAME:CEST
DTSTART:20240331T010000
END:DAYLIGHT
BEGIN:STANDARD
TZOFFSETFROM:+0200
TZOFFSETTO:+0100
TZNAME:CET
DTSTART:20241027T010000
END:STANDARD
BEGIN:DAYLIGHT
TZOFFSETFROM:+0100
TZOFFSETTO:+0200
TZNAME:CEST
DTSTART:20250330T010000
END:DAYLIGHT
BEGIN:STANDARD
TZOFFSETFROM:+0200
TZOFFSETTO:+0100
TZNAME:CET
DTSTART:20251026T010000
END:STANDARD
END:VTIMEZONE
BEGIN:VEVENT
DTSTART;TZID=Europe/Berlin:20240525T120000
DTEND;TZID=Europe/Berlin:20240525T150000
DTSTAMP:20260423T131018
CREATED:20240522T130239Z
LAST-MODIFIED:20240522T130239Z
UID:11661-1716638400-1716649200@dortmund-kreativ.de
SUMMARY:STADTGARTENKULTUR 2024: Karlskrona | Joel Joao
DESCRIPTION:StadtGartenKultur ist eine neue Veranstaltungsreihe mit verschiedenen künstlerisch-kreativen Interventionen im Dortmunder Stadtgarten im Zeitraum April bis September. \nAn acht Samstagen von April bis September finden zwischen 12 und 15 Uhr Konzerte\, Walking Acts\, Kleinkunst und DJ-Sets mitten Stadtgarten statt\, die im Vorbeigehen überraschen\, zum Verweilen einladen\, den Stadtgarten positiv beleben und damit das subjektive Sicherheitsempfinden der Bürgerinnen und Bürger stärken. \nAm 25.05. sind Karlskrona (IndiePop) und Joel Joao (Singer-Songwriter / Pop) zu Gast (Infos weiter unten). Wir freuen uns auch Euch! \nWeitere Termine:  08.06. | 20.07. | 24.08. | 07.09.\n(Änderungen aufgrund des Wetters vorbehalten)\nZeit: 12:00 – 15:00 Uhr\nOrt: vor der U-Bahnstation Stadtgarten   \nDas Projekt wird in Kooperation zwischen DORTMUND KREATIV und dem Dezernat 3 der Stadt Dortmund realisiert. \nMehr Infos HIER \n\nJoël-Joâo \nDer junge Musiker Joel-Joao ist Singer/Songwriter aus Dortmund. Zudem ist er auch mit seiner Band aktiv. Joel-Joao macht seit über 10 Jahren Musik und dufte schon auf vielen Veranstaltungen und Bühnen Deutschlandweit performen und seine Kunst präsentieren. Er liebt die Musik und diese Liebe mit anderen Menschen zu teilen\, indem er sie animiert mitzusingen oder sie in seinen Workshops (Musik\, Songwriting und spoken Word) begleitet.\nIn seiner Musik sind viele Elemente von Indie-Pop Rock\, Soul und RnB. Lasst euch auf seine Musik ein und ihr werdet in eine angenehme Welt eingeladen. \nKarlskrona \nEin Keyboard\, eine Gitarre\, Percussion und zwei Stimmen. Wenn Pia und Robert spielen\, verblassen die grellen Neonlichter der Stadt und die Geräuschkulisse des Alltags verstummt. Die englischsprachigen Lieder der beiden Dortmunder erzählen nicht nur von dem breiten Spektrum menschlicher Gefühle\, sondern auch von Zeitreisen\, einem Zwiegespräch mit dem Teufel und einem Traum\, der Planteten formt; kurz gesagt von allem\, wofür das Nachdenken zu kurz kommt. Die atmosphärischen Klänge des Keyboards rollen dabei den roten Teppich aus für Pias Stimme\, die elegant darüber schwebt. Robert rundet den Klang ab\, indem er mit der Gitarre und dem Puls der Basstrommel die nötige Bewegung beisteuert und die Musik mit seiner Stimme vervollständigt. Wer genau zuhört\, erfährt nicht nur warum sich die beiden nach einer Stadt in Schweden benannt haben\, sondern auch welche geheimen Träume in einem selbst schlummern. \n  \nBild: Joel-Joao\nBild: Karlskrona
URL:https://dortmund-kreativ.de/event/stadtgartenkultur-2024-karlskrona-joel-joao/
LOCATION:Stadtgarten Dortmund\, Nähe U-Bahnstation\, Hansastraße\, Dortmund\, 44137
CATEGORIES:DORTMUND KREATIV,Festival,Konzert,Kreativwirtschaft,Musikwirtschaft,Urbanität
ATTACH;FMTTYPE=image/jpeg:https://dortmund-kreativ.de/wp-content/uploads/2024/04/image4.jpeg
ORGANIZER;CN="DORTMUND KREATIV":MAILTO:hallo@dortmund-kreativ.de
END:VEVENT
END:VCALENDAR