BEGIN:VCALENDAR
VERSION:2.0
PRODID:-//Dortmund Kreativ - ECPv6.15.18//NONSGML v1.0//EN
CALSCALE:GREGORIAN
METHOD:PUBLISH
X-WR-CALNAME:Dortmund Kreativ
X-ORIGINAL-URL:https://dortmund-kreativ.de
X-WR-CALDESC:Veranstaltungen für Dortmund Kreativ
REFRESH-INTERVAL;VALUE=DURATION:PT1H
X-Robots-Tag:noindex
X-PUBLISHED-TTL:PT1H
BEGIN:VTIMEZONE
TZID:Europe/Berlin
BEGIN:DAYLIGHT
TZOFFSETFROM:+0100
TZOFFSETTO:+0200
TZNAME:CEST
DTSTART:20220327T010000
END:DAYLIGHT
BEGIN:STANDARD
TZOFFSETFROM:+0200
TZOFFSETTO:+0100
TZNAME:CET
DTSTART:20221030T010000
END:STANDARD
BEGIN:DAYLIGHT
TZOFFSETFROM:+0100
TZOFFSETTO:+0200
TZNAME:CEST
DTSTART:20230326T010000
END:DAYLIGHT
BEGIN:STANDARD
TZOFFSETFROM:+0200
TZOFFSETTO:+0100
TZNAME:CET
DTSTART:20231029T010000
END:STANDARD
BEGIN:DAYLIGHT
TZOFFSETFROM:+0100
TZOFFSETTO:+0200
TZNAME:CEST
DTSTART:20240331T010000
END:DAYLIGHT
BEGIN:STANDARD
TZOFFSETFROM:+0200
TZOFFSETTO:+0100
TZNAME:CET
DTSTART:20241027T010000
END:STANDARD
END:VTIMEZONE
BEGIN:VEVENT
DTSTART;TZID=Europe/Berlin:20230708T120000
DTEND;TZID=Europe/Berlin:20230708T143000
DTSTAMP:20260424T074905
CREATED:20241129T070412Z
LAST-MODIFIED:20241129T070412Z
UID:10000546-1688817600-1688826600@dortmund-kreativ.de
SUMMARY:STADTMUSIK IM PARADIESGARTEN 2023
DESCRIPTION:STADTMUSIK im Paradiesgarten sind Kleinkonzerte und musikalische Aktionen mitten in der Innenstadt\, die im Vorbeigehen überraschen und zum Verweilen einladen.\nDie Darbietungen kommen entweder komplett als Akustik-Set daher oder sind elektronisch nur minimal verstärkt.\n \nHIER DAS PROGRAMM IM ÜBERBLICK*: \n23.06. Freitag\n15:00 – 16:00 Uhr:    Trallafitti (Chor | Pop) \n29.06. Donnerstag\n15:00 – 16:00 Uhr:    Konstantin Kersting Duo (Jazz)\n16:30 – 17:30 Uhr:   Viola Caipira (Weltmusik\, Jazz\, Latin) \n30.06. Freitag\n15:00 – 16:00 Uhr:   Roughhouse (Singer-Songwriter | Reggae) \n01.07. Samstag\n12:00 – 13:00 Uhr:    Konstantin Kersting Duo (Jazz) \n06.07. Donnerstag\n15:00 – 16:00 Uhr:    Tobias Bülow (HandPan und Flöte | Weltmusik)\n16:30 – 17:30 Uhr:    Harald Köster (Jazz\, Latin\, Pop) \n07.07. Freitag\n15:00 – 16:00 Uhr:    Tobias Bülow (HandPan und Flöte | Weltmusik)\n16:30 – 17:30 Uhr     Erwin Trio (Jazz) \n08.07. Samstag\n12:00 – 13:00 Uhr:    Harald Köster (Jazz\, Latin\, Pop)\n13:30 – 14:30 Uhr:    Duo Fadenlos (Weltmusik) \n13.07. Donnerstag\n15:00 – 16:00 Uhr:    Zainab Lax (Harfe und Loop | Weltmusik\, Pop)\n16:30 – 17:30 Uhr:    Viola Caipira (Weltmusik\, Jazz\, Latin) \n14.07. Freitag\n15:00 – 16:00 Uhr:    TRIO KARIBE (Trio | Weltmusik)\n16:30 – 17:30 Uhr:    LasseDuo (Pop) \n15.07. Samstag\n12:00 – 13:00 Uhr:    Joël-Joâo (Singer-Songwriter | Pop)\n13:30 – 14:30 Uhr:    LasseDuo (Pop) \n20.07. Donnerstag\n16:30 – 17:30 Uhr     Community Music Workshop (Zum Mitmachen!) \n21.07. Freitag\n15:00 – 16:00 Uhr     Community Music Workshop (Zum Mitmachen!)\n16:30 – 17:30 Uhr     Dieter (Quartett | Jazz\, Pop) \n22.07. Samstag\n12:00 – 13:00 Uhr     Zainab Lax (Harfe und Loop | Weltmusik\, Pop)\n13:30 – 14:30 Uhr     Joël-Joâo (Singer-Songwriter | Pop) \n27.07. Donnerstag\n15:00 – 16:00 Uhr     TRIO KARIBE (Trio | Weltmusik)\n16:30 – 17:30 Uhr     Dieter (Quartett | Jazz\, Pop) \n28.07. Freitag\n15:00 – 16:00 Uhr     Hannes Weyland (Singer-Songwriter | Pop)\n16:30 – 17:30 Uhr:    Half of the Beatles (Pop) \n29.07. Samstag\n12:00 – 13:00 Uhr     Roughhouse (Singer-Songwriter | Reggae\, Pop)\n13:30 – 14:30 Uhr     Half of the Beatles (Pop) \n03.08. Donnerstag\n16:30 – 17:30 Uhr     Hannes Weyland (Singer-Songwriter | Pop) \n04.08. Freitag\n15:00 – 16:00 Uhr     Color of Strings (Gitarrenduo | Jazz\, Pop)\n16:30 – 17:30 Uhr     Trallafitti (Chor | Pop) \n05.08. Samstag\n12:00 – 14:00           Maren Montauk (Art Pop) \n10.08. Donnerstag\n15:00 – 16:00 Uhr     Color of Strings (Gitarrenduo | Jazz\, Pop)\n16:30 – 17:30 Uhr     Erwin Trio (Jazz) \n*kurzfristige und wetterbedingte Änderungen sind möglich \nWie schon 2022 findet das Projekt in Kooperation mit der Wirtschaftsförderung Dortmund statt. DANKE! \nVielen Dank an Guido von den Nordstadt Sessions\, Community Music vom Konzerthaus Dortmund\, Matthias und Sebastian vom Bunt oder Blau – Festival\, Laura von den Langer August Session und Diana und Ilja vom Evangelischen Kirchenkreis für die wertvolle und tolle Kooperation und Unterstützung!
URL:https://dortmund-kreativ.de/event/stadtmusik-im-paradiesgarten-2023/2023-07-08/
LOCATION:Paradiesgarten an der Reinoldikirche\, Ostenhellweg 2\, Dortmund\, 44135
CATEGORIES:DORTMUND KREATIV,Kreativwirtschaft,Musikwirtschaft,Nachhaltigkeit,Netzwerk,Stadtentwicklung,Urbanität,Zukunft
ATTACH;FMTTYPE=image/jpeg:https://dortmund-kreativ.de/wp-content/uploads/2022/08/Stadtmusik-im-Pardiesgarten-2022_Constantin-Grolig.jpg
ORGANIZER;CN="DORTMUND KREATIV":MAILTO:hallo@dortmund-kreativ.de
END:VEVENT
END:VCALENDAR