BEGIN:VCALENDAR
VERSION:2.0
PRODID:-//Dortmund Kreativ - ECPv6.15.18//NONSGML v1.0//EN
CALSCALE:GREGORIAN
METHOD:PUBLISH
X-WR-CALNAME:Dortmund Kreativ
X-ORIGINAL-URL:https://dortmund-kreativ.de
X-WR-CALDESC:Veranstaltungen für Dortmund Kreativ
REFRESH-INTERVAL;VALUE=DURATION:PT1H
X-Robots-Tag:noindex
X-PUBLISHED-TTL:PT1H
BEGIN:VTIMEZONE
TZID:Europe/Berlin
BEGIN:DAYLIGHT
TZOFFSETFROM:+0100
TZOFFSETTO:+0200
TZNAME:CEST
DTSTART:20240331T010000
END:DAYLIGHT
BEGIN:STANDARD
TZOFFSETFROM:+0200
TZOFFSETTO:+0100
TZNAME:CET
DTSTART:20241027T010000
END:STANDARD
BEGIN:DAYLIGHT
TZOFFSETFROM:+0100
TZOFFSETTO:+0200
TZNAME:CEST
DTSTART:20250330T010000
END:DAYLIGHT
BEGIN:STANDARD
TZOFFSETFROM:+0200
TZOFFSETTO:+0100
TZNAME:CET
DTSTART:20251026T010000
END:STANDARD
BEGIN:DAYLIGHT
TZOFFSETFROM:+0100
TZOFFSETTO:+0200
TZNAME:CEST
DTSTART:20260329T010000
END:DAYLIGHT
BEGIN:STANDARD
TZOFFSETFROM:+0200
TZOFFSETTO:+0100
TZNAME:CET
DTSTART:20261025T010000
END:STANDARD
END:VTIMEZONE
BEGIN:VEVENT
DTSTART;TZID=Europe/Berlin:20250619T173000
DTEND;TZID=Europe/Berlin:20250619T190000
DTSTAMP:20260422T080341
CREATED:20250526T121406Z
LAST-MODIFIED:20250526T141958Z
UID:14555-1750354200-1750359600@dortmund-kreativ.de
SUMMARY:Paneltalk: Subkultur & Skaten - Utopia als Möglichkeitsraum | DORTMUND URBAN
DESCRIPTION:Skaten ist gelebte Subkultur\, Körperpraxis und Aneignung städtischer Räume.\nGemeinsam mit der Skateboardinitiative Dortmund und weiteren Gästen sprechen wir über die sozialen und gestalterischen Potenziale von Skateboarding. \nWie entstehen DIY-Flächen? Was bedeutet es\, wenn junge Menschen Räume selbst bauen\, erhalten und mit Leben füllen? \nZiel: Die Bedeutung von Skaten als ernstzunehmender Bestandteil urbaner Kultur sichtbar machen und Fragen der Raumpolitik konkret verhandeln. \n  \n\nPANELREIHE „STADT ALS SPIELRAUM – SUBKULTUR & SELBSTORGANISATION“\nDortmund Urban Festival | 19.–21. Juni 2025 \nKurzbeschreibung:\nDrei Tage – drei Talks – ein gemeinsames Anliegen: Wir schaffen Raum für Diskurs über urbane Subkulturen\, Jugendkultur\, kollektive Organisierung und selbstverwaltete Orte. Die Panelreihe „Stadt als Spielraum“ macht sichtbar\, wie junge Kollektive\, Skater*innen und selbstorganisierte Räume die Stadt mitgestalten\, und stellt Fragen nach Teilhabe\, Zugang\, Visionen und Verantwortung. \nZiel ist es\, Stimmen aus der Szene selbst zu Wort kommen zu lassen\, praktische Perspektiven mit theoretischen Ansätzen zu verbinden und eine Plattform für Austausch und Vernetzung zu bieten.
URL:https://dortmund-kreativ.de/event/subkultur-skaten-utopia-als-moeglichkeitsraum-dortmund-urban/
LOCATION:Bühne 4 | Kampstraße | DORTMUND URBAN\, Kampstraße\, Dortmund\, 44135
CATEGORIES:DORTMUND URBAN
ORGANIZER;CN="DORTMUND KREATIV":MAILTO:hallo@dortmund-kreativ.de
END:VEVENT
END:VCALENDAR