BEGIN:VCALENDAR
VERSION:2.0
PRODID:-//Dortmund Kreativ - ECPv6.15.18//NONSGML v1.0//EN
CALSCALE:GREGORIAN
METHOD:PUBLISH
X-WR-CALNAME:Dortmund Kreativ
X-ORIGINAL-URL:https://dortmund-kreativ.de
X-WR-CALDESC:Veranstaltungen für Dortmund Kreativ
REFRESH-INTERVAL;VALUE=DURATION:PT1H
X-Robots-Tag:noindex
X-PUBLISHED-TTL:PT1H
BEGIN:VTIMEZONE
TZID:Europe/Berlin
BEGIN:DAYLIGHT
TZOFFSETFROM:+0100
TZOFFSETTO:+0200
TZNAME:CEST
DTSTART:20240331T010000
END:DAYLIGHT
BEGIN:STANDARD
TZOFFSETFROM:+0200
TZOFFSETTO:+0100
TZNAME:CET
DTSTART:20241027T010000
END:STANDARD
BEGIN:DAYLIGHT
TZOFFSETFROM:+0100
TZOFFSETTO:+0200
TZNAME:CEST
DTSTART:20250330T010000
END:DAYLIGHT
BEGIN:STANDARD
TZOFFSETFROM:+0200
TZOFFSETTO:+0100
TZNAME:CET
DTSTART:20251026T010000
END:STANDARD
BEGIN:DAYLIGHT
TZOFFSETFROM:+0100
TZOFFSETTO:+0200
TZNAME:CEST
DTSTART:20260329T010000
END:DAYLIGHT
BEGIN:STANDARD
TZOFFSETFROM:+0200
TZOFFSETTO:+0100
TZNAME:CET
DTSTART:20261025T010000
END:STANDARD
END:VTIMEZONE
BEGIN:VEVENT
DTSTART;TZID=Europe/Berlin:20250904T180000
DTEND;TZID=Europe/Berlin:20250904T210000
DTSTAMP:20260422T034017
CREATED:20250815T084655Z
LAST-MODIFIED:20250815T084655Z
UID:14917-1757008800-1757019600@dortmund-kreativ.de
SUMMARY:SUPERRAUM: Eröffnung "2+2 Plakatausstellung"
DESCRIPTION:05. September bis 26. Oktober 2025 \n2+2 zeigt angewandte Arbeiten aus dem Archiv lokaler Gestalter*innen und jeweils zwei Werke von Kolleg*innen\, die sie selbst eingeladen haben. Gemeinsam ergibt das: Perspektiven auf Gestaltung\, Auftrag und Austausch. \nAusstellende:\nAnna Haifisch (Leipzig\, D)\nAnja Kaiser (Leipzig\, D)\nBraulio Amado (New York\, USA)\nBrückner + Brückner\nClaudiabasel (Basel\, CH)\nDavid Lüthi & Mirko Leuenberger (Zürich\, CH)\nGötz Gramlich (Heidelberg\, D)\nJudith Anna Rüther\nlabor b\nLisa Panitz\nMartyna Wedzicka (Danzig\, PL)\nMartin Woodtli (Zürich\, CH)\nRaffinerie AG für Gestaltung (Zürich\, CH)\nRuohang Wang (Berlin\, D)\nStefan Lüdemann\nStudio Konter\nStudio Lindhorst-Emme + Hinrichs (Berlin\, D)\nTen Ten Team \n\nEinladung zur Eröffnung am 04.09.2025 (pdf) \n\n2+2\nPlakatausstellung \n05.09. bis 26.10.2025 \nEröffnung: 04. September 2025 um 18 Uhr \nÖffnungszeiten:\nDonnerstags 16 – 19 Uhr\nSamstags 12 – 16 Uhr \nSUPERRAUM\, Brückstraße 64\, Dortmund
URL:https://dortmund-kreativ.de/event/superraum-eroeffnung-22-plakatausstellung/
LOCATION:SUPERRAUM\, Brückstraße 64\, Dortmund\, 44135\, Deutschland
CATEGORIES:Ausstellung,Designwirtschaft,DORTMUND KREATIV,Kreativwirtschaft,Medien,Projektraum,Stadtentwicklung,SUPERRAUM,Urbanität
END:VEVENT
END:VCALENDAR