BEGIN:VCALENDAR
VERSION:2.0
PRODID:-//Dortmund Kreativ - ECPv6.15.18//NONSGML v1.0//EN
CALSCALE:GREGORIAN
METHOD:PUBLISH
X-WR-CALNAME:Dortmund Kreativ
X-ORIGINAL-URL:https://dortmund-kreativ.de
X-WR-CALDESC:Veranstaltungen für Dortmund Kreativ
REFRESH-INTERVAL;VALUE=DURATION:PT1H
X-Robots-Tag:noindex
X-PUBLISHED-TTL:PT1H
BEGIN:VTIMEZONE
TZID:Europe/Berlin
BEGIN:DAYLIGHT
TZOFFSETFROM:+0100
TZOFFSETTO:+0200
TZNAME:CEST
DTSTART:20230326T010000
END:DAYLIGHT
BEGIN:STANDARD
TZOFFSETFROM:+0200
TZOFFSETTO:+0100
TZNAME:CET
DTSTART:20231029T010000
END:STANDARD
BEGIN:DAYLIGHT
TZOFFSETFROM:+0100
TZOFFSETTO:+0200
TZNAME:CEST
DTSTART:20240331T010000
END:DAYLIGHT
BEGIN:STANDARD
TZOFFSETFROM:+0200
TZOFFSETTO:+0100
TZNAME:CET
DTSTART:20241027T010000
END:STANDARD
BEGIN:DAYLIGHT
TZOFFSETFROM:+0100
TZOFFSETTO:+0200
TZNAME:CEST
DTSTART:20250330T010000
END:DAYLIGHT
BEGIN:STANDARD
TZOFFSETFROM:+0200
TZOFFSETTO:+0100
TZNAME:CET
DTSTART:20251026T010000
END:STANDARD
END:VTIMEZONE
BEGIN:VEVENT
DTSTART;TZID=Europe/Berlin:20240502T190000
DTEND;TZID=Europe/Berlin:20240502T220000
DTSTAMP:20260423T144058
CREATED:20240215T133626Z
LAST-MODIFIED:20240415T152225Z
UID:10795-1714676400-1714687200@dortmund-kreativ.de
SUMMARY:SUPERRAUM | ERÖFFNUNG: IRGENDWAS MIT FUSSBALL
DESCRIPTION:ZEITGENÖSSISCHE FOTOGRAFISCHE PERSPEKTIVEN \nMit Arbeiten von: Sofia Brandes\, Stefan Grey\, Victoria Jung\, Fabian Ritter\, Nikita Teryoshin und Lukas Zander \nDie Ausstellung zeigt vom 02. Mai bis 31. August 2024 sechs Positionen zeitgenössischer Fotografie\, die sich auf vielfältige Art mit den unterschiedlichsten Facetten des Fußballs auseinandersetzen. \nDie Bandbreite reicht dabei von Porträts\, über Fotoserien zu nicht weniger wichtigen Nebenschauplätzen jenseits des Spielfeldes – wo man Freude\, Euphorie\, Trauer und Skurriles entdeckt – bis hin zu Darstellungen des gemeinschaftlich-verbindenden Elements\, das den Fußball ausmachen kann. \nBeleuchtet werden die gesellschaftliche Bedeutung und der besondere Stellenwert des Fußballs im Alltag vieler Menschen. \nAlle ausstellenden Fotograf*innen haben alle an der Fachhochschule Dortmund studiert. \n\nIRGENDWAS MIT FUSSBALL – Zeitgenössische fotografische Perspektiven \nLaufzeit: 02. Mai bis 31. August 2024 \nOrt: SUPERRAUM\, Brückstraße 64\, 44135 Dortmund \nEröffnung:\n02. Mai 2024 um 19 Uhr\nEinführung in die Ausstellung: Ruppe Koselleck \nÖffnungstage:\nDonnerstags von 16 bis 20 Uhr (am Eröffnungstag ab 19 Uhr)\nSamstags von 12 bis 16 Uhr\n(an Feiertagen geschlossen) \nSonderöffnungstage:\nSa. 04.05. von 12 bis 18 Uhr (DORTBUNT)\nSa. 11.05. von 12 bis 18 Uhr (Kulturmeile)\nSo. 12.05. von 12 bis 18 Uhr (Kulturmeile)\nMi. 29.05. von 14 bis 18 Uhr\nDi. 18.06. von 12 bis 16 Uhr\nDi. 25.06. von 12 bis 16 Uhr\nMi. 10.07. von 14 bis 18 Uhr \nFoto-Talk:\n11. Mai 2024 von 14:00 bis 15:30 Uhr mit beteiligten Fotograf*innen\nModeration: Hannah Uszball \nWeitere Infos
URL:https://dortmund-kreativ.de/event/superraum-eroeffnung-irgendwas-mit-fussball/
LOCATION:SUPERRAUM\, Brückstraße 64\, Dortmund\, 44135\, Deutschland
CATEGORIES:Ausstellung,Designwirtschaft,DORTMUND KREATIV,Fotografie,Kreativwirtschaft,Projektraum,Stadtentwicklung,SUPERRAUM,Urbanität
END:VEVENT
END:VCALENDAR