BEGIN:VCALENDAR
VERSION:2.0
PRODID:-//Dortmund Kreativ - ECPv6.15.18//NONSGML v1.0//EN
CALSCALE:GREGORIAN
METHOD:PUBLISH
X-WR-CALNAME:Dortmund Kreativ
X-ORIGINAL-URL:https://dortmund-kreativ.de
X-WR-CALDESC:Veranstaltungen für Dortmund Kreativ
REFRESH-INTERVAL;VALUE=DURATION:PT1H
X-Robots-Tag:noindex
X-PUBLISHED-TTL:PT1H
BEGIN:VTIMEZONE
TZID:Europe/Berlin
BEGIN:DAYLIGHT
TZOFFSETFROM:+0100
TZOFFSETTO:+0200
TZNAME:CEST
DTSTART:20220327T010000
END:DAYLIGHT
BEGIN:STANDARD
TZOFFSETFROM:+0200
TZOFFSETTO:+0100
TZNAME:CET
DTSTART:20221030T010000
END:STANDARD
BEGIN:DAYLIGHT
TZOFFSETFROM:+0100
TZOFFSETTO:+0200
TZNAME:CEST
DTSTART:20230326T010000
END:DAYLIGHT
BEGIN:STANDARD
TZOFFSETFROM:+0200
TZOFFSETTO:+0100
TZNAME:CET
DTSTART:20231029T010000
END:STANDARD
BEGIN:DAYLIGHT
TZOFFSETFROM:+0100
TZOFFSETTO:+0200
TZNAME:CEST
DTSTART:20240331T010000
END:DAYLIGHT
BEGIN:STANDARD
TZOFFSETFROM:+0200
TZOFFSETTO:+0100
TZNAME:CET
DTSTART:20241027T010000
END:STANDARD
END:VTIMEZONE
BEGIN:VEVENT
DTSTART;TZID=Europe/Berlin:20230507T110000
DTEND;TZID=Europe/Berlin:20230507T140000
DTSTAMP:20260424T132309
CREATED:20230425T125000Z
LAST-MODIFIED:20230425T150425Z
UID:8325-1683457200-1683468000@dortmund-kreativ.de
SUMMARY:SUPERRAUM: Eröffnung Lara Wilkin
DESCRIPTION:Lara Wilkin befasst sich in ihren Informationsgrafiken und Illustrationen mit Themen aus Randgebieten\, denen normalerweise keine oder nur geringe Aufmerksamkeit geschenkt wird. \nEs geht dabei um Natur und Umwelt\, wie beispielsweise bei den Arbeiten „Schlachtfeld Wildnis“ und „Lazarus Effekt“\, aber auch um das Design von Orthopädie- und Informationstechnik. Ihre Informationsgrafiken und Illustrationen wurden mehrfach international ausgezeichnet. \nNach Abschluss ihres Master Studiums an der Fachhochschule Dortmund am Fachbereich für Design und ihrer Arbeit am Fachbereich für Informationstechnik\, bestreitet Lara Wilkin derzeit ihr Doktoratsstudium in Maschinenbau mit dem Schwerpunkt auf Prothetik an der Technischen Universität Wien. \nDie Ausstellung ist vom 06. bis 23.05.2023 im SUPERRAUM zu sehen. \nAusstellungseröffnung: Sonntag\, 07. Mai 2023\, 11:00 Uhr  \nÖffnungszeiten:\nDienstags 12 bis 16 Uhr\nMittwochs 14 bis 18 Uhr\nDonnerstags 16 bis 19 Uhr\nSamstags 12 bis 16 Uhr \nWeitere Infos
URL:https://dortmund-kreativ.de/event/superraum-eroeffnung-lara-wilkin/
LOCATION:SUPERRAUM\, Brückstraße 64\, Dortmund\, 44135\, Deutschland
CATEGORIES:Ausstellung,Designwirtschaft,DORTMUND KREATIV,Kreativwirtschaft,Nachhaltigkeit,SUPERRAUM
ORGANIZER;CN="DORTMUND KREATIV":MAILTO:hallo@dortmund-kreativ.de
END:VEVENT
END:VCALENDAR