BEGIN:VCALENDAR
VERSION:2.0
PRODID:-//Dortmund Kreativ - ECPv6.15.18//NONSGML v1.0//EN
CALSCALE:GREGORIAN
METHOD:PUBLISH
X-WR-CALNAME:Dortmund Kreativ
X-ORIGINAL-URL:https://dortmund-kreativ.de
X-WR-CALDESC:Veranstaltungen für Dortmund Kreativ
REFRESH-INTERVAL;VALUE=DURATION:PT1H
X-Robots-Tag:noindex
X-PUBLISHED-TTL:PT1H
BEGIN:VTIMEZONE
TZID:Europe/Berlin
BEGIN:DAYLIGHT
TZOFFSETFROM:+0100
TZOFFSETTO:+0200
TZNAME:CEST
DTSTART:20240331T010000
END:DAYLIGHT
BEGIN:STANDARD
TZOFFSETFROM:+0200
TZOFFSETTO:+0100
TZNAME:CET
DTSTART:20241027T010000
END:STANDARD
BEGIN:DAYLIGHT
TZOFFSETFROM:+0100
TZOFFSETTO:+0200
TZNAME:CEST
DTSTART:20250330T010000
END:DAYLIGHT
BEGIN:STANDARD
TZOFFSETFROM:+0200
TZOFFSETTO:+0100
TZNAME:CET
DTSTART:20251026T010000
END:STANDARD
BEGIN:DAYLIGHT
TZOFFSETFROM:+0100
TZOFFSETTO:+0200
TZNAME:CEST
DTSTART:20260329T010000
END:DAYLIGHT
BEGIN:STANDARD
TZOFFSETFROM:+0200
TZOFFSETTO:+0100
TZNAME:CET
DTSTART:20261025T010000
END:STANDARD
END:VTIMEZONE
BEGIN:VEVENT
DTSTART;TZID=Europe/Berlin:20250502T190000
DTEND;TZID=Europe/Berlin:20250502T210000
DTSTAMP:20260422T093526
CREATED:20250429T131743Z
LAST-MODIFIED:20250429T131743Z
UID:14381-1746212400-1746219600@dortmund-kreativ.de
SUMMARY:SUPERRAUM: Vernissage "ALMOST FINISHED"
DESCRIPTION:  \nAron Schmidtke & Jamin Pamin – Förderpreisausstellung Emerging Artists V \n03. bis 31. Mai 2025 \nVernissage: 02. Mai 2025 ab 19 Uhr\nKünstlerführung: 18. Mai 2025 um 12 Uhr\nFinissage: 31. Mai 2025 um 16 Uhr \nÖffnungszeiten:\nDonnerstag von 16 bis 19 Uhr\nSamstag von 12 bis 16 Uhr \nSUPERRAUM\, Brückstraße 64\, 44135 Dortmund \n\nEmerging Artists Dortmund ist eine experimentelle Plattform für junge Talente und bietet Kulturschaffenden aller Sparten Möglichkeiten\, sich in kulturellen Arbeitsfeldern zu orientieren. Das Ausstellungsprojekt verknüpft dabei Theorie und Praxis: Alle zwei Jahre konzipiert ein neu gebildetes Team aus Studierenden und Absolvent*innen der Dortmunder Hochschulen gemeinsam das grafische Erscheinungsbild\, die Szenografie\, die Fotografien sowie das Vermittlungsprogramm zu einer Gruppenausstellung auf der uzwei im Dortmunder U. \n\nEmerging Artists Dortmund ist eine Kooperation zwischen dem Dortmunder Kunstverein und der uzwei. Mit freundlicher Unterstützung und in Zusammenarbeit mit DORTMUND KREATIV.
URL:https://dortmund-kreativ.de/event/superraum-vernissage-almost-finished/
LOCATION:SUPERRAUM\, Brückstraße 64\, Dortmund\, 44135\, Deutschland
CATEGORIES:Ausstellung,Bildende Kunst,DORTMUND KREATIV,Kreativwirtschaft,Kunstmarkt,Netzwerk,Projektraum,Stadtentwicklung,SUPERRAUM,Urbanität
END:VEVENT
END:VCALENDAR