BEGIN:VCALENDAR
VERSION:2.0
PRODID:-//Dortmund Kreativ - ECPv6.15.18//NONSGML v1.0//EN
CALSCALE:GREGORIAN
METHOD:PUBLISH
X-WR-CALNAME:Dortmund Kreativ
X-ORIGINAL-URL:https://dortmund-kreativ.de
X-WR-CALDESC:Veranstaltungen für Dortmund Kreativ
REFRESH-INTERVAL;VALUE=DURATION:PT1H
X-Robots-Tag:noindex
X-PUBLISHED-TTL:PT1H
BEGIN:VTIMEZONE
TZID:Europe/Berlin
BEGIN:DAYLIGHT
TZOFFSETFROM:+0100
TZOFFSETTO:+0200
TZNAME:CEST
DTSTART:20250330T010000
END:DAYLIGHT
BEGIN:STANDARD
TZOFFSETFROM:+0200
TZOFFSETTO:+0100
TZNAME:CET
DTSTART:20251026T010000
END:STANDARD
BEGIN:DAYLIGHT
TZOFFSETFROM:+0100
TZOFFSETTO:+0200
TZNAME:CEST
DTSTART:20260329T010000
END:DAYLIGHT
BEGIN:STANDARD
TZOFFSETFROM:+0200
TZOFFSETTO:+0100
TZNAME:CET
DTSTART:20261025T010000
END:STANDARD
BEGIN:DAYLIGHT
TZOFFSETFROM:+0100
TZOFFSETTO:+0200
TZNAME:CEST
DTSTART:20270328T010000
END:DAYLIGHT
BEGIN:STANDARD
TZOFFSETFROM:+0200
TZOFFSETTO:+0100
TZNAME:CET
DTSTART:20271031T010000
END:STANDARD
END:VTIMEZONE
BEGIN:VEVENT
DTSTART;TZID=Europe/Berlin:20260109T180000
DTEND;TZID=Europe/Berlin:20260109T210000
DTSTAMP:20260421T201256
CREATED:20260106T140028Z
LAST-MODIFIED:20260106T140028Z
UID:15959-1767981600-1767992400@dortmund-kreativ.de
SUMMARY:SUPERRAUM: Vernissage "Radiant Grounds - The Case of the Kvanefjeld Project"
DESCRIPTION:Eine fotografische Ausstellung zum Bergbau in Grönland von Jan Richard Heinicke \nDas Kvanefjeld-Rohstoffvorkommen im Süden Grönlands wird seit den 50er Jahren intensiv erkundet – zunächst von der damaligen Kolonialmacht Dänemark auf der Suche nach Uran\, dann von internationalen Unternehmen auf Suche nach Seltenen Erden. \nDie weltweit angestrebte Energiewende treibt weltweit die Nachfrage nach Seltenen Erden für Magnete in die Höhe. Da China ein Quasi-Monopol auf die Förderung und Verarbeitung hat werden Vorkommen wie die in Grönland für die westliche Welt immer interessanter und wecken Begehrlichkeiten. \nIn der Mitte des geopolitischen Konfliktes liegt die kleine Stadt Narsaq\, deren Bewohner sich seit Jahrzehnten gegen den Abbau wehren\, da sie fürchten\, dass das Projekt ihre Lebensweise und die Umwelt nachhaltig zerstören würde. \nDie Ausstellung wirft einen Blick auf die Geschichte des Kvanefjeld-Vorkommens\, die gegenwärtigen Entwicklungen und setzt sich experimentell mit der einmaligen Geologie der Region auseinander. \n\nJan Richard Heinicke: Radiant Grounds – The Case of the Kvanefjeld Project \n09. bis 17. Januar 2026 \nVernissage am 09.01.2026 ab 18 Uhr \nÖffnungszeiten:\nMontag bis Freitag von 16 bis 19 Uhr\nSamstag von 12 bis 16 Uhr \nEintritt frei! \nSUPERRAUM\, Brückstraße 64\, 44135 Dortmund
URL:https://dortmund-kreativ.de/event/superraum-vernissage-radiant-grounds-the-case-of-the-kvanefjeld-project/
LOCATION:SUPERRAUM\, Brückstraße 64\, Dortmund\, 44135\, Deutschland
CATEGORIES:Ausstellung,DORTMUND KREATIV,Fotografie,Kreativwirtschaft,Netzwerk,SUPERRAUM
END:VEVENT
END:VCALENDAR