BEGIN:VCALENDAR
VERSION:2.0
PRODID:-//Dortmund Kreativ - ECPv6.15.18//NONSGML v1.0//EN
CALSCALE:GREGORIAN
METHOD:PUBLISH
X-WR-CALNAME:Dortmund Kreativ
X-ORIGINAL-URL:https://dortmund-kreativ.de
X-WR-CALDESC:Veranstaltungen für Dortmund Kreativ
REFRESH-INTERVAL;VALUE=DURATION:PT1H
X-Robots-Tag:noindex
X-PUBLISHED-TTL:PT1H
BEGIN:VTIMEZONE
TZID:Europe/Berlin
BEGIN:DAYLIGHT
TZOFFSETFROM:+0100
TZOFFSETTO:+0200
TZNAME:CEST
DTSTART:20210328T010000
END:DAYLIGHT
BEGIN:STANDARD
TZOFFSETFROM:+0200
TZOFFSETTO:+0100
TZNAME:CET
DTSTART:20211031T010000
END:STANDARD
BEGIN:DAYLIGHT
TZOFFSETFROM:+0100
TZOFFSETTO:+0200
TZNAME:CEST
DTSTART:20220327T010000
END:DAYLIGHT
BEGIN:STANDARD
TZOFFSETFROM:+0200
TZOFFSETTO:+0100
TZNAME:CET
DTSTART:20221030T010000
END:STANDARD
BEGIN:DAYLIGHT
TZOFFSETFROM:+0100
TZOFFSETTO:+0200
TZNAME:CEST
DTSTART:20230326T010000
END:DAYLIGHT
BEGIN:STANDARD
TZOFFSETFROM:+0200
TZOFFSETTO:+0100
TZNAME:CET
DTSTART:20231029T010000
END:STANDARD
END:VTIMEZONE
BEGIN:VEVENT
DTSTART;TZID=Europe/Berlin:20221028T093000
DTEND;TZID=Europe/Berlin:20221028T163000
DTSTAMP:20260425T000255
CREATED:20221026T103315Z
LAST-MODIFIED:20221026T103315Z
UID:6894-1666949400-1666974600@dortmund-kreativ.de
SUMMARY:THEMENTAG FOTOJOURNALISMUS
DESCRIPTION:  \nFOTOJOURNALISMUS ZWISCHEN RECHERCHE UND AKTIVISMUS \nDer Fachbereich Design der FH Dortmund lädt zusammen mit der Deutschen Journalistinnen- und Journalisten-Union (dju) zu einem Thementag im Fotojournalismus ein. \nWas darf\, kann und soll Fotojournalismus im Zeitalter einer polarisierten Welt leisten\, in welcher Fakten nicht mehr die Grundlage des gesellschaftlichen Diskurses bilden? Welche ethischen Grundsätze wenden Fotojournalist*innen in ihrer Arbeit an und machen sie ihre teilweise investigativen Recherchen automatisch zu Aktivist*innen? Dass Fotografie per se kein objektives Medium ist\, kann im Zeitalter optimierter Hochglanz-Lebensdarstellungen auf Social Media nicht mehr bestritten werden. \nNur stellt sich die Frage: Welche Funktion hat der Fotojournalismus in der Zukunft und wie lässt sich Glaubwürdigkeit herstellen? \nDiese Fragen behandeln die Referent*innen Samira Damato\, Kristin Bethge\, Kevin McElvany und Mathieu Asselin in ihren Präsentationen. \nAnschließend werden die Beteiligten in einer Diskussionsrunde zudem versuchen\, auf die oben aufgeworfenen Fragen gemeinsam Antworten zu finden. \nDas Symposium wird als Hybrid-Veranstaltung angeboten und ist in deutscher und englischer Sprache. \nVor Ort findet der Thementag in der Aula des Fachbereich Design am Max-Ophüls-Platz 2\, 44139 Dortmund statt. \nDigital teilnehmen: Link zum Webex-Stream \nWeitere Infos
URL:https://dortmund-kreativ.de/event/thementag-fotojournalismus/
LOCATION:FH Dortmund Fachbereich Design\, Max-Ophüls-Platz 2\, Dortmund\, 44137
CATEGORIES:Fotografie
END:VEVENT
END:VCALENDAR